{"text_format":"1","workbook":"xlsx","n_sheets":3,"sheets":["Analysis result","RawData","Parameters"],"not_rendered":{"charts":1,"images":0,"macros":1,"external_links":0,"defined_names":0,"comments":1,"pivot_tables":0},"unopened":[],"bounds":{"document_bytes":16777216,"sheet_cells":100000,"rows_first":2000,"rows_last":500,"rows_between":2000,"halvings":0,"cell_chars":16384,"cell_head_chars":4096},"cells_cut":0,"cells_raw":0,"read":"whole","date_system":"1904"}

{"sheet":"Analysis result","index":0,"n_rows":65538,"n_cols":28,"rows_kept":2250,"cut":true,"hidden":false,"merged":[[54,13,54,14],[157,13,157,14],[260,13,260,14],[54,16,54,17],[157,16,157,17],[260,16,260,17],[54,7,54,8],[157,7,157,8],[260,7,260,8],[54,10,54,11],[157,10,157,11],[260,10,260,11]],"bounds":{"rows_first":1000,"rows_last":250,"rows_between":1000,"halvings":1}}
[]
[null,"Profile data-analysis",null,null,null,null,null,null,null,null,null,null,null,null,null,null,null,null,null,null,null,"last data cell","blanks","channels",null,"labelcolumn","label"]
[null,"by Unisense 2011.09.01 version 4",null,null,null,null,null,null,null,null,null,null,null,null,null,null,null,null,null,null,null,{"$f":"MAX(V4:V65538)","v":313},{"$f":"IF(RawData!A3=\"\",\"blank\",\"\")","v":""},1,{"$f":"IF(AA3=\"no dataset\",\"\",X3)","v":1},{"$f":"1+(4+$X$15+$Y$15)*(X3-1)","v":1},{"$f":"IF(INDIRECT(\"RawData!\"&ADDRESS(2,Z3+1))<>\"\",IF(INDIRECT(\"RawData!\"&ADDRESS(1,Z3))=\"\",\"no sensorlabel\",INDIRECT(\"RawData!\"&ADDRESS(1,Z3))),\"no dataset\")","v":"Sensor A"},{"$f":"INDIRECT(\"RawData!\"&ADDRESS(2,Z3+2+$X$15+$Y$15))","v":"oxygen [%]"}]
[null,null,null,null,null,null,null,null,null,null,null,null,null,null,null,null,null,null,null,null,null,{"$f":"IF(RawData!A4<>\"\",ROW(RawData!A4),0)","v":4},{"$f":"IF(RawData!A4=\"\",\"blank\",\"\")","v":""},2,2,5,{"$f":"IF(INDIRECT(\"RawData!\"&ADDRESS(2,Z4+1))<>\"\",IF(INDIRECT(\"RawData!\"&ADDRESS(1,Z4))=\"\",\"no sensorlabel\",INDIRECT(\"RawData!\"&ADDRESS(1,Z4))),\"no dataset\")","v":"Sensor B"},"Oxygen [%]"]
[null,"About data file",null,null,null,null,null,null,null,null,null,null,null,null,null,null,null,null,null,null,null,{"$f":"IF(RawData!A5<>\"\",ROW(RawData!A5),0)","v":5},{"$f":"IF(RawData!A5=\"\",\"blank\",\"\")","v":""},3,"",9,"no dataset",0]
[null,"Filename","data konstrueret fra Profile analysis v.003.xls",null,null,null,null,null,null,null,null,null,null,null,null,null,null,null,null,null,null,{"$f":"IF(RawData!A6<>\"\",ROW(RawData!A6),0)","v":6},{"$f":"IF(RawData!A6=\"\",\"blank\",\"\")","v":""},4,"",13,"no dataset",0]
[null,"# of profiles",{"$f":"IF(V3=0,-1,COUNTIF(OFFSET(RawData!A1,0,0,V3,1),\"\")+1)","v":21},null,null,null,null,null,null,null,null,null,null,null,null,null,null,null,null,null,null,{"$f":"IF(RawData!A7<>\"\",ROW(RawData!A7),0)","v":7},{"$f":"IF(RawData!A7=\"\",\"blank\",\"\")","v":""},5,"",17,"no dataset",0]
[null,"Data channels:",{"$f":"IF(AA3=\"no dataset\",\"\",X3&\": \"&AA3&\" (\"&AB3&\")\")","v":"1: Sensor A (oxygen [%])"},null,null,null,null,null,null,null,null,null,null,null,null,null,null,null,null,null,null,{"$f":"IF(RawData!A8<>\"\",ROW(RawData!A8),0)","v":8},{"$f":"IF(RawData!A8=\"\",\"blank\",\"\")","v":""},6,"",21,"no dataset",0]
[null,null,"2: Sensor B (Oxygen [%])",null,null,null,null,null,null,null,null,null,null,null,null,null,null,null,null,null,null,{"$f":"IF(RawData!A9<>\"\",ROW(RawData!A9),0)","v":9},{"$f":"IF(RawData!A9=\"\",\"blank\",\"\")","v":""},"channels total",null,{"$f":"6-COUNTIF(AA3:AA8,\"no dataset\")","v":2}]
[null,null,"",null,null,null,null,null,null,null,null,null,null,null,null,null,null,null,null,null,null,{"$f":"IF(RawData!A10<>\"\",ROW(RawData!A10),0)","v":10},{"$f":"IF(RawData!A10=\"\",\"blank\",\"\")","v":""}]
[null,null,"",null,null,null,null,null,null,null,null,null,null,null,null,null,null,null,null,null,null,{"$f":"IF(RawData!A11<>\"\",ROW(RawData!A11),0)","v":11},{"$f":"IF(RawData!A11=\"\",\"blank\",\"\")","v":""},"Header size",2]
[null,null,"",null,null,null,null,null,null,null,null,null,null,null,null,null,null,null,null,null,null,{"$f":"IF(RawData!A12<>\"\",ROW(RawData!A12),0)","v":12},{"$f":"IF(RawData!A12=\"\",\"blank\",\"\")","v":""},"Units",{"$f":"INDIRECT(\"RawData!\"&ADDRESS(D16-1,3+$X$15+$Y$15))","v":"oxygen [%]"}]
[null,null,"",null,null,null,null,null,null,null,null,null,null,null,null,null,null,null,null,null,null,{"$f":"IF(RawData!A13<>\"\",ROW(RawData!A13),0)","v":13},{"$f":"IF(RawData!A13=\"\",\"blank\",\"\")","v":""}]
[null,null,null,null,null,null,null,null,null,null,null,null,null,null,null,null,null,null,null,null,null,{"$f":"IF(RawData!A14<>\"\",ROW(RawData!A14),0)","v":14},{"$f":"IF(RawData!A14=\"\",\"blank\",\"\")","v":""},"X-axis?","y-axis?"]
[null,"Profile Nr","Comment","start","Time","Datapoints",null,null,null,null,null,null,null,null,null,null,null,null,null,null,null,{"$f":"IF(RawData!A15<>\"\",ROW(RawData!A15),0)","v":15},{"$f":"IF(RawData!A15=\"\",\"blank\",\"\")","v":""},{"$f":"IF(ISNUMBER(MATCH(\"X (µm)\",RawData!2:2,0)),1,0)","v":0},{"$f":"IF(ISNUMBER(MATCH(\"Y (µm)\",RawData!2:2,0)),1,0)","v":0}]
[null,{"$f":"IF(ROW()-ROW($B$15)-1<=$C$7,ROW()-ROW($B$15),\"\")","v":1},{"$f":"IF(B16=\"\",\"\",INDIRECT(\"RawData!\"&ADDRESS(D16,(4+$X$15+$Y$15)*$Z$9+1)))","v":0},{"$f":"IF(B16=\"\",\"\",MATCH(\"Time\",RawData!A:A,0)+1)","v":3},{"$f":"IF(B16=\"\",\"\",INDIRECT(\"RawData!\"&ADDRESS(D16,1)))","v":"13:03:53"},{"$f":"IF(B16=$C$7,$V$3-D16+1,IF(B17=\"\",\"\",D17-D16-$Y$11+1))","v":14},null,null,null,null,null,null,null,null,null,null,null,null,null,null,null,{"$f":"IF(RawData!A16<>\"\",ROW(RawData!A16),0)","v":16},{"$f":"IF(RawData!A16=\"\",\"blank\",\"\")","v":""}]
[null,{"$f":"IF(B16<$C$7,B16+1,\"\")","v":2},{"$f":"IF(B17=\"\",\"\",INDIRECT(\"RawData!\"&ADDRESS(D17,(4+$X$15+$Y$15)*$Z$9+1)))","v":0},{"$f":"IF(B17=\"\",\"\",MATCH(\"blank\",OFFSET($W$1,D16,0,65536-D16-1,1),0)+D16+1)","v":18},{"$f":"IF(B17=\"\",\"\",INDIRECT(\"RawData!\"&ADDRESS(D17,1)))","v":"13:07:22"},14,null,null,null,null,null,null,null,null,null,null,null,null,null,null,null,{"$f":"IF(RawData!A17<>\"\",ROW(RawData!A17),0)","v":0},{"$f":"IF(RawData!A17=\"\",\"blank\",\"\")","v":"blank"}]
[null,{"$f":"IF(B17<$C$7,B17+1,\"\")","v":3},0,{"$f":"IF(B18=\"\",\"\",MATCH(\"blank\",OFFSET($W$1,D17,0,65536-D17-1,1),0)+D17+1)","v":33},{"$f":"IF(B18=\"\",\"\",INDIRECT(\"RawData!\"&ADDRESS(D18,1)))","v":"13:09:23"},14,null,null,null,null,null,null,null,null,null,null,null,null,null,null,null,{"$f":"IF(RawData!A18<>\"\",ROW(RawData!A18),0)","v":18},{"$f":"IF(RawData!A18=\"\",\"blank\",\"\")","v":""}]
[null,4,0,48,"13:12:29",14,null,null,null,null,null,null,null,null,null,null,null,null,null,null,null,{"$f":"IF(RawData!A19<>\"\",ROW(RawData!A19),0)","v":19},{"$f":"IF(RawData!A19=\"\",\"blank\",\"\")","v":""}]
[null,5,0,63,"13:14:53",11,null,null,null,null,null,null,null,null,null,null,null,null,null,null,null,{"$f":"IF(RawData!A20<>\"\",ROW(RawData!A20),0)","v":20},{"$f":"IF(RawData!A20=\"\",\"blank\",\"\")","v":""}]
[null,6,0,75,"13:28:24",14,null,null,null,null,null,null,null,null,null,null,null,null,null,null,null,{"$f":"IF(RawData!A21<>\"\",ROW(RawData!A21),0)","v":21},{"$f":"IF(RawData!A21=\"\",\"blank\",\"\")","v":""}]
[null,7,0,90,"13:31:31",14,null,null,null,null,null,null,null,null,null,null,null,null,null,null,null,{"$f":"IF(RawData!A22<>\"\",ROW(RawData!A22),0)","v":22},{"$f":"IF(RawData!A22=\"\",\"blank\",\"\")","v":""}]
[null,8,0,105,"13:33:54",14,null,null,null,null,null,null,null,null,null,null,null,null,null,null,null,{"$f":"IF(RawData!A23<>\"\",ROW(RawData!A23),0)","v":23},{"$f":"IF(RawData!A23=\"\",\"blank\",\"\")","v":""}]
[null,9,0,120,"13:36:07",14,null,null,null,null,null,null,null,null,null,null,null,null,null,null,null,{"$f":"IF(RawData!A24<>\"\",ROW(RawData!A24),0)","v":24},{"$f":"IF(RawData!A24=\"\",\"blank\",\"\")","v":""}]
[null,10,0,135,"13:38:31",14,null,null,null,null,null,null,null,null,null,null,null,null,null,null,null,{"$f":"IF(RawData!A25<>\"\",ROW(RawData!A25),0)","v":25},{"$f":"IF(RawData!A25=\"\",\"blank\",\"\")","v":""}]
[null,11,0,150,"13:40:51",14,null,null,null,null,null,null,null,null,null,null,null,null,null,null,null,{"$f":"IF(RawData!A26<>\"\",ROW(RawData!A26),0)","v":26},{"$f":"IF(RawData!A26=\"\",\"blank\",\"\")","v":""}]
[null,12,0,165,"13:43:08",14,null,null,null,null,null,null,null,null,null,null,null,null,null,null,null,{"$f":"IF(RawData!A27<>\"\",ROW(RawData!A27),0)","v":27},{"$f":"IF(RawData!A27=\"\",\"blank\",\"\")","v":""}]
[null,13,0,180,"13:45:39",14,null,null,null,null,null,null,null,null,null,null,null,null,null,null,null,{"$f":"IF(RawData!A28<>\"\",ROW(RawData!A28),0)","v":28},{"$f":"IF(RawData!A28=\"\",\"blank\",\"\")","v":""}]
[null,14,0,195,"13:48:03",14,null,null,null,null,null,null,null,null,null,null,null,null,null,null,null,{"$f":"IF(RawData!A29<>\"\",ROW(RawData!A29),0)","v":29},{"$f":"IF(RawData!A29=\"\",\"blank\",\"\")","v":""}]
[null,15,0,210,"13:50:06",14,null,null,null,null,null,null,null,null,null,null,null,null,null,null,null,{"$f":"IF(RawData!A30<>\"\",ROW(RawData!A30),0)","v":30},{"$f":"IF(RawData!A30=\"\",\"blank\",\"\")","v":""}]
[null,16,0,225,"13:56:39",14,null,null,null,null,null,null,null,null,null,null,null,null,null,null,null,{"$f":"IF(RawData!A31<>\"\",ROW(RawData!A31),0)","v":31},{"$f":"IF(RawData!A31=\"\",\"blank\",\"\")","v":""}]
[null,17,0,240,"13:59:43",14,null,null,null,null,null,null,null,null,null,null,null,null,null,null,null,{"$f":"IF(RawData!A32<>\"\",ROW(RawData!A32),0)","v":0},{"$f":"IF(RawData!A32=\"\",\"blank\",\"\")","v":"blank"}]
[null,18,0,255,"14:03:03",14,null,null,null,null,null,null,null,null,null,null,null,null,null,null,null,{"$f":"IF(RawData!A33<>\"\",ROW(RawData!A33),0)","v":33},{"$f":"IF(RawData!A33=\"\",\"blank\",\"\")","v":""}]
[null,19,0,270,"14:06:08",14,null,null,null,null,null,null,null,null,null,null,null,null,null,null,null,{"$f":"IF(RawData!A34<>\"\",ROW(RawData!A34),0)","v":34},{"$f":"IF(RawData!A34=\"\",\"blank\",\"\")","v":""}]
[null,20,0,285,"14:08:39",14,null,null,null,null,null,null,null,null,null,null,null,null,null,null,null,{"$f":"IF(RawData!A35<>\"\",ROW(RawData!A35),0)","v":35},{"$f":"IF(RawData!A35=\"\",\"blank\",\"\")","v":""}]
[null,21,0,300,"14:11:05",14,null,{"$f":"IF(ISERROR(MATCH(I38,$Y$3:$Y$8,0)),\"NOT VALID SENSOR#\",\nIF(ISERROR(MATCH(I37,$B$16:$B$57,0)),\"NOT VALID PROFILE #\",\nIF(NOT(ISERROR(MATCH(\"NAN\",I57:I157,0))),\"NO CALIBRATION\",\nIF(NOT(OR(ISNUMBER(SEARCH(\"%\",I56)),ISNUMBER(SEARCH(\"µ\",I56)))),\"NOT VALID UNIT\",\nIF(OR(I46>I47,I46<I364,I47>I365),\"INVALID LIMITS\",\n\"\")))))","v":""},null,null,{"$f":"IF(ISERROR(MATCH(L38,$Y$3:$Y$8,0)),\"NOT VALID SENSOR#\",\nIF(ISERROR(MATCH(L37,$B$16:$B$57,0)),\"NOT VALID PROFILE #\",\nIF(NOT(ISERROR(MATCH(\"NAN\",L57:L157,0))),\"NO CALIBRATION\",\nIF(NOT(OR(ISNUMBER(SEARCH(\"%\",L56)),ISNUMBER(SEARCH(\"µ\",L56)))),\"NOT VALID UNIT\",\nIF(OR(L46>L47,L46<L364,L47>L365),\"INVALID LIMITS\",\n\"\")))))","v":""},null,null,{"$f":"IF(ISERROR(MATCH(O38,$Y$3:$Y$8,0)),\"NOT VALID SENSOR#\",\nIF(ISERROR(MATCH(O37,$B$16:$B$57,0)),\"NOT VALID PROFILE #\",\nIF(NOT(ISERROR(MATCH(\"NAN\",O57:O157,0))),\"NO CALIBRATION\",\nIF(NOT(OR(ISNUMBER(SEARCH(\"%\",O56)),ISNUMBER(SEARCH(\"µ\",O56)))),\"NOT VALID UNIT\",\nIF(OR(O46>O47,O46<O364,O47>O365),\"INVALID LIMITS\",\n\"\")))))","v":""},null,null,{"$f":"IF(ISERROR(MATCH(R38,$Y$3:$Y$8,0)),\"NOT VALID SENSOR#\",\nIF(ISERROR(MATCH(R37,$B$16:$B$57,0)),\"NOT VALID PROFILE #\",\nIF(NOT(ISERROR(MATCH(\"NAN\",R57:R157,0))),\"NO CALIBRATION\",\nIF(NOT(OR(ISNUMBER(SEARCH(\"%\",R56)),ISNUMBER(SEARCH(\"µ\",R56)))),\"NOT VALID UNIT\",\nIF(OR(R46>R47,R46<R364,R47>R365),\"INVALID LIMITS\",\n\"\")))))","v":""},null,null,null,null,{"$f":"IF(RawData!A36<>\"\",ROW(RawData!A36),0)","v":36},{"$f":"IF(RawData!A36=\"\",\"blank\",\"\")","v":""}]
[null,"","","","","",null,"Profile ",15,null,"Profile ",16,null,"Profile ",17,null,"Profile ",18,null,null,null,{"$f":"IF(RawData!A37<>\"\",ROW(RawData!A37),0)","v":37},{"$f":"IF(RawData!A37=\"\",\"blank\",\"\")","v":""}]
[null,"","","","","",null,"Data channel",2,null,"Data channel",2,null,"Data channel",2,null,"Data channel",2,null,null,null,{"$f":"IF(RawData!A38<>\"\",ROW(RawData!A38),0)","v":38},{"$f":"IF(RawData!A38=\"\",\"blank\",\"\")","v":""}]
[null,"","","","","",null,"Sensor label",{"$f":"VLOOKUP(I38,$Y$3:$AA$8,3,0)","v":"Sensor B"},null,"Sensor label",{"$f":"VLOOKUP(L38,$Y$3:$AA$8,3,0)","v":"Sensor B"},null,"Sensor label",{"$f":"VLOOKUP(O38,$Y$3:$AA$8,3,0)","v":"Sensor B"},null,"Sensor label",{"$f":"VLOOKUP(R38,$Y$3:$AA$8,3,0)","v":"Sensor B"},null,null,null,{"$f":"IF(RawData!A39<>\"\",ROW(RawData!A39),0)","v":39},{"$f":"IF(RawData!A39=\"\",\"blank\",\"\")","v":""}]
[null,"","","","","",null,"New comment",null,null,"New comment",null,null,"New comment",null,null,"New comment",null,null,null,null,{"$f":"IF(RawData!A40<>\"\",ROW(RawData!A40),0)","v":40},{"$f":"IF(RawData!A40=\"\",\"blank\",\"\")","v":""}]
[null,"","","","","",null,"Label",{"$f":"IF(LEN(I40)>=1,I40,IF(LEN(INDIRECT(ADDRESS(I37+ROW($B$15),3)))>1,INDIRECT(ADDRESS(I37+ROW($B$15),3)),IF(OR(ISERROR(I39),ISERROR(VLOOKUP(I37,$B$16:$B$57,1,0))),\"-\",I39&\", profile \"&I37)))","v":"Sensor B, profile 15"},null,"Label",{"$f":"IF(LEN(L40)>=1,L40,IF(LEN(INDIRECT(ADDRESS(L37+ROW($B$15),3)))>1,INDIRECT(ADDRESS(L37+ROW($B$15),3)),IF(OR(ISERROR(L39),ISERROR(VLOOKUP(L37,$B$16:$B$57,1,0))),\"-\",L39&\", profile \"&L37)))","v":"Sensor B, profile 16"},null,"Label",{"$f":"IF(LEN(O40)>=1,O40,IF(LEN(INDIRECT(ADDRESS(O37+ROW($B$15),3)))>1,INDIRECT(ADDRESS(O37+ROW($B$15),3)),IF(OR(ISERROR(O39),ISERROR(VLOOKUP(O37,$B$16:$B$57,1,0))),\"-\",O39&\", profile \"&O37)))","v":"Sensor B, profile 17"},null,"Label",{"$f":"IF(LEN(R40)>=1,R40,IF(LEN(INDIRECT(ADDRESS(R37+ROW($B$15),3)))>1,INDIRECT(ADDRESS(R37+ROW($B$15),3)),IF(OR(ISERROR(R39),ISERROR(VLOOKUP(R37,$B$16:$B$57,1,0))),\"-\",R39&\", profile \"&R37)))","v":"Sensor B, profile 18"},null,null,null,{"$f":"IF(RawData!A41<>\"\",ROW(RawData!A41),0)","v":41},{"$f":"IF(RawData!A41=\"\",\"blank\",\"\")","v":""}]
[null,"","","","","",null,"Time",{"$f":"INDIRECT(ADDRESS(I37+ROW($B$15),5))","v":"13:50:06"},null,"Time",{"$f":"INDIRECT(ADDRESS(L37+ROW($B$15),5))","v":"13:56:39"},null,"Time",{"$f":"INDIRECT(ADDRESS(O37+ROW($B$15),5))","v":"13:59:43"},null,"Time",{"$f":"INDIRECT(ADDRESS(R37+ROW($B$15),5))","v":"14:03:03"},null,null,null,{"$f":"IF(RawData!A42<>\"\",ROW(RawData!A42),0)","v":42},{"$f":"IF(RawData!A42=\"\",\"blank\",\"\")","v":""}]
[null,"","","","","",null,"Nr of points",{"$f":"IF(I37>42,NA(),INDIRECT(ADDRESS(I37+ROW($B$15),6)))","v":14},null,"Nr of points",{"$f":"IF(L37>42,NA(),INDIRECT(ADDRESS(L37+ROW($B$15),6)))","v":14},null,"Nr of points",{"$f":"IF(O37>42,NA(),INDIRECT(ADDRESS(O37+ROW($B$15),6)))","v":14},null,"Nr of points",{"$f":"IF(R37>42,NA(),INDIRECT(ADDRESS(R37+ROW($B$15),6)))","v":14},null,null,null,{"$f":"IF(RawData!A43<>\"\",ROW(RawData!A43),0)","v":43},{"$f":"IF(RawData!A43=\"\",\"blank\",\"\")","v":""}]
[null,"","","","","",null,"start",{"$f":"IF(I37>42,NA(),INDIRECT(ADDRESS(I37+ROW($B$15),4)))","v":210},null,"start",{"$f":"IF(L37>42,NA(),INDIRECT(ADDRESS(L37+ROW($B$15),4)))","v":225},null,"start",{"$f":"IF(O37>42,NA(),INDIRECT(ADDRESS(O37+ROW($B$15),4)))","v":240},null,"start",{"$f":"IF(R37>42,NA(),INDIRECT(ADDRESS(R37+ROW($B$15),4)))","v":255},null,null,null,{"$f":"IF(RawData!A44<>\"\",ROW(RawData!A44),0)","v":44},{"$f":"IF(RawData!A44=\"\",\"blank\",\"\")","v":""}]
[null,"","","","","",null,"linear length factor",0.2,null,"linear length factor",0.2,null,"linear length factor",0.2,null,"linear length factor",0.2,null,null,null,{"$f":"IF(RawData!A45<>\"\",ROW(RawData!A45),0)","v":45},{"$f":"IF(RawData!A45=\"\",\"blank\",\"\")","v":""}]
[null,"","","","","",null,"Upper limit",0,null,"Upper limit",0,null,"Upper limit",0,null,"Upper limit",0,null,null,null,{"$f":"IF(RawData!A46<>\"\",ROW(RawData!A46),0)","v":46},{"$f":"IF(RawData!A46=\"\",\"blank\",\"\")","v":""}]
[null,"","","","","",null,"Lower limit",2000,null,"Lower limit",2000,null,"Lower limit",2000,null,"Lower limit",2000,null,null,null,{"$f":"IF(RawData!A47<>\"\",ROW(RawData!A47),0)","v":0},{"$f":"IF(RawData!A47=\"\",\"blank\",\"\")","v":"blank"}]
[null,"","","","","",null,null,null,null,null,null,null,null,null,null,null,null,null,null,null,{"$f":"IF(RawData!A48<>\"\",ROW(RawData!A48),0)","v":48},{"$f":"IF(RawData!A48=\"\",\"blank\",\"\")","v":""}]
[null,"","","","","",null,"Slope [%/µm]",{"$f":"IF(ISNUMBER(SEARCH(\"%\",I56)),SLOPE(I263:I363,H263:H363),IF(ISNUMBER(SEARCH(\"µ\",I56)),SLOPE(I263:I363,H263:H363)*Parameters!$F$3/Parameters!$F$4,\"unknown units\"))","v":-4.9204545454545453E-4},null,"Slope [%/µm]",{"$f":"IF(ISNUMBER(SEARCH(\"%\",L56)),SLOPE(L263:L363,K263:K363),IF(ISNUMBER(SEARCH(\"µ\",L56)),SLOPE(L263:L363,K263:K363)*Parameters!$F$3/Parameters!$F$4,\"unknown units\"))","v":-3.576818181818177E-4},null,"Slope [%/µm]",{"$f":"IF(ISNUMBER(SEARCH(\"%\",O56)),SLOPE(O263:O363,N263:N363),IF(ISNUMBER(SEARCH(\"µ\",O56)),SLOPE(O263:O363,N263:N363)*Parameters!$F$3/Parameters!$F$4,\"unknown units\"))","v":-2.1873636363636357E-3},null,"Slope [%/µm]",{"$f":"IF(ISNUMBER(SEARCH(\"%\",R56)),SLOPE(R263:R363,Q263:Q363),IF(ISNUMBER(SEARCH(\"µ\",R56)),SLOPE(R263:R363,Q263:Q363)*Parameters!$F$3/Parameters!$F$4,\"unknown units\"))","v":-1.1377272727272731E-3},null,null,null,{"$f":"IF(RawData!A49<>\"\",ROW(RawData!A49),0)","v":49},{"$f":"IF(RawData!A49=\"\",\"blank\",\"\")","v":""}]
[null,"","","","","",null,"Slope [µM/µm]",{"$f":"IF(ISNUMBER(SEARCH(\"%\",I56)),SLOPE(I263:I363,H263:H363)*Parameters!$F$4/Parameters!$F$3,IF(ISNUMBER(SEARCH(\"µ\",I56)),SLOPE(I263:I363,H263:H363),\"unknown units\"))","v":-4.6861471861471861E-3},null,"Slope [µM/µm]",{"$f":"IF(ISNUMBER(SEARCH(\"%\",L56)),SLOPE(L263:L363,K263:K363)*Parameters!$F$4/Parameters!$F$3,IF(ISNUMBER(SEARCH(\"µ\",L56)),SLOPE(L263:L363,K263:K363),\"unknown units\"))","v":-3.4064935064935017E-3},null,"Slope [µM/µm]",{"$f":"IF(ISNUMBER(SEARCH(\"%\",O56)),SLOPE(O263:O363,N263:N363)*Parameters!$F$4/Parameters!$F$3,IF(ISNUMBER(SEARCH(\"µ\",O56)),SLOPE(O263:O363,N263:N363),\"unknown units\"))","v":-2.0832034632034625E-2},null,"Slope [µM/µm]",{"$f":"IF(ISNUMBER(SEARCH(\"%\",R56)),SLOPE(R263:R363,Q263:Q363)*Parameters!$F$4/Parameters!$F$3,IF(ISNUMBER(SEARCH(\"µ\",R56)),SLOPE(R263:R363,Q263:Q363),\"unknown units\"))","v":-1.0835497835497841E-2},null,null,null,{"$f":"IF(RawData!A50<>\"\",ROW(RawData!A50),0)","v":50},{"$f":"IF(RawData!A50=\"\",\"blank\",\"\")","v":""}]
[null,"","","","","",null,"Rate [µmol/s/well]",{"$f":"-I50*Parameters!$F$6*Parameters!$F$8*10","v":5.7352655724542702E-9},null,"Rate [µmol/s/well]",{"$f":"-L50*Parameters!$F$6*Parameters!$F$8*10","v":4.1691274632464282E-9},null,"Rate [µmol/s/well]",{"$f":"-O50*Parameters!$F$6*Parameters!$F$8*10","v":2.549583832587938E-8},null,"Rate [µmol/s/well]",{"$f":"-R50*Parameters!$F$6*Parameters!$F$8*10","v":1.3261311526885028E-8},null,null,null,{"$f":"IF(RawData!A51<>\"\",ROW(RawData!A51),0)","v":51},{"$f":"IF(RawData!A51=\"\",\"blank\",\"\")","v":""}]
[null,"","","","","",null,"Rate [nl/hr/well]",{"$f":"I51*Parameters!$F$5*1000*3600","v":0.46249181576271226},null,"Rate [nl/hr/well]",{"$f":"L51*Parameters!$F$5*1000*3600","v":0.33619843863619198},null,"Rate [nl/hr/well]",{"$f":"O51*Parameters!$F$5*1000*3600","v":2.0559844025989129},null,"Rate [nl/hr/well]",{"$f":"R51*Parameters!$F$5*1000*3600","v":1.0693921615280086},null,null,null,{"$f":"IF(RawData!A52<>\"\",ROW(RawData!A52),0)","v":52},{"$f":"IF(RawData!A52=\"\",\"blank\",\"\")","v":""}]
[null,"","","","","",null,"Rate [nmol/hr/cm2]",{"$f":"-I50*Parameters!$F$6*1*10*1000*3600","v":5.6852337662337655},null,"Rate [nmol/hr/cm2]",{"$f":"-L50*Parameters!$F$6*1*10*1000*3600","v":4.132757922077916},null,"Rate [nmol/hr/cm2]",{"$f":"-O50*Parameters!$F$6*1*10*1000*3600","v":25.273424415584408},null,"Rate [nmol/hr/cm2]",{"$f":"-R50*Parameters!$F$6*1*10*1000*3600","v":13.145625974025979},null,null,null,{"$f":"IF(RawData!A53<>\"\",ROW(RawData!A53),0)","v":53},{"$f":"IF(RawData!A53=\"\",\"blank\",\"\")","v":""}]
[null,"","","","","",null,null,null,null,null,null,null,null,null,null,null,null,null,null,null,{"$f":"IF(RawData!A54<>\"\",ROW(RawData!A54),0)","v":54},{"$f":"IF(RawData!A54=\"\",\"blank\",\"\")","v":""}]
[null,"","","","","",null,{"$f":"I41&IF(I41=\"-\",\"\",\" measured\")","v":"Sensor B, profile 15 measured"},null,null,{"$f":"L41&IF(L41=\"-\",\"\",\" measured\")","v":"Sensor B, profile 16 measured"},null,null,{"$f":"O41&IF(O41=\"-\",\"\",\" measured\")","v":"Sensor B, profile 17 measured"},null,null,{"$f":"R41&IF(R41=\"-\",\"\",\" measured\")","v":"Sensor B, profile 18 measured"},null,null,null,null,{"$f":"IF(RawData!A55<>\"\",ROW(RawData!A55),0)","v":55},{"$f":"IF(RawData!A55=\"\",\"blank\",\"\")","v":""}]
[null,"","","","","",null,{"$f":"INDIRECT(\"RawData!\"&ADDRESS(2,2+$X$15+$Y$15+(4+$X$15+$Y$15)*(I38-1)))","v":"Depth [µm]"},{"$f":"INDIRECT(\"RawData!\"&ADDRESS(2,3+$X$15+$Y$15+(4+$X$15+$Y$15)*(I38-1)))","v":"Oxygen [%]"},null,{"$f":"INDIRECT(\"RawData!\"&ADDRESS(2,2+$X$15+$Y$15+(4+$X$15+$Y$15)*(L38-1)))","v":"Depth [µm]"},{"$f":"INDIRECT(\"RawData!\"&ADDRESS(2,3+$X$15+$Y$15+(4+$X$15+$Y$15)*(L38-1)))","v":"Oxygen [%]"},null,{"$f":"INDIRECT(\"RawData!\"&ADDRESS(2,2+$X$15+$Y$15+(4+$X$15+$Y$15)*(O38-1)))","v":"Depth [µm]"},{"$f":"INDIRECT(\"RawData!\"&ADDRESS(2,3+$X$15+$Y$15+(4+$X$15+$Y$15)*(O38-1)))","v":"Oxygen [%]"},null,{"$f":"INDIRECT(\"RawData!\"&ADDRESS(2,2+$X$15+$Y$15+(4+$X$15+$Y$15)*(R38-1)))","v":"Depth [µm]"},{"$f":"INDIRECT(\"RawData!\"&ADDRESS(2,3+$X$15+$Y$15+(4+$X$15+$Y$15)*(R38-1)))","v":"Oxygen [%]"},null,null,null,{"$f":"IF(RawData!A56<>\"\",ROW(RawData!A56),0)","v":56},{"$f":"IF(RawData!A56=\"\",\"blank\",\"\")","v":""}]
[null,"","","","","",null,{"$f":"IF(ROW()>I$43+ROW($H$56),\"\",INDIRECT(\"RawData!\"&ADDRESS(I$44+ROW()-ROW($H$56)-1,2+$X$15+$Y$15+(4+$X$15+$Y$15)*(I$38-1))))","v":-600},{"$f":"IF(ROW()>I$43+ROW($H$56),NA(),INDIRECT(\"RawData!\"&ADDRESS(I$44+ROW()-ROW($H$56)-1,3+$X$15+$Y$15+(4+$X$15+$Y$15)*(I$38-1))))","v":21.097000000000001},null,{"$f":"IF(ROW()>L$43+ROW($H$56),\"\",INDIRECT(\"RawData!\"&ADDRESS(L$44+ROW()-ROW($H$56)-1,2+$X$15+$Y$15+(4+$X$15+$Y$15)*(L$38-1))))","v":-600},{"$f":"IF(ROW()>L$43+ROW($H$56),NA(),INDIRECT(\"RawData!\"&ADDRESS(L$44+ROW()-ROW($H$56)-1,3+$X$15+$Y$15+(4+$X$15+$Y$15)*(L$38-1))))","v":21.01},null,{"$f":"IF(ROW()>O$43+ROW($H$56),\"\",INDIRECT(\"RawData!\"&ADDRESS(O$44+ROW()-ROW($H$56)-1,2+$X$15+$Y$15+(4+$X$15+$Y$15)*(O$38-1))))","v":-600},{"$f":"IF(ROW()>O$43+ROW($H$56),NA(),INDIRECT(\"RawData!\"&ADDRESS(O$44+ROW()-ROW($H$56)-1,3+$X$15+$Y$15+(4+$X$15+$Y$15)*(O$38-1))))","v":21.091999999999999},null,{"$f":"IF(ROW()>R$43+ROW($H$56),\"\",INDIRECT(\"RawData!\"&ADDRESS(R$44+ROW()-ROW($H$56)-1,2+$X$15+$Y$15+(4+$X$15+$Y$15)*(R$38-1))))","v":-600},{"$f":"IF(ROW()>R$43+ROW($H$56),NA(),INDIRECT(\"RawData!\"&ADDRESS(R$44+ROW()-ROW($H$56)-1,3+$X$15+$Y$15+(4+$X$15+$Y$15)*(R$38-1))))","v":21.1},null,null,null,{"$f":"IF(RawData!A57<>\"\",ROW(RawData!A57),0)","v":57},{"$f":"IF(RawData!A57=\"\",\"blank\",\"\")","v":""}]
[null,"","","","",{"$f":"IF(B58=$C$7,$V$3-D58+1,IF(#REF!=\"\",\"\",#REF!-D58-$Y$11+1))","v":{"$error":"#REF!"}},null,-400,21.087,null,-400,21.026,null,-400,21.013000000000002,null,-400,21.076000000000001,null,null,null,{"$f":"IF(RawData!A58<>\"\",ROW(RawData!A58),0)","v":58},{"$f":"IF(RawData!A58=\"\",\"blank\",\"\")","v":""}]
[null,null,null,null,null,null,null,-200,21.085000000000001,null,-200,20.995000000000001,null,-200,20.742000000000001,null,-200,21.006,null,null,null,{"$f":"IF(RawData!A59<>\"\",ROW(RawData!A59),0)","v":59},{"$f":"IF(RawData!A59=\"\",\"blank\",\"\")","v":""}]
[null,null,null,null,null,null,null,0,21.003,null,0,20.922000000000001,null,0,20.364999999999998,null,0,20.855,null,null,null,{"$f":"IF(RawData!A60<>\"\",ROW(RawData!A60),0)","v":60},{"$f":"IF(RawData!A60=\"\",\"blank\",\"\")","v":""}]
[null,null,null,null,null,null,null,200,20.914000000000001,null,200,20.867999999999999,null,200,19.963999999999999,null,200,20.617000000000001,null,null,null,{"$f":"IF(RawData!A61<>\"\",ROW(RawData!A61),0)","v":61},{"$f":"IF(RawData!A61=\"\",\"blank\",\"\")","v":""}]
[null,null,null,null,null,null,null,400,20.751999999999999,null,400,20.771000000000001,null,400,19.565000000000001,null,400,20.411999999999999,null,null,null,{"$f":"IF(RawData!A62<>\"\",ROW(RawData!A62),0)","v":0},{"$f":"IF(RawData!A62=\"\",\"blank\",\"\")","v":"blank"}]
[null,null,null,null,null,null,null,600,20.657,null,600,20.701000000000001,null,600,19.135000000000002,null,600,20.207000000000001,null,null,null,{"$f":"IF(RawData!A63<>\"\",ROW(RawData!A63),0)","v":63},{"$f":"IF(RawData!A63=\"\",\"blank\",\"\")","v":""}]
[null,null,null,null,null,null,null,800,20.61,null,800,20.646999999999998,null,800,18.707999999999998,null,800,19.969000000000001,null,null,null,{"$f":"IF(RawData!A64<>\"\",ROW(RawData!A64),0)","v":64},{"$f":"IF(RawData!A64=\"\",\"blank\",\"\")","v":""}]
[null,null,null,null,null,null,null,1000,20.501000000000001,null,1000,20.568999999999999,null,1000,18.244,null,1000,19.734000000000002,null,null,null,{"$f":"IF(RawData!A65<>\"\",ROW(RawData!A65),0)","v":65},{"$f":"IF(RawData!A65=\"\",\"blank\",\"\")","v":""}]
[null,null,null,null,null,null,null,1200,20.352,null,1200,20.478999999999999,null,1200,17.815000000000001,null,1200,19.48,null,null,null,{"$f":"IF(RawData!A66<>\"\",ROW(RawData!A66),0)","v":66},{"$f":"IF(RawData!A66=\"\",\"blank\",\"\")","v":""}]
[null,null,null,null,null,null,null,1400,20.265000000000001,null,1400,20.425000000000001,null,1400,17.376000000000001,null,1400,19.286000000000001,null,null,null,{"$f":"IF(RawData!A67<>\"\",ROW(RawData!A67),0)","v":67},{"$f":"IF(RawData!A67=\"\",\"blank\",\"\")","v":""}]
[null,null,null,null,null,null,null,1600,20.204999999999998,null,1600,20.347000000000001,null,1600,16.925000000000001,null,1600,19.05,null,null,null,{"$f":"IF(RawData!A68<>\"\",ROW(RawData!A68),0)","v":68},{"$f":"IF(RawData!A68=\"\",\"blank\",\"\")","v":""}]
[null,null,null,null,null,null,null,1800,20.116,null,1800,20.27,null,1800,16.475000000000001,null,1800,18.824999999999999,null,null,null,{"$f":"IF(RawData!A69<>\"\",ROW(RawData!A69),0)","v":69},{"$f":"IF(RawData!A69=\"\",\"blank\",\"\")","v":""}]
[null,null,null,null,null,null,null,2000,20.013000000000002,null,2000,20.225000000000001,null,2000,15.997999999999999,null,2000,18.565999999999999,null,null,null,{"$f":"IF(RawData!A70<>\"\",ROW(RawData!A70),0)","v":70},{"$f":"IF(RawData!A70=\"\",\"blank\",\"\")","v":""}]
[null,null,null,null,null,null,null,"",{"$error":"#N/A"},null,"",{"$error":"#N/A"},null,"",{"$error":"#N/A"},null,"",{"$error":"#N/A"},null,null,null,{"$f":"IF(RawData!A71<>\"\",ROW(RawData!A71),0)","v":71},{"$f":"IF(RawData!A71=\"\",\"blank\",\"\")","v":""}]
[null,null,null,null,null,null,null,"",{"$error":"#N/A"},null,"",{"$error":"#N/A"},null,"",{"$error":"#N/A"},null,"",{"$error":"#N/A"},null,null,null,{"$f":"IF(RawData!A72<>\"\",ROW(RawData!A72),0)","v":72},{"$f":"IF(RawData!A72=\"\",\"blank\",\"\")","v":""}]
[null,null,null,null,null,null,null,"",{"$error":"#N/A"},null,"",{"$error":"#N/A"},null,"",{"$error":"#N/A"},null,"",{"$error":"#N/A"},null,null,null,{"$f":"IF(RawData!A73<>\"\",ROW(RawData!A73),0)","v":73},{"$f":"IF(RawData!A73=\"\",\"blank\",\"\")","v":""}]
[null,null,null,null,null,null,null,"",{"$error":"#N/A"},null,"",{"$error":"#N/A"},null,"",{"$error":"#N/A"},null,"",{"$error":"#N/A"},null,null,null,{"$f":"IF(RawData!A74<>\"\",ROW(RawData!A74),0)","v":0},{"$f":"IF(RawData!A74=\"\",\"blank\",\"\")","v":"blank"}]
[null,null,null,null,null,null,null,"",{"$error":"#N/A"},null,"",{"$error":"#N/A"},null,"",{"$error":"#N/A"},null,"",{"$error":"#N/A"},null,null,null,{"$f":"IF(RawData!A75<>\"\",ROW(RawData!A75),0)","v":75},{"$f":"IF(RawData!A75=\"\",\"blank\",\"\")","v":""}]
[null,null,null,null,null,null,null,"",{"$error":"#N/A"},null,"",{"$error":"#N/A"},null,"",{"$error":"#N/A"},null,"",{"$error":"#N/A"},null,null,null,{"$f":"IF(RawData!A76<>\"\",ROW(RawData!A76),0)","v":76},{"$f":"IF(RawData!A76=\"\",\"blank\",\"\")","v":""}]
[null,null,null,null,null,null,null,"",{"$error":"#N/A"},null,"",{"$error":"#N/A"},null,"",{"$error":"#N/A"},null,"",{"$error":"#N/A"},null,null,null,{"$f":"IF(RawData!A77<>\"\",ROW(RawData!A77),0)","v":77},{"$f":"IF(RawData!A77=\"\",\"blank\",\"\")","v":""}]
[null,null,null,null,null,null,null,"",{"$error":"#N/A"},null,"",{"$error":"#N/A"},null,"",{"$error":"#N/A"},null,"",{"$error":"#N/A"},null,null,null,{"$f":"IF(RawData!A78<>\"\",ROW(RawData!A78),0)","v":78},{"$f":"IF(RawData!A78=\"\",\"blank\",\"\")","v":""}]
[null,null,null,null,null,null,null,"",{"$error":"#N/A"},null,"",{"$error":"#N/A"},null,"",{"$error":"#N/A"},null,"",{"$error":"#N/A"},null,null,null,{"$f":"IF(RawData!A79<>\"\",ROW(RawData!A79),0)","v":79},{"$f":"IF(RawData!A79=\"\",\"blank\",\"\")","v":""}]
[null,null,null,null,null,null,null,"",{"$error":"#N/A"},null,"",{"$error":"#N/A"},null,"",{"$error":"#N/A"},null,"",{"$error":"#N/A"},null,null,null,{"$f":"IF(RawData!A80<>\"\",ROW(RawData!A80),0)","v":80},{"$f":"IF(RawData!A80=\"\",\"blank\",\"\")","v":""}]
[null,null,null,null,null,null,null,"",{"$error":"#N/A"},null,"",{"$error":"#N/A"},null,"",{"$error":"#N/A"},null,"",{"$error":"#N/A"},null,null,null,{"$f":"IF(RawData!A81<>\"\",ROW(RawData!A81),0)","v":81},{"$f":"IF(RawData!A81=\"\",\"blank\",\"\")","v":""}]
[null,null,null,null,null,null,null,"",{"$error":"#N/A"},null,"",{"$error":"#N/A"},null,"",{"$error":"#N/A"},null,"",{"$error":"#N/A"},null,null,null,{"$f":"IF(RawData!A82<>\"\",ROW(RawData!A82),0)","v":82},{"$f":"IF(RawData!A82=\"\",\"blank\",\"\")","v":""}]
[null,null,null,null,null,null,null,"",{"$error":"#N/A"},null,"",{"$error":"#N/A"},null,"",{"$error":"#N/A"},null,"",{"$error":"#N/A"},null,null,null,{"$f":"IF(RawData!A83<>\"\",ROW(RawData!A83),0)","v":83},{"$f":"IF(RawData!A83=\"\",\"blank\",\"\")","v":""}]
[null,null,null,null,null,null,null,"",{"$error":"#N/A"},null,"",{"$error":"#N/A"},null,"",{"$error":"#N/A"},null,"",{"$error":"#N/A"},null,null,null,{"$f":"IF(RawData!A84<>\"\",ROW(RawData!A84),0)","v":84},{"$f":"IF(RawData!A84=\"\",\"blank\",\"\")","v":""}]
[null,null,null,null,null,null,null,"",{"$error":"#N/A"},null,"",{"$error":"#N/A"},null,"",{"$error":"#N/A"},null,"",{"$error":"#N/A"},null,null,null,{"$f":"IF(RawData!A85<>\"\",ROW(RawData!A85),0)","v":85},{"$f":"IF(RawData!A85=\"\",\"blank\",\"\")","v":""}]
[null,null,null,null,null,null,null,"",{"$error":"#N/A"},null,"",{"$error":"#N/A"},null,"",{"$error":"#N/A"},null,"",{"$error":"#N/A"},null,null,null,{"$f":"IF(RawData!A86<>\"\",ROW(RawData!A86),0)","v":86},{"$f":"IF(RawData!A86=\"\",\"blank\",\"\")","v":""}]
[null,null,null,null,null,null,null,"",{"$error":"#N/A"},null,"",{"$error":"#N/A"},null,"",{"$error":"#N/A"},null,"",{"$error":"#N/A"},null,null,null,{"$f":"IF(RawData!A87<>\"\",ROW(RawData!A87),0)","v":87},{"$f":"IF(RawData!A87=\"\",\"blank\",\"\")","v":""}]
[null,null,null,null,null,null,null,"",{"$error":"#N/A"},null,"",{"$error":"#N/A"},null,"",{"$error":"#N/A"},null,"",{"$error":"#N/A"},null,null,null,{"$f":"IF(RawData!A88<>\"\",ROW(RawData!A88),0)","v":88},{"$f":"IF(RawData!A88=\"\",\"blank\",\"\")","v":""}]
[null,null,null,null,null,null,null,{"$f":"IF(ROW()>I$43+ROW($H$56),\"\",INDIRECT(\"RawData!\"&ADDRESS(I$44+ROW()-ROW($H$56)-1,2+$X$15+$Y$15+(4+$X$15+$Y$15)*(I$38-1))))","v":""},{"$f":"IF(ROW()>I$43+ROW($H$56),NA(),INDIRECT(\"RawData!\"&ADDRESS(I$44+ROW()-ROW($H$56)-1,3+$X$15+$Y$15+(4+$X$15+$Y$15)*(I$38-1))))","v":{"$error":"#N/A"}},null,{"$f":"IF(ROW()>L$43+ROW($H$56),\"\",INDIRECT(\"RawData!\"&ADDRESS(L$44+ROW()-ROW($H$56)-1,2+$X$15+$Y$15+(4+$X$15+$Y$15)*(L$38-1))))","v":""},{"$f":"IF(ROW()>L$43+ROW($H$56),NA(),INDIRECT(\"RawData!\"&ADDRESS(L$44+ROW()-ROW($H$56)-1,3+$X$15+$Y$15+(4+$X$15+$Y$15)*(L$38-1))))","v":{"$error":"#N/A"}},null,{"$f":"IF(ROW()>O$43+ROW($H$56),\"\",INDIRECT(\"RawData!\"&ADDRESS(O$44+ROW()-ROW($H$56)-1,2+$X$15+$Y$15+(4+$X$15+$Y$15)*(O$38-1))))","v":""},{"$f":"IF(ROW()>O$43+ROW($H$56),NA(),INDIRECT(\"RawData!\"&ADDRESS(O$44+ROW()-ROW($H$56)-1,3+$X$15+$Y$15+(4+$X$15+$Y$15)*(O$38-1))))","v":{"$error":"#N/A"}},null,{"$f":"IF(ROW()>R$43+ROW($H$56),\"\",INDIRECT(\"RawData!\"&ADDRESS(R$44+ROW()-ROW($H$56)-1,2+$X$15+$Y$15+(4+$X$15+$Y$15)*(R$38-1))))","v":""},{"$f":"IF(ROW()>R$43+ROW($H$56),NA(),INDIRECT(\"RawData!\"&ADDRESS(R$44+ROW()-ROW($H$56)-1,3+$X$15+$Y$15+(4+$X$15+$Y$15)*(R$38-1))))","v":{"$error":"#N/A"}},null,null,null,{"$f":"IF(RawData!A89<>\"\",ROW(RawData!A89),0)","v":0},{"$f":"IF(RawData!A89=\"\",\"blank\",\"\")","v":"blank"}]
[null,null,null,null,null,null,null,"",{"$error":"#N/A"},null,"",{"$error":"#N/A"},null,"",{"$error":"#N/A"},null,"",{"$error":"#N/A"},null,null,null,{"$f":"IF(RawData!A90<>\"\",ROW(RawData!A90),0)","v":90},{"$f":"IF(RawData!A90=\"\",\"blank\",\"\")","v":""}]
[null,null,null,null,null,null,null,"",{"$error":"#N/A"},null,"",{"$error":"#N/A"},null,"",{"$error":"#N/A"},null,"",{"$error":"#N/A"},null,null,null,{"$f":"IF(RawData!A91<>\"\",ROW(RawData!A91),0)","v":91},{"$f":"IF(RawData!A91=\"\",\"blank\",\"\")","v":""}]
[null,null,null,null,null,null,null,"",{"$error":"#N/A"},null,"",{"$error":"#N/A"},null,"",{"$error":"#N/A"},null,"",{"$error":"#N/A"},null,null,null,{"$f":"IF(RawData!A92<>\"\",ROW(RawData!A92),0)","v":92},{"$f":"IF(RawData!A92=\"\",\"blank\",\"\")","v":""}]
[null,null,null,null,null,null,null,"",{"$error":"#N/A"},null,"",{"$error":"#N/A"},null,"",{"$error":"#N/A"},null,"",{"$error":"#N/A"},null,null,null,{"$f":"IF(RawData!A93<>\"\",ROW(RawData!A93),0)","v":93},{"$f":"IF(RawData!A93=\"\",\"blank\",\"\")","v":""}]
[null,null,null,null,null,null,null,"",{"$error":"#N/A"},null,"",{"$error":"#N/A"},null,"",{"$error":"#N/A"},null,"",{"$error":"#N/A"},null,null,null,{"$f":"IF(RawData!A94<>\"\",ROW(RawData!A94),0)","v":94},{"$f":"IF(RawData!A94=\"\",\"blank\",\"\")","v":""}]
[null,null,null,null,null,null,null,"",{"$error":"#N/A"},null,"",{"$error":"#N/A"},null,"",{"$error":"#N/A"},null,"",{"$error":"#N/A"},null,null,null,{"$f":"IF(RawData!A95<>\"\",ROW(RawData!A95),0)","v":95},{"$f":"IF(RawData!A95=\"\",\"blank\",\"\")","v":""}]
[null,null,null,null,null,null,null,"",{"$error":"#N/A"},null,"",{"$error":"#N/A"},null,"",{"$error":"#N/A"},null,"",{"$error":"#N/A"},null,null,null,{"$f":"IF(RawData!A96<>\"\",ROW(RawData!A96),0)","v":96},{"$f":"IF(RawData!A96=\"\",\"blank\",\"\")","v":""}]
[null,null,null,null,null,null,null,"",{"$error":"#N/A"},null,"",{"$error":"#N/A"},null,"",{"$error":"#N/A"},null,"",{"$error":"#N/A"},null,null,null,{"$f":"IF(RawData!A97<>\"\",ROW(RawData!A97),0)","v":97},{"$f":"IF(RawData!A97=\"\",\"blank\",\"\")","v":""}]
[null,null,null,null,null,null,null,"",{"$error":"#N/A"},null,"",{"$error":"#N/A"},null,"",{"$error":"#N/A"},null,"",{"$error":"#N/A"},null,null,null,{"$f":"IF(RawData!A98<>\"\",ROW(RawData!A98),0)","v":98},{"$f":"IF(RawData!A98=\"\",\"blank\",\"\")","v":""}]
[null,null,null,null,null,null,null,"",{"$error":"#N/A"},null,"",{"$error":"#N/A"},null,"",{"$error":"#N/A"},null,"",{"$error":"#N/A"},null,null,null,{"$f":"IF(RawData!A99<>\"\",ROW(RawData!A99),0)","v":99},{"$f":"IF(RawData!A99=\"\",\"blank\",\"\")","v":""}]
[null,null,null,null,null,null,null,"",{"$error":"#N/A"},null,"",{"$error":"#N/A"},null,"",{"$error":"#N/A"},null,"",{"$error":"#N/A"},null,null,null,{"$f":"IF(RawData!A100<>\"\",ROW(RawData!A100),0)","v":100},{"$f":"IF(RawData!A100=\"\",\"blank\",\"\")","v":""}]
[null,null,null,null,null,null,null,"",{"$error":"#N/A"},null,"",{"$error":"#N/A"},null,"",{"$error":"#N/A"},null,"",{"$error":"#N/A"},null,null,null,{"$f":"IF(RawData!A101<>\"\",ROW(RawData!A101),0)","v":101},{"$f":"IF(RawData!A101=\"\",\"blank\",\"\")","v":""}]
[null,null,null,null,null,null,null,"",{"$error":"#N/A"},null,"",{"$error":"#N/A"},null,"",{"$error":"#N/A"},null,"",{"$error":"#N/A"},null,null,null,{"$f":"IF(RawData!A102<>\"\",ROW(RawData!A102),0)","v":102},{"$f":"IF(RawData!A102=\"\",\"blank\",\"\")","v":""}]
[null,null,null,null,null,null,null,"",{"$error":"#N/A"},null,"",{"$error":"#N/A"},null,"",{"$error":"#N/A"},null,"",{"$error":"#N/A"},null,null,null,{"$f":"IF(RawData!A103<>\"\",ROW(RawData!A103),0)","v":103},{"$f":"IF(RawData!A103=\"\",\"blank\",\"\")","v":""}]
[null,null,null,null,null,null,null,"",{"$error":"#N/A"},null,"",{"$error":"#N/A"},null,"",{"$error":"#N/A"},null,"",{"$error":"#N/A"},null,null,null,{"$f":"IF(RawData!A104<>\"\",ROW(RawData!A104),0)","v":0},{"$f":"IF(RawData!A104=\"\",\"blank\",\"\")","v":"blank"}]
[null,null,null,null,null,null,null,"",{"$error":"#N/A"},null,"",{"$error":"#N/A"},null,"",{"$error":"#N/A"},null,"",{"$error":"#N/A"},null,null,null,{"$f":"IF(RawData!A105<>\"\",ROW(RawData!A105),0)","v":105},{"$f":"IF(RawData!A105=\"\",\"blank\",\"\")","v":""}]
[null,null,null,null,null,null,null,"",{"$error":"#N/A"},null,"",{"$error":"#N/A"},null,"",{"$error":"#N/A"},null,"",{"$error":"#N/A"},null,null,null,{"$f":"IF(RawData!A106<>\"\",ROW(RawData!A106),0)","v":106},{"$f":"IF(RawData!A106=\"\",\"blank\",\"\")","v":""}]
[null,null,null,null,null,null,null,"",{"$error":"#N/A"},null,"",{"$error":"#N/A"},null,"",{"$error":"#N/A"},null,"",{"$error":"#N/A"},null,null,null,{"$f":"IF(RawData!A107<>\"\",ROW(RawData!A107),0)","v":107},{"$f":"IF(RawData!A107=\"\",\"blank\",\"\")","v":""}]
[null,null,null,null,null,null,null,"",{"$error":"#N/A"},null,"",{"$error":"#N/A"},null,"",{"$error":"#N/A"},null,"",{"$error":"#N/A"},null,null,null,{"$f":"IF(RawData!A108<>\"\",ROW(RawData!A108),0)","v":108},{"$f":"IF(RawData!A108=\"\",\"blank\",\"\")","v":""}]
[null,null,null,null,null,null,null,"",{"$error":"#N/A"},null,"",{"$error":"#N/A"},null,"",{"$error":"#N/A"},null,"",{"$error":"#N/A"},null,null,null,{"$f":"IF(RawData!A109<>\"\",ROW(RawData!A109),0)","v":109},{"$f":"IF(RawData!A109=\"\",\"blank\",\"\")","v":""}]
[null,null,null,null,null,null,null,"",{"$error":"#N/A"},null,"",{"$error":"#N/A"},null,"",{"$error":"#N/A"},null,"",{"$error":"#N/A"},null,null,null,{"$f":"IF(RawData!A110<>\"\",ROW(RawData!A110),0)","v":110},{"$f":"IF(RawData!A110=\"\",\"blank\",\"\")","v":""}]
[null,null,null,null,null,null,null,"",{"$error":"#N/A"},null,"",{"$error":"#N/A"},null,"",{"$error":"#N/A"},null,"",{"$error":"#N/A"},null,null,null,{"$f":"IF(RawData!A111<>\"\",ROW(RawData!A111),0)","v":111},{"$f":"IF(RawData!A111=\"\",\"blank\",\"\")","v":""}]
[null,null,null,null,null,null,null,"",{"$error":"#N/A"},null,"",{"$error":"#N/A"},null,"",{"$error":"#N/A"},null,"",{"$error":"#N/A"},null,null,null,{"$f":"IF(RawData!A112<>\"\",ROW(RawData!A112),0)","v":112},{"$f":"IF(RawData!A112=\"\",\"blank\",\"\")","v":""}]
[null,null,null,null,null,null,null,"",{"$error":"#N/A"},null,"",{"$error":"#N/A"},null,"",{"$error":"#N/A"},null,"",{"$error":"#N/A"},null,null,null,{"$f":"IF(RawData!A113<>\"\",ROW(RawData!A113),0)","v":113},{"$f":"IF(RawData!A113=\"\",\"blank\",\"\")","v":""}]
[null,null,null,null,null,null,null,"",{"$error":"#N/A"},null,"",{"$error":"#N/A"},null,"",{"$error":"#N/A"},null,"",{"$error":"#N/A"},null,null,null,{"$f":"IF(RawData!A114<>\"\",ROW(RawData!A114),0)","v":114},{"$f":"IF(RawData!A114=\"\",\"blank\",\"\")","v":""}]
[null,null,null,null,null,null,null,"",{"$error":"#N/A"},null,"",{"$error":"#N/A"},null,"",{"$error":"#N/A"},null,"",{"$error":"#N/A"},null,null,null,{"$f":"IF(RawData!A115<>\"\",ROW(RawData!A115),0)","v":115},{"$f":"IF(RawData!A115=\"\",\"blank\",\"\")","v":""}]
[null,null,null,null,null,null,null,"",{"$error":"#N/A"},null,"",{"$error":"#N/A"},null,"",{"$error":"#N/A"},null,"",{"$error":"#N/A"},null,null,null,{"$f":"IF(RawData!A116<>\"\",ROW(RawData!A116),0)","v":116},{"$f":"IF(RawData!A116=\"\",\"blank\",\"\")","v":""}]
[null,null,null,null,null,null,null,"",{"$error":"#N/A"},null,"",{"$error":"#N/A"},null,"",{"$error":"#N/A"},null,"",{"$error":"#N/A"},null,null,null,{"$f":"IF(RawData!A117<>\"\",ROW(RawData!A117),0)","v":117},{"$f":"IF(RawData!A117=\"\",\"blank\",\"\")","v":""}]
[null,null,null,null,null,null,null,"",{"$error":"#N/A"},null,"",{"$error":"#N/A"},null,"",{"$error":"#N/A"},null,"",{"$error":"#N/A"},null,null,null,{"$f":"IF(RawData!A118<>\"\",ROW(RawData!A118),0)","v":118},{"$f":"IF(RawData!A118=\"\",\"blank\",\"\")","v":""}]
[null,null,null,null,null,null,null,"",{"$error":"#N/A"},null,"",{"$error":"#N/A"},null,"",{"$error":"#N/A"},null,"",{"$error":"#N/A"},null,null,null,{"$f":"IF(RawData!A119<>\"\",ROW(RawData!A119),0)","v":0},{"$f":"IF(RawData!A119=\"\",\"blank\",\"\")","v":"blank"}]
[null,null,null,null,null,null,null,"",{"$error":"#N/A"},null,"",{"$error":"#N/A"},null,"",{"$error":"#N/A"},null,"",{"$error":"#N/A"},null,null,null,{"$f":"IF(RawData!A120<>\"\",ROW(RawData!A120),0)","v":120},{"$f":"IF(RawData!A120=\"\",\"blank\",\"\")","v":""}]
[null,null,null,null,null,null,null,{"$f":"IF(ROW()>I$43+ROW($H$56),\"\",INDIRECT(\"RawData!\"&ADDRESS(I$44+ROW()-ROW($H$56)-1,2+$X$15+$Y$15+(4+$X$15+$Y$15)*(I$38-1))))","v":""},{"$f":"IF(ROW()>I$43+ROW($H$56),NA(),INDIRECT(\"RawData!\"&ADDRESS(I$44+ROW()-ROW($H$56)-1,3+$X$15+$Y$15+(4+$X$15+$Y$15)*(I$38-1))))","v":{"$error":"#N/A"}},null,{"$f":"IF(ROW()>L$43+ROW($H$56),\"\",INDIRECT(\"RawData!\"&ADDRESS(L$44+ROW()-ROW($H$56)-1,2+$X$15+$Y$15+(4+$X$15+$Y$15)*(L$38-1))))","v":""},{"$f":"IF(ROW()>L$43+ROW($H$56),NA(),INDIRECT(\"RawData!\"&ADDRESS(L$44+ROW()-ROW($H$56)-1,3+$X$15+$Y$15+(4+$X$15+$Y$15)*(L$38-1))))","v":{"$error":"#N/A"}},null,{"$f":"IF(ROW()>O$43+ROW($H$56),\"\",INDIRECT(\"RawData!\"&ADDRESS(O$44+ROW()-ROW($H$56)-1,2+$X$15+$Y$15+(4+$X$15+$Y$15)*(O$38-1))))","v":""},{"$f":"IF(ROW()>O$43+ROW($H$56),NA(),INDIRECT(\"RawData!\"&ADDRESS(O$44+ROW()-ROW($H$56)-1,3+$X$15+$Y$15+(4+$X$15+$Y$15)*(O$38-1))))","v":{"$error":"#N/A"}},null,{"$f":"IF(ROW()>R$43+ROW($H$56),\"\",INDIRECT(\"RawData!\"&ADDRESS(R$44+ROW()-ROW($H$56)-1,2+$X$15+$Y$15+(4+$X$15+$Y$15)*(R$38-1))))","v":""},{"$f":"IF(ROW()>R$43+ROW($H$56),NA(),INDIRECT(\"RawData!\"&ADDRESS(R$44+ROW()-ROW($H$56)-1,3+$X$15+$Y$15+(4+$X$15+$Y$15)*(R$38-1))))","v":{"$error":"#N/A"}},null,null,null,{"$f":"IF(RawData!A121<>\"\",ROW(RawData!A121),0)","v":121},{"$f":"IF(RawData!A121=\"\",\"blank\",\"\")","v":""}]
[null,null,null,null,null,null,null,"",{"$error":"#N/A"},null,"",{"$error":"#N/A"},null,"",{"$error":"#N/A"},null,"",{"$error":"#N/A"},null,null,null,{"$f":"IF(RawData!A122<>\"\",ROW(RawData!A122),0)","v":122},{"$f":"IF(RawData!A122=\"\",\"blank\",\"\")","v":""}]
[null,null,null,null,null,null,null,"",{"$error":"#N/A"},null,"",{"$error":"#N/A"},null,"",{"$error":"#N/A"},null,"",{"$error":"#N/A"},null,null,null,{"$f":"IF(RawData!A123<>\"\",ROW(RawData!A123),0)","v":123},{"$f":"IF(RawData!A123=\"\",\"blank\",\"\")","v":""}]
[null,null,null,null,null,null,null,"",{"$error":"#N/A"},null,"",{"$error":"#N/A"},null,"",{"$error":"#N/A"},null,"",{"$error":"#N/A"},null,null,null,{"$f":"IF(RawData!A124<>\"\",ROW(RawData!A124),0)","v":124},{"$f":"IF(RawData!A124=\"\",\"blank\",\"\")","v":""}]
[null,null,null,null,null,null,null,"",{"$error":"#N/A"},null,"",{"$error":"#N/A"},null,"",{"$error":"#N/A"},null,"",{"$error":"#N/A"},null,null,null,{"$f":"IF(RawData!A125<>\"\",ROW(RawData!A125),0)","v":125},{"$f":"IF(RawData!A125=\"\",\"blank\",\"\")","v":""}]
[null,null,null,null,null,null,null,"",{"$error":"#N/A"},null,"",{"$error":"#N/A"},null,"",{"$error":"#N/A"},null,"",{"$error":"#N/A"},null,null,null,{"$f":"IF(RawData!A126<>\"\",ROW(RawData!A126),0)","v":126},{"$f":"IF(RawData!A126=\"\",\"blank\",\"\")","v":""}]
[null,null,null,null,null,null,null,"",{"$error":"#N/A"},null,"",{"$error":"#N/A"},null,"",{"$error":"#N/A"},null,"",{"$error":"#N/A"},null,null,null,{"$f":"IF(RawData!A127<>\"\",ROW(RawData!A127),0)","v":127},{"$f":"IF(RawData!A127=\"\",\"blank\",\"\")","v":""}]
[null,null,null,null,null,null,null,"",{"$error":"#N/A"},null,"",{"$error":"#N/A"},null,"",{"$error":"#N/A"},null,"",{"$error":"#N/A"},null,null,null,{"$f":"IF(RawData!A128<>\"\",ROW(RawData!A128),0)","v":128},{"$f":"IF(RawData!A128=\"\",\"blank\",\"\")","v":""}]
[null,null,null,null,null,null,null,"",{"$error":"#N/A"},null,"",{"$error":"#N/A"},null,"",{"$error":"#N/A"},null,"",{"$error":"#N/A"},null,null,null,{"$f":"IF(RawData!A129<>\"\",ROW(RawData!A129),0)","v":129},{"$f":"IF(RawData!A129=\"\",\"blank\",\"\")","v":""}]
[null,null,null,null,null,null,null,"",{"$error":"#N/A"},null,"",{"$error":"#N/A"},null,"",{"$error":"#N/A"},null,"",{"$error":"#N/A"},null,null,null,{"$f":"IF(RawData!A130<>\"\",ROW(RawData!A130),0)","v":130},{"$f":"IF(RawData!A130=\"\",\"blank\",\"\")","v":""}]
[null,null,null,null,null,null,null,"",{"$error":"#N/A"},null,"",{"$error":"#N/A"},null,"",{"$error":"#N/A"},null,"",{"$error":"#N/A"},null,null,null,{"$f":"IF(RawData!A131<>\"\",ROW(RawData!A131),0)","v":131},{"$f":"IF(RawData!A131=\"\",\"blank\",\"\")","v":""}]
[null,null,null,null,null,null,null,"",{"$error":"#N/A"},null,"",{"$error":"#N/A"},null,"",{"$error":"#N/A"},null,"",{"$error":"#N/A"},null,null,null,{"$f":"IF(RawData!A132<>\"\",ROW(RawData!A132),0)","v":132},{"$f":"IF(RawData!A132=\"\",\"blank\",\"\")","v":""}]
[null,null,null,null,null,null,null,"",{"$error":"#N/A"},null,"",{"$error":"#N/A"},null,"",{"$error":"#N/A"},null,"",{"$error":"#N/A"},null,null,null,{"$f":"IF(RawData!A133<>\"\",ROW(RawData!A133),0)","v":133},{"$f":"IF(RawData!A133=\"\",\"blank\",\"\")","v":""}]
[null,null,null,null,null,null,null,"",{"$error":"#N/A"},null,"",{"$error":"#N/A"},null,"",{"$error":"#N/A"},null,"",{"$error":"#N/A"},null,null,null,{"$f":"IF(RawData!A134<>\"\",ROW(RawData!A134),0)","v":0},{"$f":"IF(RawData!A134=\"\",\"blank\",\"\")","v":"blank"}]
[null,null,null,null,null,null,null,"",{"$error":"#N/A"},null,"",{"$error":"#N/A"},null,"",{"$error":"#N/A"},null,"",{"$error":"#N/A"},null,null,null,{"$f":"IF(RawData!A135<>\"\",ROW(RawData!A135),0)","v":135},{"$f":"IF(RawData!A135=\"\",\"blank\",\"\")","v":""}]
[null,null,null,null,null,null,null,"",{"$error":"#N/A"},null,"",{"$error":"#N/A"},null,"",{"$error":"#N/A"},null,"",{"$error":"#N/A"},null,null,null,{"$f":"IF(RawData!A136<>\"\",ROW(RawData!A136),0)","v":136},{"$f":"IF(RawData!A136=\"\",\"blank\",\"\")","v":""}]
[null,null,null,null,null,null,null,"",{"$error":"#N/A"},null,"",{"$error":"#N/A"},null,"",{"$error":"#N/A"},null,"",{"$error":"#N/A"},null,null,null,{"$f":"IF(RawData!A137<>\"\",ROW(RawData!A137),0)","v":137},{"$f":"IF(RawData!A137=\"\",\"blank\",\"\")","v":""}]
[null,null,null,null,null,null,null,"",{"$error":"#N/A"},null,"",{"$error":"#N/A"},null,"",{"$error":"#N/A"},null,"",{"$error":"#N/A"},null,null,null,{"$f":"IF(RawData!A138<>\"\",ROW(RawData!A138),0)","v":138},{"$f":"IF(RawData!A138=\"\",\"blank\",\"\")","v":""}]
[null,null,null,null,null,null,null,"",{"$error":"#N/A"},null,"",{"$error":"#N/A"},null,"",{"$error":"#N/A"},null,"",{"$error":"#N/A"},null,null,null,{"$f":"IF(RawData!A139<>\"\",ROW(RawData!A139),0)","v":139},{"$f":"IF(RawData!A139=\"\",\"blank\",\"\")","v":""}]
[null,null,null,null,null,null,null,"",{"$error":"#N/A"},null,"",{"$error":"#N/A"},null,"",{"$error":"#N/A"},null,"",{"$error":"#N/A"},null,null,null,{"$f":"IF(RawData!A140<>\"\",ROW(RawData!A140),0)","v":140},{"$f":"IF(RawData!A140=\"\",\"blank\",\"\")","v":""}]
[null,null,null,null,null,null,null,"",{"$error":"#N/A"},null,"",{"$error":"#N/A"},null,"",{"$error":"#N/A"},null,"",{"$error":"#N/A"},null,null,null,{"$f":"IF(RawData!A141<>\"\",ROW(RawData!A141),0)","v":141},{"$f":"IF(RawData!A141=\"\",\"blank\",\"\")","v":""}]
[null,null,null,null,null,null,null,"",{"$error":"#N/A"},null,"",{"$error":"#N/A"},null,"",{"$error":"#N/A"},null,"",{"$error":"#N/A"},null,null,null,{"$f":"IF(RawData!A142<>\"\",ROW(RawData!A142),0)","v":142},{"$f":"IF(RawData!A142=\"\",\"blank\",\"\")","v":""}]
[null,null,null,null,null,null,null,"",{"$error":"#N/A"},null,"",{"$error":"#N/A"},null,"",{"$error":"#N/A"},null,"",{"$error":"#N/A"},null,null,null,{"$f":"IF(RawData!A143<>\"\",ROW(RawData!A143),0)","v":143},{"$f":"IF(RawData!A143=\"\",\"blank\",\"\")","v":""}]
[null,null,null,null,null,null,null,"",{"$error":"#N/A"},null,"",{"$error":"#N/A"},null,"",{"$error":"#N/A"},null,"",{"$error":"#N/A"},null,null,null,{"$f":"IF(RawData!A144<>\"\",ROW(RawData!A144),0)","v":144},{"$f":"IF(RawData!A144=\"\",\"blank\",\"\")","v":""}]
[null,null,null,null,null,null,null,"",{"$error":"#N/A"},null,"",{"$error":"#N/A"},null,"",{"$error":"#N/A"},null,"",{"$error":"#N/A"},null,null,null,{"$f":"IF(RawData!A145<>\"\",ROW(RawData!A145),0)","v":145},{"$f":"IF(RawData!A145=\"\",\"blank\",\"\")","v":""}]
[null,null,null,null,null,null,null,"",{"$error":"#N/A"},null,"",{"$error":"#N/A"},null,"",{"$error":"#N/A"},null,"",{"$error":"#N/A"},null,null,null,{"$f":"IF(RawData!A146<>\"\",ROW(RawData!A146),0)","v":146},{"$f":"IF(RawData!A146=\"\",\"blank\",\"\")","v":""}]
[null,null,null,null,null,null,null,"",{"$error":"#N/A"},null,"",{"$error":"#N/A"},null,"",{"$error":"#N/A"},null,"",{"$error":"#N/A"},null,null,null,{"$f":"IF(RawData!A147<>\"\",ROW(RawData!A147),0)","v":147},{"$f":"IF(RawData!A147=\"\",\"blank\",\"\")","v":""}]
[null,null,null,null,null,null,null,"",{"$error":"#N/A"},null,"",{"$error":"#N/A"},null,"",{"$error":"#N/A"},null,"",{"$error":"#N/A"},null,null,null,{"$f":"IF(RawData!A148<>\"\",ROW(RawData!A148),0)","v":148},{"$f":"IF(RawData!A148=\"\",\"blank\",\"\")","v":""}]
[null,null,null,null,null,null,null,"",{"$error":"#N/A"},null,"",{"$error":"#N/A"},null,"",{"$error":"#N/A"},null,"",{"$error":"#N/A"},null,null,null,{"$f":"IF(RawData!A149<>\"\",ROW(RawData!A149),0)","v":0},{"$f":"IF(RawData!A149=\"\",\"blank\",\"\")","v":"blank"}]
[null,null,null,null,null,null,null,"",{"$error":"#N/A"},null,"",{"$error":"#N/A"},null,"",{"$error":"#N/A"},null,"",{"$error":"#N/A"},null,null,null,{"$f":"IF(RawData!A150<>\"\",ROW(RawData!A150),0)","v":150},{"$f":"IF(RawData!A150=\"\",\"blank\",\"\")","v":""}]
[null,null,null,null,null,null,null,"",{"$error":"#N/A"},null,"",{"$error":"#N/A"},null,"",{"$error":"#N/A"},null,"",{"$error":"#N/A"},null,null,null,{"$f":"IF(RawData!A151<>\"\",ROW(RawData!A151),0)","v":151},{"$f":"IF(RawData!A151=\"\",\"blank\",\"\")","v":""}]
[null,null,null,null,null,null,null,"",{"$error":"#N/A"},null,"",{"$error":"#N/A"},null,"",{"$error":"#N/A"},null,"",{"$error":"#N/A"},null,null,null,{"$f":"IF(RawData!A152<>\"\",ROW(RawData!A152),0)","v":152},{"$f":"IF(RawData!A152=\"\",\"blank\",\"\")","v":""}]
[null,null,null,null,null,null,null,{"$f":"IF(ROW()>I$43+ROW($H$56),\"\",INDIRECT(\"RawData!\"&ADDRESS(I$44+ROW()-ROW($H$56)-1,2+$X$15+$Y$15+(4+$X$15+$Y$15)*(I$38-1))))","v":""},{"$error":"#N/A"},null,{"$f":"IF(ROW()>L$43+ROW($H$56),\"\",INDIRECT(\"RawData!\"&ADDRESS(L$44+ROW()-ROW($H$56)-1,2+$X$15+$Y$15+(4+$X$15+$Y$15)*(L$38-1))))","v":""},{"$error":"#N/A"},null,{"$f":"IF(ROW()>O$43+ROW($H$56),\"\",INDIRECT(\"RawData!\"&ADDRESS(O$44+ROW()-ROW($H$56)-1,2+$X$15+$Y$15+(4+$X$15+$Y$15)*(O$38-1))))","v":""},{"$error":"#N/A"},null,{"$f":"IF(ROW()>R$43+ROW($H$56),\"\",INDIRECT(\"RawData!\"&ADDRESS(R$44+ROW()-ROW($H$56)-1,2+$X$15+$Y$15+(4+$X$15+$Y$15)*(R$38-1))))","v":""},{"$error":"#N/A"},null,null,null,{"$f":"IF(RawData!A153<>\"\",ROW(RawData!A153),0)","v":153},{"$f":"IF(RawData!A153=\"\",\"blank\",\"\")","v":""}]
[null,null,null,null,null,null,null,"",{"$error":"#N/A"},null,"",{"$error":"#N/A"},null,"",{"$error":"#N/A"},null,"",{"$error":"#N/A"},null,null,null,{"$f":"IF(RawData!A154<>\"\",ROW(RawData!A154),0)","v":154},{"$f":"IF(RawData!A154=\"\",\"blank\",\"\")","v":""}]
[null,null,null,null,null,null,null,"",{"$error":"#N/A"},null,"",{"$error":"#N/A"},null,"",{"$error":"#N/A"},null,"",{"$error":"#N/A"},null,null,null,{"$f":"IF(RawData!A155<>\"\",ROW(RawData!A155),0)","v":155},{"$f":"IF(RawData!A155=\"\",\"blank\",\"\")","v":""}]
[null,null,null,null,null,null,null,"",{"$error":"#N/A"},null,"",{"$error":"#N/A"},null,"",{"$error":"#N/A"},null,"",{"$error":"#N/A"},null,null,null,{"$f":"IF(RawData!A156<>\"\",ROW(RawData!A156),0)","v":156},{"$f":"IF(RawData!A156=\"\",\"blank\",\"\")","v":""}]
[null,null,null,null,null,null,null,"",{"$error":"#N/A"},null,"",{"$error":"#N/A"},null,"",{"$error":"#N/A"},null,"",{"$error":"#N/A"},null,null,null,{"$f":"IF(RawData!A157<>\"\",ROW(RawData!A157),0)","v":157},{"$f":"IF(RawData!A157=\"\",\"blank\",\"\")","v":""}]
[null,null,null,null,null,null,null,{"$f":"I41&IF(I41=\"-\",\"\",\" used\")","v":"Sensor B, profile 15 used"},null,null,{"$f":"L41&IF(L41=\"-\",\"\",\" used\")","v":"Sensor B, profile 16 used"},null,null,{"$f":"O41&IF(O41=\"-\",\"\",\" used\")","v":"Sensor B, profile 17 used"},null,null,{"$f":"R41&IF(R41=\"-\",\"\",\" used\")","v":"Sensor B, profile 18 used"},null,null,null,null,{"$f":"IF(RawData!A158<>\"\",ROW(RawData!A158),0)","v":158},{"$f":"IF(RawData!A158=\"\",\"blank\",\"\")","v":""}]
[null,null,null,null,null,null,null,{"$f":"H56","v":"Depth [µm]"},{"$f":"I56","v":"Oxygen [%]"},null,{"$f":"K56","v":"Depth [µm]"},{"$f":"L56","v":"Oxygen [%]"},null,{"$f":"N56","v":"Depth [µm]"},{"$f":"O56","v":"Oxygen [%]"},null,{"$f":"Q56","v":"Depth [µm]"},{"$f":"R56","v":"Oxygen [%]"},null,null,null,{"$f":"IF(RawData!A159<>\"\",ROW(RawData!A159),0)","v":159},{"$f":"IF(RawData!A159=\"\",\"blank\",\"\")","v":""}]
[null,null,null,null,null,null,null,{"$f":"IF(AND(H57>=I$46,H57<=I$47),H57,NA())","v":{"$error":"#N/A"}},{"$f":"IF(AND(H57>=I$46,H57<=I$47),I57,NA())","v":{"$error":"#N/A"}},null,{"$f":"IF(AND(K57>=L$46,K57<=L$47),K57,NA())","v":{"$error":"#N/A"}},{"$f":"IF(AND(K57>=L$46,K57<=L$47),L57,NA())","v":{"$error":"#N/A"}},null,{"$f":"IF(AND(N57>=O$46,N57<=O$47),N57,NA())","v":{"$error":"#N/A"}},{"$f":"IF(AND(N57>=O$46,N57<=O$47),O57,NA())","v":{"$error":"#N/A"}},null,{"$f":"IF(AND(Q57>=R$46,Q57<=R$47),Q57,NA())","v":{"$error":"#N/A"}},{"$f":"IF(AND(Q57>=R$46,Q57<=R$47),R57,NA())","v":{"$error":"#N/A"}},null,null,null,{"$f":"IF(RawData!A160<>\"\",ROW(RawData!A160),0)","v":160},{"$f":"IF(RawData!A160=\"\",\"blank\",\"\")","v":""}]
[null,null,null,null,null,null,null,{"$f":"IF(AND(H58>=I$46,H58<=I$47),H58,NA())","v":{"$error":"#N/A"}},{"$f":"IF(AND(H58>=I$46,H58<=I$47),I58,NA())","v":{"$error":"#N/A"}},null,{"$f":"IF(AND(K58>=L$46,K58<=L$47),K58,NA())","v":{"$error":"#N/A"}},{"$f":"IF(AND(K58>=L$46,K58<=L$47),L58,NA())","v":{"$error":"#N/A"}},null,{"$f":"IF(AND(N58>=O$46,N58<=O$47),N58,NA())","v":{"$error":"#N/A"}},{"$f":"IF(AND(N58>=O$46,N58<=O$47),O58,NA())","v":{"$error":"#N/A"}},null,{"$f":"IF(AND(Q58>=R$46,Q58<=R$47),Q58,NA())","v":{"$error":"#N/A"}},{"$f":"IF(AND(Q58>=R$46,Q58<=R$47),R58,NA())","v":{"$error":"#N/A"}},null,null,null,{"$f":"IF(RawData!A161<>\"\",ROW(RawData!A161),0)","v":161},{"$f":"IF(RawData!A161=\"\",\"blank\",\"\")","v":""}]
[null,null,null,null,null,null,null,{"$error":"#N/A"},{"$error":"#N/A"},null,{"$error":"#N/A"},{"$error":"#N/A"},null,{"$error":"#N/A"},{"$error":"#N/A"},null,{"$error":"#N/A"},{"$error":"#N/A"},null,null,null,{"$f":"IF(RawData!A162<>\"\",ROW(RawData!A162),0)","v":162},{"$f":"IF(RawData!A162=\"\",\"blank\",\"\")","v":""}]
[null,null,null,null,null,null,null,0,21.003,null,0,20.922000000000001,null,0,20.364999999999998,null,0,20.855,null,null,null,{"$f":"IF(RawData!A163<>\"\",ROW(RawData!A163),0)","v":163},{"$f":"IF(RawData!A163=\"\",\"blank\",\"\")","v":""}]
[null,null,null,null,null,null,null,200,20.914000000000001,null,200,20.867999999999999,null,200,19.963999999999999,null,200,20.617000000000001,null,null,null,{"$f":"IF(RawData!A164<>\"\",ROW(RawData!A164),0)","v":0},{"$f":"IF(RawData!A164=\"\",\"blank\",\"\")","v":"blank"}]
[null,null,null,null,null,null,null,400,20.751999999999999,null,400,20.771000000000001,null,400,19.565000000000001,null,400,20.411999999999999,null,null,null,{"$f":"IF(RawData!A165<>\"\",ROW(RawData!A165),0)","v":165},{"$f":"IF(RawData!A165=\"\",\"blank\",\"\")","v":""}]
[null,null,null,null,null,null,null,600,20.657,null,600,20.701000000000001,null,600,19.135000000000002,null,600,20.207000000000001,null,null,null,{"$f":"IF(RawData!A166<>\"\",ROW(RawData!A166),0)","v":166},{"$f":"IF(RawData!A166=\"\",\"blank\",\"\")","v":""}]
[null,null,null,null,null,null,null,800,20.61,null,800,20.646999999999998,null,800,18.707999999999998,null,800,19.969000000000001,null,null,null,{"$f":"IF(RawData!A167<>\"\",ROW(RawData!A167),0)","v":167},{"$f":"IF(RawData!A167=\"\",\"blank\",\"\")","v":""}]
[null,null,null,null,null,null,null,1000,20.501000000000001,null,1000,20.568999999999999,null,1000,18.244,null,1000,19.734000000000002,null,null,null,{"$f":"IF(RawData!A168<>\"\",ROW(RawData!A168),0)","v":168},{"$f":"IF(RawData!A168=\"\",\"blank\",\"\")","v":""}]
[null,null,null,null,null,null,null,1200,20.352,null,1200,20.478999999999999,null,1200,17.815000000000001,null,1200,19.48,null,null,null,{"$f":"IF(RawData!A169<>\"\",ROW(RawData!A169),0)","v":169},{"$f":"IF(RawData!A169=\"\",\"blank\",\"\")","v":""}]
[null,null,null,null,null,null,null,1400,20.265000000000001,null,1400,20.425000000000001,null,1400,17.376000000000001,null,1400,19.286000000000001,null,null,null,{"$f":"IF(RawData!A170<>\"\",ROW(RawData!A170),0)","v":170},{"$f":"IF(RawData!A170=\"\",\"blank\",\"\")","v":""}]
[null,null,null,null,null,null,null,1600,20.204999999999998,null,1600,20.347000000000001,null,1600,16.925000000000001,null,1600,19.05,null,null,null,{"$f":"IF(RawData!A171<>\"\",ROW(RawData!A171),0)","v":171},{"$f":"IF(RawData!A171=\"\",\"blank\",\"\")","v":""}]
[null,null,null,null,null,null,null,1800,20.116,null,1800,20.27,null,1800,16.475000000000001,null,1800,18.824999999999999,null,null,null,{"$f":"IF(RawData!A172<>\"\",ROW(RawData!A172),0)","v":172},{"$f":"IF(RawData!A172=\"\",\"blank\",\"\")","v":""}]
[null,null,null,null,null,null,null,2000,20.013000000000002,null,2000,20.225000000000001,null,2000,15.997999999999999,null,2000,18.565999999999999,null,null,null,{"$f":"IF(RawData!A173<>\"\",ROW(RawData!A173),0)","v":173},{"$f":"IF(RawData!A173=\"\",\"blank\",\"\")","v":""}]
[null,null,null,null,null,null,null,{"$error":"#N/A"},{"$error":"#N/A"},null,{"$error":"#N/A"},{"$error":"#N/A"},null,{"$error":"#N/A"},{"$error":"#N/A"},null,{"$error":"#N/A"},{"$error":"#N/A"},null,null,null,{"$f":"IF(RawData!A174<>\"\",ROW(RawData!A174),0)","v":174},{"$f":"IF(RawData!A174=\"\",\"blank\",\"\")","v":""}]
[null,null,null,null,null,null,null,{"$error":"#N/A"},{"$error":"#N/A"},null,{"$error":"#N/A"},{"$error":"#N/A"},null,{"$error":"#N/A"},{"$error":"#N/A"},null,{"$error":"#N/A"},{"$error":"#N/A"},null,null,null,{"$f":"IF(RawData!A175<>\"\",ROW(RawData!A175),0)","v":175},{"$f":"IF(RawData!A175=\"\",\"blank\",\"\")","v":""}]
[null,null,null,null,null,null,null,{"$error":"#N/A"},{"$error":"#N/A"},null,{"$error":"#N/A"},{"$error":"#N/A"},null,{"$error":"#N/A"},{"$error":"#N/A"},null,{"$error":"#N/A"},{"$error":"#N/A"},null,null,null,{"$f":"IF(RawData!A176<>\"\",ROW(RawData!A176),0)","v":176},{"$f":"IF(RawData!A176=\"\",\"blank\",\"\")","v":""}]
[null,null,null,null,null,null,null,{"$error":"#N/A"},{"$error":"#N/A"},null,{"$error":"#N/A"},{"$error":"#N/A"},null,{"$error":"#N/A"},{"$error":"#N/A"},null,{"$error":"#N/A"},{"$error":"#N/A"},null,null,null,{"$f":"IF(RawData!A177<>\"\",ROW(RawData!A177),0)","v":177},{"$f":"IF(RawData!A177=\"\",\"blank\",\"\")","v":""}]
[null,null,null,null,null,null,null,{"$error":"#N/A"},{"$error":"#N/A"},null,{"$error":"#N/A"},{"$error":"#N/A"},null,{"$error":"#N/A"},{"$error":"#N/A"},null,{"$error":"#N/A"},{"$error":"#N/A"},null,null,null,{"$f":"IF(RawData!A178<>\"\",ROW(RawData!A178),0)","v":178},{"$f":"IF(RawData!A178=\"\",\"blank\",\"\")","v":""}]
[null,null,null,null,null,null,null,{"$error":"#N/A"},{"$error":"#N/A"},null,{"$error":"#N/A"},{"$error":"#N/A"},null,{"$error":"#N/A"},{"$error":"#N/A"},null,{"$error":"#N/A"},{"$error":"#N/A"},null,null,null,{"$f":"IF(RawData!A179<>\"\",ROW(RawData!A179),0)","v":0},{"$f":"IF(RawData!A179=\"\",\"blank\",\"\")","v":"blank"}]
[null,null,null,null,null,null,null,{"$error":"#N/A"},{"$error":"#N/A"},null,{"$error":"#N/A"},{"$error":"#N/A"},null,{"$error":"#N/A"},{"$error":"#N/A"},null,{"$error":"#N/A"},{"$error":"#N/A"},null,null,null,{"$f":"IF(RawData!A180<>\"\",ROW(RawData!A180),0)","v":180},{"$f":"IF(RawData!A180=\"\",\"blank\",\"\")","v":""}]
[null,null,null,null,null,null,null,{"$error":"#N/A"},{"$error":"#N/A"},null,{"$error":"#N/A"},{"$error":"#N/A"},null,{"$error":"#N/A"},{"$error":"#N/A"},null,{"$error":"#N/A"},{"$error":"#N/A"},null,null,null,{"$f":"IF(RawData!A181<>\"\",ROW(RawData!A181),0)","v":181},{"$f":"IF(RawData!A181=\"\",\"blank\",\"\")","v":""}]
[null,null,null,null,null,null,null,{"$error":"#N/A"},{"$error":"#N/A"},null,{"$error":"#N/A"},{"$error":"#N/A"},null,{"$error":"#N/A"},{"$error":"#N/A"},null,{"$error":"#N/A"},{"$error":"#N/A"},null,null,null,{"$f":"IF(RawData!A182<>\"\",ROW(RawData!A182),0)","v":182},{"$f":"IF(RawData!A182=\"\",\"blank\",\"\")","v":""}]
[null,null,null,null,null,null,null,{"$error":"#N/A"},{"$error":"#N/A"},null,{"$error":"#N/A"},{"$error":"#N/A"},null,{"$error":"#N/A"},{"$error":"#N/A"},null,{"$error":"#N/A"},{"$error":"#N/A"},null,null,null,{"$f":"IF(RawData!A183<>\"\",ROW(RawData!A183),0)","v":183},{"$f":"IF(RawData!A183=\"\",\"blank\",\"\")","v":""}]
[null,null,null,null,null,null,null,{"$error":"#N/A"},{"$error":"#N/A"},null,{"$error":"#N/A"},{"$error":"#N/A"},null,{"$error":"#N/A"},{"$error":"#N/A"},null,{"$error":"#N/A"},{"$error":"#N/A"},null,null,null,{"$f":"IF(RawData!A184<>\"\",ROW(RawData!A184),0)","v":184},{"$f":"IF(RawData!A184=\"\",\"blank\",\"\")","v":""}]
[null,null,null,null,null,null,null,{"$error":"#N/A"},{"$error":"#N/A"},null,{"$error":"#N/A"},{"$error":"#N/A"},null,{"$error":"#N/A"},{"$error":"#N/A"},null,{"$error":"#N/A"},{"$error":"#N/A"},null,null,null,{"$f":"IF(RawData!A185<>\"\",ROW(RawData!A185),0)","v":185},{"$f":"IF(RawData!A185=\"\",\"blank\",\"\")","v":""}]
[null,null,null,null,null,null,null,{"$error":"#N/A"},{"$error":"#N/A"},null,{"$error":"#N/A"},{"$error":"#N/A"},null,{"$error":"#N/A"},{"$error":"#N/A"},null,{"$error":"#N/A"},{"$error":"#N/A"},null,null,null,{"$f":"IF(RawData!A186<>\"\",ROW(RawData!A186),0)","v":186},{"$f":"IF(RawData!A186=\"\",\"blank\",\"\")","v":""}]
[null,null,null,null,null,null,null,{"$error":"#N/A"},{"$error":"#N/A"},null,{"$error":"#N/A"},{"$error":"#N/A"},null,{"$error":"#N/A"},{"$error":"#N/A"},null,{"$error":"#N/A"},{"$error":"#N/A"},null,null,null,{"$f":"IF(RawData!A187<>\"\",ROW(RawData!A187),0)","v":187},{"$f":"IF(RawData!A187=\"\",\"blank\",\"\")","v":""}]
[null,null,null,null,null,null,null,{"$error":"#N/A"},{"$error":"#N/A"},null,{"$error":"#N/A"},{"$error":"#N/A"},null,{"$error":"#N/A"},{"$error":"#N/A"},null,{"$error":"#N/A"},{"$error":"#N/A"},null,null,null,{"$f":"IF(RawData!A188<>\"\",ROW(RawData!A188),0)","v":188},{"$f":"IF(RawData!A188=\"\",\"blank\",\"\")","v":""}]
[null,null,null,null,null,null,null,{"$error":"#N/A"},{"$error":"#N/A"},null,{"$error":"#N/A"},{"$error":"#N/A"},null,{"$error":"#N/A"},{"$error":"#N/A"},null,{"$error":"#N/A"},{"$error":"#N/A"},null,null,null,{"$f":"IF(RawData!A189<>\"\",ROW(RawData!A189),0)","v":189},{"$f":"IF(RawData!A189=\"\",\"blank\",\"\")","v":""}]
[null,null,null,null,null,null,null,{"$error":"#N/A"},{"$error":"#N/A"},null,{"$error":"#N/A"},{"$error":"#N/A"},null,{"$error":"#N/A"},{"$error":"#N/A"},null,{"$error":"#N/A"},{"$error":"#N/A"},null,null,null,{"$f":"IF(RawData!A190<>\"\",ROW(RawData!A190),0)","v":190},{"$f":"IF(RawData!A190=\"\",\"blank\",\"\")","v":""}]
[null,null,null,null,null,null,null,{"$error":"#N/A"},{"$error":"#N/A"},null,{"$error":"#N/A"},{"$error":"#N/A"},null,{"$error":"#N/A"},{"$error":"#N/A"},null,{"$error":"#N/A"},{"$error":"#N/A"},null,null,null,{"$f":"IF(RawData!A191<>\"\",ROW(RawData!A191),0)","v":191},{"$f":"IF(RawData!A191=\"\",\"blank\",\"\")","v":""}]
[null,null,null,null,null,null,null,{"$error":"#N/A"},{"$error":"#N/A"},null,{"$error":"#N/A"},{"$error":"#N/A"},null,{"$error":"#N/A"},{"$error":"#N/A"},null,{"$error":"#N/A"},{"$error":"#N/A"},null,null,null,{"$f":"IF(RawData!A192<>\"\",ROW(RawData!A192),0)","v":192},{"$f":"IF(RawData!A192=\"\",\"blank\",\"\")","v":""}]
[null,null,null,null,null,null,null,{"$error":"#N/A"},{"$error":"#N/A"},null,{"$error":"#N/A"},{"$error":"#N/A"},null,{"$error":"#N/A"},{"$error":"#N/A"},null,{"$error":"#N/A"},{"$error":"#N/A"},null,null,null,{"$f":"IF(RawData!A193<>\"\",ROW(RawData!A193),0)","v":193},{"$f":"IF(RawData!A193=\"\",\"blank\",\"\")","v":""}]
[null,null,null,null,null,null,null,{"$error":"#N/A"},{"$error":"#N/A"},null,{"$error":"#N/A"},{"$error":"#N/A"},null,{"$error":"#N/A"},{"$error":"#N/A"},null,{"$error":"#N/A"},{"$error":"#N/A"},null,null,null,{"$f":"IF(RawData!A194<>\"\",ROW(RawData!A194),0)","v":0},{"$f":"IF(RawData!A194=\"\",\"blank\",\"\")","v":"blank"}]
[null,null,null,null,null,null,null,{"$error":"#N/A"},{"$error":"#N/A"},null,{"$error":"#N/A"},{"$error":"#N/A"},null,{"$error":"#N/A"},{"$error":"#N/A"},null,{"$error":"#N/A"},{"$error":"#N/A"},null,null,null,{"$f":"IF(RawData!A195<>\"\",ROW(RawData!A195),0)","v":195},{"$f":"IF(RawData!A195=\"\",\"blank\",\"\")","v":""}]
[null,null,null,null,null,null,null,{"$error":"#N/A"},{"$error":"#N/A"},null,{"$error":"#N/A"},{"$error":"#N/A"},null,{"$error":"#N/A"},{"$error":"#N/A"},null,{"$error":"#N/A"},{"$error":"#N/A"},null,null,null,{"$f":"IF(RawData!A196<>\"\",ROW(RawData!A196),0)","v":196},{"$f":"IF(RawData!A196=\"\",\"blank\",\"\")","v":""}]
[null,null,null,null,null,null,null,{"$error":"#N/A"},{"$error":"#N/A"},null,{"$error":"#N/A"},{"$error":"#N/A"},null,{"$error":"#N/A"},{"$error":"#N/A"},null,{"$error":"#N/A"},{"$error":"#N/A"},null,null,null,{"$f":"IF(RawData!A197<>\"\",ROW(RawData!A197),0)","v":197},{"$f":"IF(RawData!A197=\"\",\"blank\",\"\")","v":""}]
[null,null,null,null,null,null,null,{"$error":"#N/A"},{"$error":"#N/A"},null,{"$error":"#N/A"},{"$error":"#N/A"},null,{"$error":"#N/A"},{"$error":"#N/A"},null,{"$error":"#N/A"},{"$error":"#N/A"},null,null,null,{"$f":"IF(RawData!A198<>\"\",ROW(RawData!A198),0)","v":198},{"$f":"IF(RawData!A198=\"\",\"blank\",\"\")","v":""}]
[null,null,null,null,null,null,null,{"$error":"#N/A"},{"$error":"#N/A"},null,{"$error":"#N/A"},{"$error":"#N/A"},null,{"$error":"#N/A"},{"$error":"#N/A"},null,{"$error":"#N/A"},{"$error":"#N/A"},null,null,null,{"$f":"IF(RawData!A199<>\"\",ROW(RawData!A199),0)","v":199},{"$f":"IF(RawData!A199=\"\",\"blank\",\"\")","v":""}]
[null,null,null,null,null,null,null,{"$error":"#N/A"},{"$error":"#N/A"},null,{"$error":"#N/A"},{"$error":"#N/A"},null,{"$error":"#N/A"},{"$error":"#N/A"},null,{"$error":"#N/A"},{"$error":"#N/A"},null,null,null,{"$f":"IF(RawData!A200<>\"\",ROW(RawData!A200),0)","v":200},{"$f":"IF(RawData!A200=\"\",\"blank\",\"\")","v":""}]
[null,null,null,null,null,null,null,{"$error":"#N/A"},{"$error":"#N/A"},null,{"$error":"#N/A"},{"$error":"#N/A"},null,{"$error":"#N/A"},{"$error":"#N/A"},null,{"$error":"#N/A"},{"$error":"#N/A"},null,null,null,{"$f":"IF(RawData!A201<>\"\",ROW(RawData!A201),0)","v":201},{"$f":"IF(RawData!A201=\"\",\"blank\",\"\")","v":""}]
[null,null,null,null,null,null,null,{"$error":"#N/A"},{"$error":"#N/A"},null,{"$error":"#N/A"},{"$error":"#N/A"},null,{"$error":"#N/A"},{"$error":"#N/A"},null,{"$error":"#N/A"},{"$error":"#N/A"},null,null,null,{"$f":"IF(RawData!A202<>\"\",ROW(RawData!A202),0)","v":202},{"$f":"IF(RawData!A202=\"\",\"blank\",\"\")","v":""}]
[null,null,null,null,null,null,null,{"$error":"#N/A"},{"$error":"#N/A"},null,{"$error":"#N/A"},{"$error":"#N/A"},null,{"$error":"#N/A"},{"$error":"#N/A"},null,{"$error":"#N/A"},{"$error":"#N/A"},null,null,null,{"$f":"IF(RawData!A203<>\"\",ROW(RawData!A203),0)","v":203},{"$f":"IF(RawData!A203=\"\",\"blank\",\"\")","v":""}]
[null,null,null,null,null,null,null,{"$error":"#N/A"},{"$error":"#N/A"},null,{"$error":"#N/A"},{"$error":"#N/A"},null,{"$error":"#N/A"},{"$error":"#N/A"},null,{"$error":"#N/A"},{"$error":"#N/A"},null,null,null,{"$f":"IF(RawData!A204<>\"\",ROW(RawData!A204),0)","v":204},{"$f":"IF(RawData!A204=\"\",\"blank\",\"\")","v":""}]
[null,null,null,null,null,null,null,{"$error":"#N/A"},{"$error":"#N/A"},null,{"$error":"#N/A"},{"$error":"#N/A"},null,{"$error":"#N/A"},{"$error":"#N/A"},null,{"$error":"#N/A"},{"$error":"#N/A"},null,null,null,{"$f":"IF(RawData!A205<>\"\",ROW(RawData!A205),0)","v":205},{"$f":"IF(RawData!A205=\"\",\"blank\",\"\")","v":""}]
[null,null,null,null,null,null,null,{"$error":"#N/A"},{"$error":"#N/A"},null,{"$error":"#N/A"},{"$error":"#N/A"},null,{"$error":"#N/A"},{"$error":"#N/A"},null,{"$error":"#N/A"},{"$error":"#N/A"},null,null,null,{"$f":"IF(RawData!A206<>\"\",ROW(RawData!A206),0)","v":206},{"$f":"IF(RawData!A206=\"\",\"blank\",\"\")","v":""}]
[null,null,null,null,null,null,null,{"$error":"#N/A"},{"$error":"#N/A"},null,{"$error":"#N/A"},{"$error":"#N/A"},null,{"$error":"#N/A"},{"$error":"#N/A"},null,{"$error":"#N/A"},{"$error":"#N/A"},null,null,null,{"$f":"IF(RawData!A207<>\"\",ROW(RawData!A207),0)","v":207},{"$f":"IF(RawData!A207=\"\",\"blank\",\"\")","v":""}]
[null,null,null,null,null,null,null,{"$error":"#N/A"},{"$error":"#N/A"},null,{"$error":"#N/A"},{"$error":"#N/A"},null,{"$error":"#N/A"},{"$error":"#N/A"},null,{"$error":"#N/A"},{"$error":"#N/A"},null,null,null,{"$f":"IF(RawData!A208<>\"\",ROW(RawData!A208),0)","v":208},{"$f":"IF(RawData!A208=\"\",\"blank\",\"\")","v":""}]
[null,null,null,null,null,null,null,{"$error":"#N/A"},{"$error":"#N/A"},null,{"$error":"#N/A"},{"$error":"#N/A"},null,{"$error":"#N/A"},{"$error":"#N/A"},null,{"$error":"#N/A"},{"$error":"#N/A"},null,null,null,{"$f":"IF(RawData!A209<>\"\",ROW(RawData!A209),0)","v":0},{"$f":"IF(RawData!A209=\"\",\"blank\",\"\")","v":"blank"}]
[null,null,null,null,null,null,null,{"$error":"#N/A"},{"$error":"#N/A"},null,{"$error":"#N/A"},{"$error":"#N/A"},null,{"$error":"#N/A"},{"$error":"#N/A"},null,{"$error":"#N/A"},{"$error":"#N/A"},null,null,null,{"$f":"IF(RawData!A210<>\"\",ROW(RawData!A210),0)","v":210},{"$f":"IF(RawData!A210=\"\",\"blank\",\"\")","v":""}]
[null,null,null,null,null,null,null,{"$error":"#N/A"},{"$error":"#N/A"},null,{"$error":"#N/A"},{"$error":"#N/A"},null,{"$error":"#N/A"},{"$error":"#N/A"},null,{"$error":"#N/A"},{"$error":"#N/A"},null,null,null,{"$f":"IF(RawData!A211<>\"\",ROW(RawData!A211),0)","v":211},{"$f":"IF(RawData!A211=\"\",\"blank\",\"\")","v":""}]
[null,null,null,null,null,null,null,{"$error":"#N/A"},{"$error":"#N/A"},null,{"$error":"#N/A"},{"$error":"#N/A"},null,{"$error":"#N/A"},{"$error":"#N/A"},null,{"$error":"#N/A"},{"$error":"#N/A"},null,null,null,{"$f":"IF(RawData!A212<>\"\",ROW(RawData!A212),0)","v":212},{"$f":"IF(RawData!A212=\"\",\"blank\",\"\")","v":""}]
[null,null,null,null,null,null,null,{"$error":"#N/A"},{"$error":"#N/A"},null,{"$error":"#N/A"},{"$error":"#N/A"},null,{"$error":"#N/A"},{"$error":"#N/A"},null,{"$error":"#N/A"},{"$error":"#N/A"},null,null,null,{"$f":"IF(RawData!A213<>\"\",ROW(RawData!A213),0)","v":213},{"$f":"IF(RawData!A213=\"\",\"blank\",\"\")","v":""}]
[null,null,null,null,null,null,null,{"$error":"#N/A"},{"$error":"#N/A"},null,{"$error":"#N/A"},{"$error":"#N/A"},null,{"$error":"#N/A"},{"$error":"#N/A"},null,{"$error":"#N/A"},{"$error":"#N/A"},null,null,null,{"$f":"IF(RawData!A214<>\"\",ROW(RawData!A214),0)","v":214},{"$f":"IF(RawData!A214=\"\",\"blank\",\"\")","v":""}]
[null,null,null,null,null,null,null,{"$error":"#N/A"},{"$error":"#N/A"},null,{"$error":"#N/A"},{"$error":"#N/A"},null,{"$error":"#N/A"},{"$error":"#N/A"},null,{"$error":"#N/A"},{"$error":"#N/A"},null,null,null,{"$f":"IF(RawData!A215<>\"\",ROW(RawData!A215),0)","v":215},{"$f":"IF(RawData!A215=\"\",\"blank\",\"\")","v":""}]
[null,null,null,null,null,null,null,{"$error":"#N/A"},{"$error":"#N/A"},null,{"$error":"#N/A"},{"$error":"#N/A"},null,{"$error":"#N/A"},{"$error":"#N/A"},null,{"$error":"#N/A"},{"$error":"#N/A"},null,null,null,{"$f":"IF(RawData!A216<>\"\",ROW(RawData!A216),0)","v":216},{"$f":"IF(RawData!A216=\"\",\"blank\",\"\")","v":""}]
[null,null,null,null,null,null,null,{"$error":"#N/A"},{"$error":"#N/A"},null,{"$error":"#N/A"},{"$error":"#N/A"},null,{"$error":"#N/A"},{"$error":"#N/A"},null,{"$error":"#N/A"},{"$error":"#N/A"},null,null,null,{"$f":"IF(RawData!A217<>\"\",ROW(RawData!A217),0)","v":217},{"$f":"IF(RawData!A217=\"\",\"blank\",\"\")","v":""}]
[null,null,null,null,null,null,null,{"$error":"#N/A"},{"$error":"#N/A"},null,{"$error":"#N/A"},{"$error":"#N/A"},null,{"$error":"#N/A"},{"$error":"#N/A"},null,{"$error":"#N/A"},{"$error":"#N/A"},null,null,null,{"$f":"IF(RawData!A218<>\"\",ROW(RawData!A218),0)","v":218},{"$f":"IF(RawData!A218=\"\",\"blank\",\"\")","v":""}]
[null,null,null,null,null,null,null,{"$error":"#N/A"},{"$error":"#N/A"},null,{"$error":"#N/A"},{"$error":"#N/A"},null,{"$error":"#N/A"},{"$error":"#N/A"},null,{"$error":"#N/A"},{"$error":"#N/A"},null,null,null,{"$f":"IF(RawData!A219<>\"\",ROW(RawData!A219),0)","v":219},{"$f":"IF(RawData!A219=\"\",\"blank\",\"\")","v":""}]
[null,null,null,null,null,null,null,{"$error":"#N/A"},{"$error":"#N/A"},null,{"$error":"#N/A"},{"$error":"#N/A"},null,{"$error":"#N/A"},{"$error":"#N/A"},null,{"$error":"#N/A"},{"$error":"#N/A"},null,null,null,{"$f":"IF(RawData!A220<>\"\",ROW(RawData!A220),0)","v":220},{"$f":"IF(RawData!A220=\"\",\"blank\",\"\")","v":""}]
[null,null,null,null,null,null,null,{"$error":"#N/A"},{"$error":"#N/A"},null,{"$error":"#N/A"},{"$error":"#N/A"},null,{"$error":"#N/A"},{"$error":"#N/A"},null,{"$error":"#N/A"},{"$error":"#N/A"},null,null,null,{"$f":"IF(RawData!A221<>\"\",ROW(RawData!A221),0)","v":221},{"$f":"IF(RawData!A221=\"\",\"blank\",\"\")","v":""}]
[null,null,null,null,null,null,null,{"$error":"#N/A"},{"$error":"#N/A"},null,{"$error":"#N/A"},{"$error":"#N/A"},null,{"$error":"#N/A"},{"$error":"#N/A"},null,{"$error":"#N/A"},{"$error":"#N/A"},null,null,null,{"$f":"IF(RawData!A222<>\"\",ROW(RawData!A222),0)","v":222},{"$f":"IF(RawData!A222=\"\",\"blank\",\"\")","v":""}]
[null,null,null,null,null,null,null,{"$error":"#N/A"},{"$error":"#N/A"},null,{"$error":"#N/A"},{"$error":"#N/A"},null,{"$error":"#N/A"},{"$error":"#N/A"},null,{"$error":"#N/A"},{"$error":"#N/A"},null,null,null,{"$f":"IF(RawData!A223<>\"\",ROW(RawData!A223),0)","v":223},{"$f":"IF(RawData!A223=\"\",\"blank\",\"\")","v":""}]
[null,null,null,null,null,null,null,{"$error":"#N/A"},{"$error":"#N/A"},null,{"$error":"#N/A"},{"$error":"#N/A"},null,{"$error":"#N/A"},{"$error":"#N/A"},null,{"$error":"#N/A"},{"$error":"#N/A"},null,null,null,{"$f":"IF(RawData!A224<>\"\",ROW(RawData!A224),0)","v":0},{"$f":"IF(RawData!A224=\"\",\"blank\",\"\")","v":"blank"}]
[null,null,null,null,null,null,null,{"$f":"IF(AND(H122>=I$46,H122<=I$47),H122,NA())","v":{"$error":"#N/A"}},{"$f":"IF(AND(H122>=I$46,H122<=I$47),I122,NA())","v":{"$error":"#N/A"}},null,{"$f":"IF(AND(K122>=L$46,K122<=L$47),K122,NA())","v":{"$error":"#N/A"}},{"$f":"IF(AND(K122>=L$46,K122<=L$47),L122,NA())","v":{"$error":"#N/A"}},null,{"$f":"IF(AND(N122>=O$46,N122<=O$47),N122,NA())","v":{"$error":"#N/A"}},{"$f":"IF(AND(N122>=O$46,N122<=O$47),O122,NA())","v":{"$error":"#N/A"}},null,{"$f":"IF(AND(Q122>=R$46,Q122<=R$47),Q122,NA())","v":{"$error":"#N/A"}},{"$f":"IF(AND(Q122>=R$46,Q122<=R$47),R122,NA())","v":{"$error":"#N/A"}},null,null,null,{"$f":"IF(RawData!A225<>\"\",ROW(RawData!A225),0)","v":225},{"$f":"IF(RawData!A225=\"\",\"blank\",\"\")","v":""}]
[null,null,null,null,null,null,null,{"$error":"#N/A"},{"$error":"#N/A"},null,{"$error":"#N/A"},{"$error":"#N/A"},null,{"$error":"#N/A"},{"$error":"#N/A"},null,{"$error":"#N/A"},{"$error":"#N/A"},null,null,null,{"$f":"IF(RawData!A226<>\"\",ROW(RawData!A226),0)","v":226},{"$f":"IF(RawData!A226=\"\",\"blank\",\"\")","v":""}]
[null,null,null,null,null,null,null,{"$error":"#N/A"},{"$error":"#N/A"},null,{"$error":"#N/A"},{"$error":"#N/A"},null,{"$error":"#N/A"},{"$error":"#N/A"},null,{"$error":"#N/A"},{"$error":"#N/A"},null,null,null,{"$f":"IF(RawData!A227<>\"\",ROW(RawData!A227),0)","v":227},{"$f":"IF(RawData!A227=\"\",\"blank\",\"\")","v":""}]
[null,null,null,null,null,null,null,{"$error":"#N/A"},{"$error":"#N/A"},null,{"$error":"#N/A"},{"$error":"#N/A"},null,{"$error":"#N/A"},{"$error":"#N/A"},null,{"$error":"#N/A"},{"$error":"#N/A"},null,null,null,{"$f":"IF(RawData!A228<>\"\",ROW(RawData!A228),0)","v":228},{"$f":"IF(RawData!A228=\"\",\"blank\",\"\")","v":""}]
[null,null,null,null,null,null,null,{"$error":"#N/A"},{"$error":"#N/A"},null,{"$error":"#N/A"},{"$error":"#N/A"},null,{"$error":"#N/A"},{"$error":"#N/A"},null,{"$error":"#N/A"},{"$error":"#N/A"},null,null,null,{"$f":"IF(RawData!A229<>\"\",ROW(RawData!A229),0)","v":229},{"$f":"IF(RawData!A229=\"\",\"blank\",\"\")","v":""}]
[null,null,null,null,null,null,null,{"$error":"#N/A"},{"$error":"#N/A"},null,{"$error":"#N/A"},{"$error":"#N/A"},null,{"$error":"#N/A"},{"$error":"#N/A"},null,{"$error":"#N/A"},{"$error":"#N/A"},null,null,null,{"$f":"IF(RawData!A230<>\"\",ROW(RawData!A230),0)","v":230},{"$f":"IF(RawData!A230=\"\",\"blank\",\"\")","v":""}]
[null,null,null,null,null,null,null,{"$error":"#N/A"},{"$error":"#N/A"},null,{"$error":"#N/A"},{"$error":"#N/A"},null,{"$error":"#N/A"},{"$error":"#N/A"},null,{"$error":"#N/A"},{"$error":"#N/A"},null,null,null,{"$f":"IF(RawData!A231<>\"\",ROW(RawData!A231),0)","v":231},{"$f":"IF(RawData!A231=\"\",\"blank\",\"\")","v":""}]
[null,null,null,null,null,null,null,{"$error":"#N/A"},{"$error":"#N/A"},null,{"$error":"#N/A"},{"$error":"#N/A"},null,{"$error":"#N/A"},{"$error":"#N/A"},null,{"$error":"#N/A"},{"$error":"#N/A"},null,null,null,{"$f":"IF(RawData!A232<>\"\",ROW(RawData!A232),0)","v":232},{"$f":"IF(RawData!A232=\"\",\"blank\",\"\")","v":""}]
[null,null,null,null,null,null,null,{"$error":"#N/A"},{"$error":"#N/A"},null,{"$error":"#N/A"},{"$error":"#N/A"},null,{"$error":"#N/A"},{"$error":"#N/A"},null,{"$error":"#N/A"},{"$error":"#N/A"},null,null,null,{"$f":"IF(RawData!A233<>\"\",ROW(RawData!A233),0)","v":233},{"$f":"IF(RawData!A233=\"\",\"blank\",\"\")","v":""}]
[null,null,null,null,null,null,null,{"$error":"#N/A"},{"$error":"#N/A"},null,{"$error":"#N/A"},{"$error":"#N/A"},null,{"$error":"#N/A"},{"$error":"#N/A"},null,{"$error":"#N/A"},{"$error":"#N/A"},null,null,null,{"$f":"IF(RawData!A234<>\"\",ROW(RawData!A234),0)","v":234},{"$f":"IF(RawData!A234=\"\",\"blank\",\"\")","v":""}]
[null,null,null,null,null,null,null,{"$error":"#N/A"},{"$error":"#N/A"},null,{"$error":"#N/A"},{"$error":"#N/A"},null,{"$error":"#N/A"},{"$error":"#N/A"},null,{"$error":"#N/A"},{"$error":"#N/A"},null,null,null,{"$f":"IF(RawData!A235<>\"\",ROW(RawData!A235),0)","v":235},{"$f":"IF(RawData!A235=\"\",\"blank\",\"\")","v":""}]
[null,null,null,null,null,null,null,{"$error":"#N/A"},{"$error":"#N/A"},null,{"$error":"#N/A"},{"$error":"#N/A"},null,{"$error":"#N/A"},{"$error":"#N/A"},null,{"$error":"#N/A"},{"$error":"#N/A"},null,null,null,{"$f":"IF(RawData!A236<>\"\",ROW(RawData!A236),0)","v":236},{"$f":"IF(RawData!A236=\"\",\"blank\",\"\")","v":""}]
[null,null,null,null,null,null,null,{"$error":"#N/A"},{"$error":"#N/A"},null,{"$error":"#N/A"},{"$error":"#N/A"},null,{"$error":"#N/A"},{"$error":"#N/A"},null,{"$error":"#N/A"},{"$error":"#N/A"},null,null,null,{"$f":"IF(RawData!A237<>\"\",ROW(RawData!A237),0)","v":237},{"$f":"IF(RawData!A237=\"\",\"blank\",\"\")","v":""}]
[null,null,null,null,null,null,null,{"$error":"#N/A"},{"$error":"#N/A"},null,{"$error":"#N/A"},{"$error":"#N/A"},null,{"$error":"#N/A"},{"$error":"#N/A"},null,{"$error":"#N/A"},{"$error":"#N/A"},null,null,null,{"$f":"IF(RawData!A238<>\"\",ROW(RawData!A238),0)","v":238},{"$f":"IF(RawData!A238=\"\",\"blank\",\"\")","v":""}]
[null,null,null,null,null,null,null,{"$error":"#N/A"},{"$error":"#N/A"},null,{"$error":"#N/A"},{"$error":"#N/A"},null,{"$error":"#N/A"},{"$error":"#N/A"},null,{"$error":"#N/A"},{"$error":"#N/A"},null,null,null,{"$f":"IF(RawData!A239<>\"\",ROW(RawData!A239),0)","v":0},{"$f":"IF(RawData!A239=\"\",\"blank\",\"\")","v":"blank"}]
[null,null,null,null,null,null,null,{"$error":"#N/A"},{"$error":"#N/A"},null,{"$error":"#N/A"},{"$error":"#N/A"},null,{"$error":"#N/A"},{"$error":"#N/A"},null,{"$error":"#N/A"},{"$error":"#N/A"},null,null,null,{"$f":"IF(RawData!A240<>\"\",ROW(RawData!A240),0)","v":240},{"$f":"IF(RawData!A240=\"\",\"blank\",\"\")","v":""}]
[null,null,null,null,null,null,null,{"$error":"#N/A"},{"$error":"#N/A"},null,{"$error":"#N/A"},{"$error":"#N/A"},null,{"$error":"#N/A"},{"$error":"#N/A"},null,{"$error":"#N/A"},{"$error":"#N/A"},null,null,null,{"$f":"IF(RawData!A241<>\"\",ROW(RawData!A241),0)","v":241},{"$f":"IF(RawData!A241=\"\",\"blank\",\"\")","v":""}]
[null,null,null,null,null,null,null,{"$error":"#N/A"},{"$error":"#N/A"},null,{"$error":"#N/A"},{"$error":"#N/A"},null,{"$error":"#N/A"},{"$error":"#N/A"},null,{"$error":"#N/A"},{"$error":"#N/A"},null,null,null,{"$f":"IF(RawData!A242<>\"\",ROW(RawData!A242),0)","v":242},{"$f":"IF(RawData!A242=\"\",\"blank\",\"\")","v":""}]
[null,null,null,null,null,null,null,{"$error":"#N/A"},{"$error":"#N/A"},null,{"$error":"#N/A"},{"$error":"#N/A"},null,{"$error":"#N/A"},{"$error":"#N/A"},null,{"$error":"#N/A"},{"$error":"#N/A"},null,null,null,{"$f":"IF(RawData!A243<>\"\",ROW(RawData!A243),0)","v":243},{"$f":"IF(RawData!A243=\"\",\"blank\",\"\")","v":""}]
[null,null,null,null,null,null,null,{"$error":"#N/A"},{"$error":"#N/A"},null,{"$error":"#N/A"},{"$error":"#N/A"},null,{"$error":"#N/A"},{"$error":"#N/A"},null,{"$error":"#N/A"},{"$error":"#N/A"},null,null,null,{"$f":"IF(RawData!A244<>\"\",ROW(RawData!A244),0)","v":244},{"$f":"IF(RawData!A244=\"\",\"blank\",\"\")","v":""}]
[null,null,null,null,null,null,null,{"$error":"#N/A"},{"$error":"#N/A"},null,{"$error":"#N/A"},{"$error":"#N/A"},null,{"$error":"#N/A"},{"$error":"#N/A"},null,{"$error":"#N/A"},{"$error":"#N/A"},null,null,null,{"$f":"IF(RawData!A245<>\"\",ROW(RawData!A245),0)","v":245},{"$f":"IF(RawData!A245=\"\",\"blank\",\"\")","v":""}]
[null,null,null,null,null,null,null,{"$error":"#N/A"},{"$error":"#N/A"},null,{"$error":"#N/A"},{"$error":"#N/A"},null,{"$error":"#N/A"},{"$error":"#N/A"},null,{"$error":"#N/A"},{"$error":"#N/A"},null,null,null,{"$f":"IF(RawData!A246<>\"\",ROW(RawData!A246),0)","v":246},{"$f":"IF(RawData!A246=\"\",\"blank\",\"\")","v":""}]
[null,null,null,null,null,null,null,{"$error":"#N/A"},{"$error":"#N/A"},null,{"$error":"#N/A"},{"$error":"#N/A"},null,{"$error":"#N/A"},{"$error":"#N/A"},null,{"$error":"#N/A"},{"$error":"#N/A"},null,null,null,{"$f":"IF(RawData!A247<>\"\",ROW(RawData!A247),0)","v":247},{"$f":"IF(RawData!A247=\"\",\"blank\",\"\")","v":""}]
[null,null,null,null,null,null,null,{"$error":"#N/A"},{"$error":"#N/A"},null,{"$error":"#N/A"},{"$error":"#N/A"},null,{"$error":"#N/A"},{"$error":"#N/A"},null,{"$error":"#N/A"},{"$error":"#N/A"},null,null,null,{"$f":"IF(RawData!A248<>\"\",ROW(RawData!A248),0)","v":248},{"$f":"IF(RawData!A248=\"\",\"blank\",\"\")","v":""}]
[null,null,null,null,null,null,null,{"$error":"#N/A"},{"$error":"#N/A"},null,{"$error":"#N/A"},{"$error":"#N/A"},null,{"$error":"#N/A"},{"$error":"#N/A"},null,{"$error":"#N/A"},{"$error":"#N/A"},null,null,null,{"$f":"IF(RawData!A249<>\"\",ROW(RawData!A249),0)","v":249},{"$f":"IF(RawData!A249=\"\",\"blank\",\"\")","v":""}]
[null,null,null,null,null,null,null,{"$error":"#N/A"},{"$error":"#N/A"},null,{"$error":"#N/A"},{"$error":"#N/A"},null,{"$error":"#N/A"},{"$error":"#N/A"},null,{"$error":"#N/A"},{"$error":"#N/A"},null,null,null,{"$f":"IF(RawData!A250<>\"\",ROW(RawData!A250),0)","v":250},{"$f":"IF(RawData!A250=\"\",\"blank\",\"\")","v":""}]
[null,null,null,null,null,null,null,{"$error":"#N/A"},{"$error":"#N/A"},null,{"$error":"#N/A"},{"$error":"#N/A"},null,{"$error":"#N/A"},{"$error":"#N/A"},null,{"$error":"#N/A"},{"$error":"#N/A"},null,null,null,{"$f":"IF(RawData!A251<>\"\",ROW(RawData!A251),0)","v":251},{"$f":"IF(RawData!A251=\"\",\"blank\",\"\")","v":""}]
[null,null,null,null,null,null,null,{"$error":"#N/A"},{"$error":"#N/A"},null,{"$error":"#N/A"},{"$error":"#N/A"},null,{"$error":"#N/A"},{"$error":"#N/A"},null,{"$error":"#N/A"},{"$error":"#N/A"},null,null,null,{"$f":"IF(RawData!A252<>\"\",ROW(RawData!A252),0)","v":252},{"$f":"IF(RawData!A252=\"\",\"blank\",\"\")","v":""}]
[null,null,null,null,null,null,null,{"$error":"#N/A"},{"$error":"#N/A"},null,{"$error":"#N/A"},{"$error":"#N/A"},null,{"$error":"#N/A"},{"$error":"#N/A"},null,{"$error":"#N/A"},{"$error":"#N/A"},null,null,null,{"$f":"IF(RawData!A253<>\"\",ROW(RawData!A253),0)","v":253},{"$f":"IF(RawData!A253=\"\",\"blank\",\"\")","v":""}]
[null,null,null,null,null,null,null,{"$error":"#N/A"},{"$error":"#N/A"},null,{"$error":"#N/A"},{"$error":"#N/A"},null,{"$error":"#N/A"},{"$error":"#N/A"},null,{"$error":"#N/A"},{"$error":"#N/A"},null,null,null,{"$f":"IF(RawData!A254<>\"\",ROW(RawData!A254),0)","v":0},{"$f":"IF(RawData!A254=\"\",\"blank\",\"\")","v":"blank"}]
[null,null,null,null,null,null,null,{"$error":"#N/A"},{"$error":"#N/A"},null,{"$error":"#N/A"},{"$error":"#N/A"},null,{"$error":"#N/A"},{"$error":"#N/A"},null,{"$error":"#N/A"},{"$error":"#N/A"},null,null,null,{"$f":"IF(RawData!A255<>\"\",ROW(RawData!A255),0)","v":255},{"$f":"IF(RawData!A255=\"\",\"blank\",\"\")","v":""}]
[null,null,null,null,null,null,null,{"$error":"#N/A"},{"$error":"#N/A"},null,{"$error":"#N/A"},{"$error":"#N/A"},null,{"$error":"#N/A"},{"$error":"#N/A"},null,{"$error":"#N/A"},{"$error":"#N/A"},null,null,null,{"$f":"IF(RawData!A256<>\"\",ROW(RawData!A256),0)","v":256},{"$f":"IF(RawData!A256=\"\",\"blank\",\"\")","v":""}]
[null,null,null,null,null,null,null,{"$error":"#N/A"},{"$error":"#N/A"},null,{"$error":"#N/A"},{"$error":"#N/A"},null,{"$error":"#N/A"},{"$error":"#N/A"},null,{"$error":"#N/A"},{"$error":"#N/A"},null,null,null,{"$f":"IF(RawData!A257<>\"\",ROW(RawData!A257),0)","v":257},{"$f":"IF(RawData!A257=\"\",\"blank\",\"\")","v":""}]
[null,null,null,null,null,null,null,{"$error":"#N/A"},{"$error":"#N/A"},null,{"$error":"#N/A"},{"$error":"#N/A"},null,{"$error":"#N/A"},{"$error":"#N/A"},null,{"$error":"#N/A"},{"$error":"#N/A"},null,null,null,{"$f":"IF(RawData!A258<>\"\",ROW(RawData!A258),0)","v":258},{"$f":"IF(RawData!A258=\"\",\"blank\",\"\")","v":""}]
[null,null,null,null,null,null,null,{"$error":"#N/A"},{"$error":"#N/A"},null,{"$error":"#N/A"},{"$error":"#N/A"},null,{"$error":"#N/A"},{"$error":"#N/A"},null,{"$error":"#N/A"},{"$error":"#N/A"},null,null,null,{"$f":"IF(RawData!A259<>\"\",ROW(RawData!A259),0)","v":259},{"$f":"IF(RawData!A259=\"\",\"blank\",\"\")","v":""}]
[null,null,null,null,null,null,null,{"$error":"#N/A"},{"$error":"#N/A"},null,{"$error":"#N/A"},{"$error":"#N/A"},null,{"$error":"#N/A"},{"$error":"#N/A"},null,{"$error":"#N/A"},{"$error":"#N/A"},null,null,null,{"$f":"IF(RawData!A260<>\"\",ROW(RawData!A260),0)","v":260},{"$f":"IF(RawData!A260=\"\",\"blank\",\"\")","v":""}]
[null,null,null,null,null,null,null,{"$f":"I41&IF(I41=\"-\",\"\", \" used\")","v":"Sensor B, profile 15 used"},null,null,{"$f":"L41&IF(L41=\"-\",\"\", \" used\")","v":"Sensor B, profile 16 used"},null,null,{"$f":"O41&IF(O41=\"-\",\"\", \" used\")","v":"Sensor B, profile 17 used"},null,null,{"$f":"R41&IF(R41=\"-\",\"\", \" used\")","v":"Sensor B, profile 18 used"},null,null,null,null,{"$f":"IF(RawData!A261<>\"\",ROW(RawData!A261),0)","v":261},{"$f":"IF(RawData!A261=\"\",\"blank\",\"\")","v":""}]
[null,null,null,null,null,null,null,{"$f":"H159","v":"Depth [µm]"},{"$f":"I159","v":"Oxygen [%]"},null,{"$f":"K159","v":"Depth [µm]"},{"$f":"L159","v":"Oxygen [%]"},null,{"$f":"N159","v":"Depth [µm]"},{"$f":"O159","v":"Oxygen [%]"},null,{"$f":"Q159","v":"Depth [µm]"},{"$f":"R159","v":"Oxygen [%]"},null,null,null,{"$f":"IF(RawData!A262<>\"\",ROW(RawData!A262),0)","v":262},{"$f":"IF(RawData!A262=\"\",\"blank\",\"\")","v":""}]
[null,null,null,null,null,null,null,{"$f":"IF(ISNUMBER(H160),H160,\"\")","v":""},{"$f":"IF(ISNUMBER(I160),I160,\"\")","v":""},null,{"$f":"IF(ISNUMBER(K160),K160,\"\")","v":""},"",null,{"$f":"IF(ISNUMBER(N160),N160,\"\")","v":""},"",null,{"$f":"IF(ISNUMBER(Q160),Q160,\"\")","v":""},"",null,null,null,{"$f":"IF(RawData!A263<>\"\",ROW(RawData!A263),0)","v":263},{"$f":"IF(RawData!A263=\"\",\"blank\",\"\")","v":""}]
[null,null,null,null,null,null,null,{"$f":"IF(ISNUMBER(H161),H161,\"\")","v":""},"",null,"","",null,"","",null,"","",null,null,null,{"$f":"IF(RawData!A264<>\"\",ROW(RawData!A264),0)","v":264},{"$f":"IF(RawData!A264=\"\",\"blank\",\"\")","v":""}]
[null,null,null,null,null,null,null,"","",null,"","",null,"","",null,"","",null,null,null,{"$f":"IF(RawData!A265<>\"\",ROW(RawData!A265),0)","v":265},{"$f":"IF(RawData!A265=\"\",\"blank\",\"\")","v":""}]
[null,null,null,null,null,null,null,0,21.003,null,0,20.922000000000001,null,0,20.364999999999998,null,0,20.855,null,null,null,{"$f":"IF(RawData!A266<>\"\",ROW(RawData!A266),0)","v":266},{"$f":"IF(RawData!A266=\"\",\"blank\",\"\")","v":""}]
[null,null,null,null,null,null,null,200,20.914000000000001,null,200,20.867999999999999,null,200,19.963999999999999,null,200,20.617000000000001,null,null,null,{"$f":"IF(RawData!A267<>\"\",ROW(RawData!A267),0)","v":267},{"$f":"IF(RawData!A267=\"\",\"blank\",\"\")","v":""}]
[null,null,null,null,null,null,null,400,20.751999999999999,null,400,20.771000000000001,null,400,19.565000000000001,null,400,20.411999999999999,null,null,null,{"$f":"IF(RawData!A268<>\"\",ROW(RawData!A268),0)","v":268},{"$f":"IF(RawData!A268=\"\",\"blank\",\"\")","v":""}]
[null,null,null,null,null,null,null,600,20.657,null,600,20.701000000000001,null,600,19.135000000000002,null,600,20.207000000000001,null,null,null,{"$f":"IF(RawData!A269<>\"\",ROW(RawData!A269),0)","v":0},{"$f":"IF(RawData!A269=\"\",\"blank\",\"\")","v":"blank"}]
[null,null,null,null,null,null,null,800,20.61,null,800,20.646999999999998,null,800,18.707999999999998,null,800,19.969000000000001,null,null,null,{"$f":"IF(RawData!A270<>\"\",ROW(RawData!A270),0)","v":270},{"$f":"IF(RawData!A270=\"\",\"blank\",\"\")","v":""}]
[null,null,null,null,null,null,null,1000,20.501000000000001,null,1000,20.568999999999999,null,1000,18.244,null,1000,19.734000000000002,null,null,null,{"$f":"IF(RawData!A271<>\"\",ROW(RawData!A271),0)","v":271},{"$f":"IF(RawData!A271=\"\",\"blank\",\"\")","v":""}]
[null,null,null,null,null,null,null,1200,20.352,null,1200,20.478999999999999,null,1200,17.815000000000001,null,1200,19.48,null,null,null,{"$f":"IF(RawData!A272<>\"\",ROW(RawData!A272),0)","v":272},{"$f":"IF(RawData!A272=\"\",\"blank\",\"\")","v":""}]
[null,null,null,null,null,null,null,1400,20.265000000000001,null,1400,20.425000000000001,null,1400,17.376000000000001,null,1400,19.286000000000001,null,null,null,{"$f":"IF(RawData!A273<>\"\",ROW(RawData!A273),0)","v":273},{"$f":"IF(RawData!A273=\"\",\"blank\",\"\")","v":""}]
[null,null,null,null,null,null,null,1600,20.204999999999998,null,1600,20.347000000000001,null,1600,16.925000000000001,null,1600,19.05,null,null,null,{"$f":"IF(RawData!A274<>\"\",ROW(RawData!A274),0)","v":274},{"$f":"IF(RawData!A274=\"\",\"blank\",\"\")","v":""}]
[null,null,null,null,null,null,null,1800,20.116,null,1800,20.27,null,1800,16.475000000000001,null,1800,18.824999999999999,null,null,null,{"$f":"IF(RawData!A275<>\"\",ROW(RawData!A275),0)","v":275},{"$f":"IF(RawData!A275=\"\",\"blank\",\"\")","v":""}]
[null,null,null,null,null,null,null,2000,20.013000000000002,null,2000,20.225000000000001,null,2000,15.997999999999999,null,2000,18.565999999999999,null,null,null,{"$f":"IF(RawData!A276<>\"\",ROW(RawData!A276),0)","v":276},{"$f":"IF(RawData!A276=\"\",\"blank\",\"\")","v":""}]
[null,null,null,null,null,null,null,"","",null,"","",null,"","",null,"","",null,null,null,{"$f":"IF(RawData!A277<>\"\",ROW(RawData!A277),0)","v":277},{"$f":"IF(RawData!A277=\"\",\"blank\",\"\")","v":""}]
[null,null,null,null,null,null,null,"","",null,"","",null,"","",null,"","",null,null,null,{"$f":"IF(RawData!A278<>\"\",ROW(RawData!A278),0)","v":278},{"$f":"IF(RawData!A278=\"\",\"blank\",\"\")","v":""}]
[null,null,null,null,null,null,null,"","",null,"","",null,"","",null,"","",null,null,null,{"$f":"IF(RawData!A279<>\"\",ROW(RawData!A279),0)","v":279},{"$f":"IF(RawData!A279=\"\",\"blank\",\"\")","v":""}]
[null,null,null,null,null,null,null,"","",null,"","",null,"","",null,"","",null,null,null,{"$f":"IF(RawData!A280<>\"\",ROW(RawData!A280),0)","v":280},{"$f":"IF(RawData!A280=\"\",\"blank\",\"\")","v":""}]
[null,null,null,null,null,null,null,"","",null,"","",null,"","",null,"","",null,null,null,{"$f":"IF(RawData!A281<>\"\",ROW(RawData!A281),0)","v":281},{"$f":"IF(RawData!A281=\"\",\"blank\",\"\")","v":""}]
[null,null,null,null,null,null,null,"","",null,"","",null,"","",null,"","",null,null,null,{"$f":"IF(RawData!A282<>\"\",ROW(RawData!A282),0)","v":282},{"$f":"IF(RawData!A282=\"\",\"blank\",\"\")","v":""}]
[null,null,null,null,null,null,null,"","",null,{"$f":"IF(ISNUMBER(K180),K180,\"\")","v":""},"",null,{"$f":"IF(ISNUMBER(N180),N180,\"\")","v":""},"",null,{"$f":"IF(ISNUMBER(Q180),Q180,\"\")","v":""},"",null,null,null,{"$f":"IF(RawData!A283<>\"\",ROW(RawData!A283),0)","v":283},{"$f":"IF(RawData!A283=\"\",\"blank\",\"\")","v":""}]
[null,null,null,null,null,null,null,"","",null,"","",null,"","",null,"","",null,null,null,{"$f":"IF(RawData!A284<>\"\",ROW(RawData!A284),0)","v":0},{"$f":"IF(RawData!A284=\"\",\"blank\",\"\")","v":"blank"}]
[null,null,null,null,null,null,null,"","",null,"","",null,"","",null,"","",null,null,null,{"$f":"IF(RawData!A285<>\"\",ROW(RawData!A285),0)","v":285},{"$f":"IF(RawData!A285=\"\",\"blank\",\"\")","v":""}]
[null,null,null,null,null,null,null,"","",null,"","",null,"","",null,"","",null,null,null,{"$f":"IF(RawData!A286<>\"\",ROW(RawData!A286),0)","v":286},{"$f":"IF(RawData!A286=\"\",\"blank\",\"\")","v":""}]
[null,null,null,null,null,null,null,"","",null,"","",null,"","",null,"","",null,null,null,{"$f":"IF(RawData!A287<>\"\",ROW(RawData!A287),0)","v":287},{"$f":"IF(RawData!A287=\"\",\"blank\",\"\")","v":""}]
[null,null,null,null,null,null,null,"","",null,"","",null,"","",null,"","",null,null,null,{"$f":"IF(RawData!A288<>\"\",ROW(RawData!A288),0)","v":288},{"$f":"IF(RawData!A288=\"\",\"blank\",\"\")","v":""}]
[null,null,null,null,null,null,null,"","",null,"","",null,"","",null,"","",null,null,null,{"$f":"IF(RawData!A289<>\"\",ROW(RawData!A289),0)","v":289},{"$f":"IF(RawData!A289=\"\",\"blank\",\"\")","v":""}]
[null,null,null,null,null,null,null,"","",null,"","",null,"","",null,"","",null,null,null,{"$f":"IF(RawData!A290<>\"\",ROW(RawData!A290),0)","v":290},{"$f":"IF(RawData!A290=\"\",\"blank\",\"\")","v":""}]
[null,null,null,null,null,null,null,"","",null,"","",null,"","",null,"","",null,null,null,{"$f":"IF(RawData!A291<>\"\",ROW(RawData!A291),0)","v":291},{"$f":"IF(RawData!A291=\"\",\"blank\",\"\")","v":""}]
[null,null,null,null,null,null,null,"","",null,"","",null,"","",null,"","",null,null,null,{"$f":"IF(RawData!A292<>\"\",ROW(RawData!A292),0)","v":292},{"$f":"IF(RawData!A292=\"\",\"blank\",\"\")","v":""}]
[null,null,null,null,null,null,null,"","",null,"","",null,"","",null,"","",null,null,null,{"$f":"IF(RawData!A293<>\"\",ROW(RawData!A293),0)","v":293},{"$f":"IF(RawData!A293=\"\",\"blank\",\"\")","v":""}]
[null,null,null,null,null,null,null,"","",null,"","",null,"","",null,"","",null,null,null,{"$f":"IF(RawData!A294<>\"\",ROW(RawData!A294),0)","v":294},{"$f":"IF(RawData!A294=\"\",\"blank\",\"\")","v":""}]
[null,null,null,null,null,null,null,"","",null,"","",null,"","",null,"","",null,null,null,{"$f":"IF(RawData!A295<>\"\",ROW(RawData!A295),0)","v":295},{"$f":"IF(RawData!A295=\"\",\"blank\",\"\")","v":""}]
[null,null,null,null,null,null,null,"","",null,"","",null,"","",null,"","",null,null,null,{"$f":"IF(RawData!A296<>\"\",ROW(RawData!A296),0)","v":296},{"$f":"IF(RawData!A296=\"\",\"blank\",\"\")","v":""}]
[null,null,null,null,null,null,null,"","",null,"","",null,"","",null,"","",null,null,null,{"$f":"IF(RawData!A297<>\"\",ROW(RawData!A297),0)","v":297},{"$f":"IF(RawData!A297=\"\",\"blank\",\"\")","v":""}]
[null,null,null,null,null,null,null,"","",null,"","",null,"","",null,"","",null,null,null,{"$f":"IF(RawData!A298<>\"\",ROW(RawData!A298),0)","v":298},{"$f":"IF(RawData!A298=\"\",\"blank\",\"\")","v":""}]
[null,null,null,null,null,null,null,"","",null,"","",null,"","",null,"","",null,null,null,{"$f":"IF(RawData!A299<>\"\",ROW(RawData!A299),0)","v":0},{"$f":"IF(RawData!A299=\"\",\"blank\",\"\")","v":"blank"}]
[null,null,null,null,null,null,null,"","",null,"","",null,"","",null,"","",null,null,null,{"$f":"IF(RawData!A300<>\"\",ROW(RawData!A300),0)","v":300},{"$f":"IF(RawData!A300=\"\",\"blank\",\"\")","v":""}]
[null,null,null,null,null,null,null,"","",null,"","",null,"","",null,"","",null,null,null,{"$f":"IF(RawData!A301<>\"\",ROW(RawData!A301),0)","v":301},{"$f":"IF(RawData!A301=\"\",\"blank\",\"\")","v":""}]
[null,null,null,null,null,null,null,"","",null,"","",null,"","",null,"","",null,null,null,{"$f":"IF(RawData!A302<>\"\",ROW(RawData!A302),0)","v":302},{"$f":"IF(RawData!A302=\"\",\"blank\",\"\")","v":""}]
[null,null,null,null,null,null,null,"","",null,{"$f":"IF(ISNUMBER(K200),K200,\"\")","v":""},"",null,{"$f":"IF(ISNUMBER(N200),N200,\"\")","v":""},"",null,{"$f":"IF(ISNUMBER(Q200),Q200,\"\")","v":""},"",null,null,null,{"$f":"IF(RawData!A303<>\"\",ROW(RawData!A303),0)","v":303},{"$f":"IF(RawData!A303=\"\",\"blank\",\"\")","v":""}]
[null,null,null,null,null,null,null,"","",null,"","",null,"","",null,"","",null,null,null,{"$f":"IF(RawData!A304<>\"\",ROW(RawData!A304),0)","v":304},{"$f":"IF(RawData!A304=\"\",\"blank\",\"\")","v":""}]
[null,null,null,null,null,null,null,"","",null,"","",null,"","",null,"","",null,null,null,{"$f":"IF(RawData!A305<>\"\",ROW(RawData!A305),0)","v":305},{"$f":"IF(RawData!A305=\"\",\"blank\",\"\")","v":""}]
[null,null,null,null,null,null,null,"","",null,"","",null,"","",null,"","",null,null,null,{"$f":"IF(RawData!A306<>\"\",ROW(RawData!A306),0)","v":306},{"$f":"IF(RawData!A306=\"\",\"blank\",\"\")","v":""}]
[null,null,null,null,null,null,null,"","",null,"","",null,"","",null,"","",null,null,null,{"$f":"IF(RawData!A307<>\"\",ROW(RawData!A307),0)","v":307},{"$f":"IF(RawData!A307=\"\",\"blank\",\"\")","v":""}]
[null,null,null,null,null,null,null,"","",null,"","",null,"","",null,"","",null,null,null,{"$f":"IF(RawData!A308<>\"\",ROW(RawData!A308),0)","v":308},{"$f":"IF(RawData!A308=\"\",\"blank\",\"\")","v":""}]
[null,null,null,null,null,null,null,"","",null,"","",null,"","",null,"","",null,null,null,{"$f":"IF(RawData!A309<>\"\",ROW(RawData!A309),0)","v":309},{"$f":"IF(RawData!A309=\"\",\"blank\",\"\")","v":""}]
[null,null,null,null,null,null,null,"","",null,"","",null,"","",null,"","",null,null,null,{"$f":"IF(RawData!A310<>\"\",ROW(RawData!A310),0)","v":310},{"$f":"IF(RawData!A310=\"\",\"blank\",\"\")","v":""}]
[null,null,null,null,null,null,null,"","",null,"","",null,"","",null,"","",null,null,null,{"$f":"IF(RawData!A311<>\"\",ROW(RawData!A311),0)","v":311},{"$f":"IF(RawData!A311=\"\",\"blank\",\"\")","v":""}]
[null,null,null,null,null,null,null,"","",null,"","",null,"","",null,"","",null,null,null,{"$f":"IF(RawData!A312<>\"\",ROW(RawData!A312),0)","v":312},{"$f":"IF(RawData!A312=\"\",\"blank\",\"\")","v":""}]
[null,null,null,null,null,null,null,"","",null,"","",null,"","",null,"","",null,null,null,{"$f":"IF(RawData!A313<>\"\",ROW(RawData!A313),0)","v":313},{"$f":"IF(RawData!A313=\"\",\"blank\",\"\")","v":""}]
[null,null,null,null,null,null,null,"","",null,"","",null,"","",null,"","",null,null,null,{"$f":"IF(RawData!A314<>\"\",ROW(RawData!A314),0)","v":0},{"$f":"IF(RawData!A314=\"\",\"blank\",\"\")","v":"blank"}]
[null,null,null,null,null,null,null,"","",null,"","",null,"","",null,"","",null,null,null,{"$f":"IF(RawData!A315<>\"\",ROW(RawData!A315),0)","v":0},{"$f":"IF(RawData!A315=\"\",\"blank\",\"\")","v":"blank"}]
[null,null,null,null,null,null,null,"","",null,"","",null,"","",null,"","",null,null,null,{"$f":"IF(RawData!A316<>\"\",ROW(RawData!A316),0)","v":0},{"$f":"IF(RawData!A316=\"\",\"blank\",\"\")","v":"blank"}]
[null,null,null,null,null,null,null,"","",null,"","",null,"","",null,"","",null,null,null,{"$f":"IF(RawData!A317<>\"\",ROW(RawData!A317),0)","v":0},{"$f":"IF(RawData!A317=\"\",\"blank\",\"\")","v":"blank"}]
[null,null,null,null,null,null,null,"","",null,"","",null,"","",null,"","",null,null,null,{"$f":"IF(RawData!A318<>\"\",ROW(RawData!A318),0)","v":0},{"$f":"IF(RawData!A318=\"\",\"blank\",\"\")","v":"blank"}]
[null,null,null,null,null,null,null,"","",null,"","",null,"","",null,"","",null,null,null,{"$f":"IF(RawData!A319<>\"\",ROW(RawData!A319),0)","v":0},{"$f":"IF(RawData!A319=\"\",\"blank\",\"\")","v":"blank"}]
[null,null,null,null,null,null,null,"","",null,"","",null,"","",null,"","",null,null,null,{"$f":"IF(RawData!A320<>\"\",ROW(RawData!A320),0)","v":0},{"$f":"IF(RawData!A320=\"\",\"blank\",\"\")","v":"blank"}]
[null,null,null,null,null,null,null,"","",null,"","",null,"","",null,"","",null,null,null,{"$f":"IF(RawData!A321<>\"\",ROW(RawData!A321),0)","v":0},{"$f":"IF(RawData!A321=\"\",\"blank\",\"\")","v":"blank"}]
[null,null,null,null,null,null,null,"","",null,"","",null,"","",null,"","",null,null,null,{"$f":"IF(RawData!A322<>\"\",ROW(RawData!A322),0)","v":0},{"$f":"IF(RawData!A322=\"\",\"blank\",\"\")","v":"blank"}]
[null,null,null,null,null,null,null,"","",null,{"$f":"IF(ISNUMBER(K220),K220,\"\")","v":""},"",null,{"$f":"IF(ISNUMBER(N220),N220,\"\")","v":""},"",null,{"$f":"IF(ISNUMBER(Q220),Q220,\"\")","v":""},"",null,null,null,{"$f":"IF(RawData!A323<>\"\",ROW(RawData!A323),0)","v":0},{"$f":"IF(RawData!A323=\"\",\"blank\",\"\")","v":"blank"}]
[null,null,null,null,null,null,null,"","",null,"","",null,"","",null,"","",null,null,null,{"$f":"IF(RawData!A324<>\"\",ROW(RawData!A324),0)","v":0},{"$f":"IF(RawData!A324=\"\",\"blank\",\"\")","v":"blank"}]
[null,null,null,null,null,null,null,"","",null,"","",null,"","",null,"","",null,null,null,{"$f":"IF(RawData!A325<>\"\",ROW(RawData!A325),0)","v":0},{"$f":"IF(RawData!A325=\"\",\"blank\",\"\")","v":"blank"}]
[null,null,null,null,null,null,null,"","",null,"","",null,"","",null,"","",null,null,null,{"$f":"IF(RawData!A326<>\"\",ROW(RawData!A326),0)","v":0},{"$f":"IF(RawData!A326=\"\",\"blank\",\"\")","v":"blank"}]
[null,null,null,null,null,null,null,"","",null,"","",null,"","",null,"","",null,null,null,{"$f":"IF(RawData!A327<>\"\",ROW(RawData!A327),0)","v":0},{"$f":"IF(RawData!A327=\"\",\"blank\",\"\")","v":"blank"}]
[null,null,null,null,null,null,null,{"$f":"IF(ISNUMBER(H225),H225,\"\")","v":""},"",null,"","",null,"","",null,"","",null,null,null,{"$f":"IF(RawData!A328<>\"\",ROW(RawData!A328),0)","v":0},{"$f":"IF(RawData!A328=\"\",\"blank\",\"\")","v":"blank"}]
[null,null,null,null,null,null,null,"","",null,"","",null,"","",null,"","",null,null,null,{"$f":"IF(RawData!A329<>\"\",ROW(RawData!A329),0)","v":0},{"$f":"IF(RawData!A329=\"\",\"blank\",\"\")","v":"blank"}]
[null,null,null,null,null,null,null,"","",null,"","",null,"","",null,"","",null,null,null,{"$f":"IF(RawData!A330<>\"\",ROW(RawData!A330),0)","v":0},{"$f":"IF(RawData!A330=\"\",\"blank\",\"\")","v":"blank"}]
[null,null,null,null,null,null,null,"","",null,"","",null,"","",null,"","",null,null,null,{"$f":"IF(RawData!A331<>\"\",ROW(RawData!A331),0)","v":0},{"$f":"IF(RawData!A331=\"\",\"blank\",\"\")","v":"blank"}]
[null,null,null,null,null,null,null,"","",null,"","",null,"","",null,"","",null,null,null,{"$f":"IF(RawData!A332<>\"\",ROW(RawData!A332),0)","v":0},{"$f":"IF(RawData!A332=\"\",\"blank\",\"\")","v":"blank"}]
[null,null,null,null,null,null,null,"","",null,"","",null,"","",null,"","",null,null,null,{"$f":"IF(RawData!A333<>\"\",ROW(RawData!A333),0)","v":0},{"$f":"IF(RawData!A333=\"\",\"blank\",\"\")","v":"blank"}]
[null,null,null,null,null,null,null,"","",null,"","",null,"","",null,"","",null,null,null,{"$f":"IF(RawData!A334<>\"\",ROW(RawData!A334),0)","v":0},{"$f":"IF(RawData!A334=\"\",\"blank\",\"\")","v":"blank"}]
[null,null,null,null,null,null,null,"","",null,"","",null,"","",null,"","",null,null,null,{"$f":"IF(RawData!A335<>\"\",ROW(RawData!A335),0)","v":0},{"$f":"IF(RawData!A335=\"\",\"blank\",\"\")","v":"blank"}]
[null,null,null,null,null,null,null,"","",null,"","",null,"","",null,"","",null,null,null,{"$f":"IF(RawData!A336<>\"\",ROW(RawData!A336),0)","v":0},{"$f":"IF(RawData!A336=\"\",\"blank\",\"\")","v":"blank"}]
[null,null,null,null,null,null,null,"","",null,"","",null,"","",null,"","",null,null,null,{"$f":"IF(RawData!A337<>\"\",ROW(RawData!A337),0)","v":0},{"$f":"IF(RawData!A337=\"\",\"blank\",\"\")","v":"blank"}]
[null,null,null,null,null,null,null,"","",null,"","",null,"","",null,"","",null,null,null,{"$f":"IF(RawData!A338<>\"\",ROW(RawData!A338),0)","v":0},{"$f":"IF(RawData!A338=\"\",\"blank\",\"\")","v":"blank"}]
[null,null,null,null,null,null,null,"","",null,"","",null,"","",null,"","",null,null,null,{"$f":"IF(RawData!A339<>\"\",ROW(RawData!A339),0)","v":0},{"$f":"IF(RawData!A339=\"\",\"blank\",\"\")","v":"blank"}]
[null,null,null,null,null,null,null,"","",null,"","",null,"","",null,"","",null,null,null,{"$f":"IF(RawData!A340<>\"\",ROW(RawData!A340),0)","v":0},{"$f":"IF(RawData!A340=\"\",\"blank\",\"\")","v":"blank"}]
[null,null,null,null,null,null,null,"","",null,"","",null,"","",null,"","",null,null,null,{"$f":"IF(RawData!A341<>\"\",ROW(RawData!A341),0)","v":0},{"$f":"IF(RawData!A341=\"\",\"blank\",\"\")","v":"blank"}]
[null,null,null,null,null,null,null,"","",null,"","",null,"","",null,"","",null,null,null,{"$f":"IF(RawData!A342<>\"\",ROW(RawData!A342),0)","v":0},{"$f":"IF(RawData!A342=\"\",\"blank\",\"\")","v":"blank"}]
[null,null,null,null,null,null,null,"","",null,{"$f":"IF(ISNUMBER(K240),K240,\"\")","v":""},"",null,{"$f":"IF(ISNUMBER(N240),N240,\"\")","v":""},"",null,{"$f":"IF(ISNUMBER(Q240),Q240,\"\")","v":""},"",null,null,null,{"$f":"IF(RawData!A343<>\"\",ROW(RawData!A343),0)","v":0},{"$f":"IF(RawData!A343=\"\",\"blank\",\"\")","v":"blank"}]
[null,null,null,null,null,null,null,"","",null,"","",null,"","",null,"","",null,null,null,{"$f":"IF(RawData!A344<>\"\",ROW(RawData!A344),0)","v":0},{"$f":"IF(RawData!A344=\"\",\"blank\",\"\")","v":"blank"}]
[null,null,null,null,null,null,null,"","",null,"","",null,"","",null,"","",null,null,null,{"$f":"IF(RawData!A345<>\"\",ROW(RawData!A345),0)","v":0},{"$f":"IF(RawData!A345=\"\",\"blank\",\"\")","v":"blank"}]
[null,null,null,null,null,null,null,"","",null,"","",null,"","",null,"","",null,null,null,{"$f":"IF(RawData!A346<>\"\",ROW(RawData!A346),0)","v":0},{"$f":"IF(RawData!A346=\"\",\"blank\",\"\")","v":"blank"}]
[null,null,null,null,null,null,null,"","",null,"","",null,"","",null,"","",null,null,null,{"$f":"IF(RawData!A347<>\"\",ROW(RawData!A347),0)","v":0},{"$f":"IF(RawData!A347=\"\",\"blank\",\"\")","v":"blank"}]
[null,null,null,null,null,null,null,"","",null,"","",null,"","",null,"","",null,null,null,{"$f":"IF(RawData!A348<>\"\",ROW(RawData!A348),0)","v":0},{"$f":"IF(RawData!A348=\"\",\"blank\",\"\")","v":"blank"}]
[null,null,null,null,null,null,null,"","",null,"","",null,"","",null,"","",null,null,null,{"$f":"IF(RawData!A349<>\"\",ROW(RawData!A349),0)","v":0},{"$f":"IF(RawData!A349=\"\",\"blank\",\"\")","v":"blank"}]
[null,null,null,null,null,null,null,"","",null,"","",null,"","",null,"","",null,null,null,{"$f":"IF(RawData!A350<>\"\",ROW(RawData!A350),0)","v":0},{"$f":"IF(RawData!A350=\"\",\"blank\",\"\")","v":"blank"}]
[null,null,null,null,null,null,null,"","",null,"","",null,"","",null,"","",null,null,null,{"$f":"IF(RawData!A351<>\"\",ROW(RawData!A351),0)","v":0},{"$f":"IF(RawData!A351=\"\",\"blank\",\"\")","v":"blank"}]
[null,null,null,null,null,null,null,"","",null,"","",null,"","",null,"","",null,null,null,{"$f":"IF(RawData!A352<>\"\",ROW(RawData!A352),0)","v":0},{"$f":"IF(RawData!A352=\"\",\"blank\",\"\")","v":"blank"}]
[null,null,null,null,null,null,null,"","",null,"","",null,"","",null,"","",null,null,null,{"$f":"IF(RawData!A353<>\"\",ROW(RawData!A353),0)","v":0},{"$f":"IF(RawData!A353=\"\",\"blank\",\"\")","v":"blank"}]
[null,null,null,null,null,null,null,"","",null,"","",null,"","",null,"","",null,null,null,{"$f":"IF(RawData!A354<>\"\",ROW(RawData!A354),0)","v":0},{"$f":"IF(RawData!A354=\"\",\"blank\",\"\")","v":"blank"}]
[null,null,null,null,null,null,null,"","",null,"","",null,"","",null,"","",null,null,null,{"$f":"IF(RawData!A355<>\"\",ROW(RawData!A355),0)","v":0},{"$f":"IF(RawData!A355=\"\",\"blank\",\"\")","v":"blank"}]
[null,null,null,null,null,null,null,"","",null,"","",null,"","",null,"","",null,null,null,{"$f":"IF(RawData!A356<>\"\",ROW(RawData!A356),0)","v":0},{"$f":"IF(RawData!A356=\"\",\"blank\",\"\")","v":"blank"}]
[null,null,null,null,null,null,null,"","",null,"","",null,"","",null,"","",null,null,null,{"$f":"IF(RawData!A357<>\"\",ROW(RawData!A357),0)","v":0},{"$f":"IF(RawData!A357=\"\",\"blank\",\"\")","v":"blank"}]
[null,null,null,null,null,null,null,"","",null,"","",null,"","",null,"","",null,null,null,{"$f":"IF(RawData!A358<>\"\",ROW(RawData!A358),0)","v":0},{"$f":"IF(RawData!A358=\"\",\"blank\",\"\")","v":"blank"}]
[null,null,null,null,null,null,null,"","",null,"","",null,"","",null,"","",null,null,null,{"$f":"IF(RawData!A359<>\"\",ROW(RawData!A359),0)","v":0},{"$f":"IF(RawData!A359=\"\",\"blank\",\"\")","v":"blank"}]
[null,null,null,null,null,null,null,"","",null,"","",null,"","",null,"","",null,null,null,{"$f":"IF(RawData!A360<>\"\",ROW(RawData!A360),0)","v":0},{"$f":"IF(RawData!A360=\"\",\"blank\",\"\")","v":"blank"}]
[null,null,null,null,null,null,null,"","",null,"","",null,"","",null,"","",null,null,null,{"$f":"IF(RawData!A361<>\"\",ROW(RawData!A361),0)","v":0},{"$f":"IF(RawData!A361=\"\",\"blank\",\"\")","v":"blank"}]
[null,null,null,null,null,null,null,"","",null,"","",null,"","",null,"","",null,"alle",null,{"$f":"IF(RawData!A362<>\"\",ROW(RawData!A362),0)","v":0},{"$f":"IF(RawData!A362=\"\",\"blank\",\"\")","v":"blank"}]
[null,null,null,null,null,null,null,"","",null,{"$f":"IF(ISNUMBER(K260),K260,\"\")","v":""},{"$f":"IF(ISNUMBER(L260),L260,\"\")","v":""},null,{"$f":"IF(ISNUMBER(N260),N260,\"\")","v":""},{"$f":"IF(ISNUMBER(O260),O260,\"\")","v":""},null,{"$f":"IF(ISNUMBER(Q260),Q260,\"\")","v":""},{"$f":"IF(ISNUMBER(R260),R260,\"\")","v":""},null,{"$f":"MIN(R364,O364,L364,I364)","v":-600}]
[null,null,null,null,null,null,null,"min",{"$f":"MIN(H57:H157)","v":-600},null,null,{"$f":"MIN(K57:K157)","v":-600},null,null,{"$f":"MIN(N57:N157)","v":-600},null,null,{"$f":"MIN(Q57:Q157)","v":-600},null,{"$f":"MAX(R365,O365,L365,I365)","v":2000}]
[null,null,null,null,null,null,null,"max",{"$f":"MAX(H57:H157)","v":2000},null,null,{"$f":"MAX(K57:K157)","v":2000},null,null,{"$f":"MAX(N57:N157)","v":2000},null,null,{"$f":"MAX(Q57:Q157)","v":2000},null,null,null,{"$f":"IF(RawData!A363<>\"\",ROW(RawData!A363),0)","v":0},{"$f":"IF(RawData!A363=\"\",\"blank\",\"\")","v":"blank"}]
[null,null,null,null,null,null,null,"linear korrelation",null,null,"linear korrelation",null,null,"linear korrelation",null,null,"linear korrelation"]
[null,null,null,null,null,null,null,{"$f":"\"linear (\"&H261&\")\"","v":"linear (Sensor B, profile 15 used)"},null,null,{"$f":"\"linear (\"&K261&\")\"","v":"linear (Sensor B, profile 16 used)"},null,null,{"$f":"\"linear (\"&N261&\")\"","v":"linear (Sensor B, profile 17 used)"},null,null,{"$f":"\"linear (\"&Q261&\")\"","v":"linear (Sensor B, profile 18 used)"},null,null,null,null,{"$f":"IF(RawData!A364<>\"\",ROW(RawData!A364),0)","v":0},{"$f":"IF(RawData!A364=\"\",\"blank\",\"\")","v":"blank"}]
[null,null,null,null,null,null,null,"slope",{"$f":"SLOPE(I263:I363,H263:H363)","v":-4.9204545454545453E-4},null,"slope",{"$f":"SLOPE(L263:L363,K263:K363)","v":-3.576818181818177E-4},null,"slope",{"$f":"SLOPE(O263:O363,N263:N363)","v":-2.1873636363636357E-3},null,"slope",{"$f":"SLOPE(R263:R363,Q263:Q363)","v":-1.1377272727272731E-3},null,null,null,{"$f":"IF(RawData!A365<>\"\",ROW(RawData!A365),0)","v":0},{"$f":"IF(RawData!A365=\"\",\"blank\",\"\")","v":"blank"}]
[null,null,null,null,null,null,null,"intercept",{"$f":"INTERCEPT(I263:I363,H263:H363)","v":20.981863636363631},null,"intercept",{"$f":"INTERCEPT(L263:L363,K263:K363)","v":20.923500000000001},null,"intercept",{"$f":"INTERCEPT(O263:O363,N263:N363)","v":20.420999999999999},null,"intercept",{"$f":"INTERCEPT(R263:R363,Q263:Q363)","v":20.86509090909091},null,null,null,{"$f":"IF(RawData!A366<>\"\",ROW(RawData!A366),0)","v":0},{"$f":"IF(RawData!A366=\"\",\"blank\",\"\")","v":"blank"}]
[null,null,null,null,null,null,null,"Depth (µm)","Konc.",null,"Depth (µm)","Konc.",null,"Depth (µm)","Konc.",null,"Depth (µm)","Konc.",null,null,null,{"$f":"IF(RawData!A367<>\"\",ROW(RawData!A367),0)","v":0},{"$f":"IF(RawData!A367=\"\",\"blank\",\"\")","v":"blank"}]
[null,null,null,null,null,null,null,{"$f":"I371*I$368 +I$369","v":21.237727272727266},{"$f":"I46-($T$364-$T$363)*I$45","v":-520},null,{"$f":"L371*L$368 +L$369","v":21.109494545454545},{"$f":"L46-($T$364-$T$363)*L$45","v":-520},null,{"$f":"O371*O$368 +O$369","v":21.55842909090909},{"$f":"O46-($T$364-$T$363)*O$45","v":-520},null,{"$f":"R371*R$368 +R$369","v":21.45670909090909},{"$f":"R46-($T$364-$T$363)*R$45","v":-520},null,null,null,{"$f":"IF(RawData!A368<>\"\",ROW(RawData!A368),0)","v":0},{"$f":"IF(RawData!A368=\"\",\"blank\",\"\")","v":"blank"}]
[null,null,null,null,null,null,null,{"$f":"I372*I$368 +I$369","v":19.741909090909086},{"$f":"I47+($T$364-$T$363)*I$45","v":2520},null,{"$f":"L372*L$368 +L$369","v":20.022141818181819},{"$f":"L47+($T$364-$T$363)*L$45","v":2520},null,{"$f":"O372*O$368 +O$369","v":14.908843636363638},{"$f":"O47+($T$364-$T$363)*O$45","v":2520},null,{"$f":"R372*R$368 +R$369","v":17.998018181818182},{"$f":"R47+($T$364-$T$363)*R$45","v":2520},null,null,null,{"$f":"IF(RawData!A369<>\"\",ROW(RawData!A369),0)","v":0},{"$f":"IF(RawData!A369=\"\",\"blank\",\"\")","v":"blank"}]
[null,null,null,null,null,null,null,null,null,null,null,null,null,null,null,null,null,null,null,null,null,{"$f":"IF(RawData!A370<>\"\",ROW(RawData!A370),0)","v":0},{"$f":"IF(RawData!A370=\"\",\"blank\",\"\")","v":"blank"}]
[null,null,null,null,null,null,null,null,null,null,null,null,null,null,null,null,null,null,null,null,null,{"$f":"IF(RawData!A371<>\"\",ROW(RawData!A371),0)","v":0},{"$f":"IF(RawData!A371=\"\",\"blank\",\"\")","v":"blank"}]
[null,null,null,null,null,null,null,null,null,null,null,null,null,null,null,null,null,null,null,null,null,{"$f":"IF(RawData!A372<>\"\",ROW(RawData!A372),0)","v":0},{"$f":"IF(RawData!A372=\"\",\"blank\",\"\")","v":"blank"}]
[null,null,null,null,null,null,null,null,null,null,null,null,null,null,null,null,null,null,null,null,null,{"$f":"IF(RawData!A373<>\"\",ROW(RawData!A373),0)","v":0},{"$f":"IF(RawData!A373=\"\",\"blank\",\"\")","v":"blank"}]
[null,null,null,null,null,null,null,null,null,null,null,null,null,null,null,null,null,null,null,null,null,{"$f":"IF(RawData!A374<>\"\",ROW(RawData!A374),0)","v":0},{"$f":"IF(RawData!A374=\"\",\"blank\",\"\")","v":"blank"}]
[null,null,null,null,null,null,null,null,null,null,null,null,null,null,null,null,null,null,null,null,null,{"$f":"IF(RawData!A375<>\"\",ROW(RawData!A375),0)","v":0},{"$f":"IF(RawData!A375=\"\",\"blank\",\"\")","v":"blank"}]
[null,null,null,null,null,null,null,null,null,null,null,null,null,null,null,null,null,null,null,null,null,{"$f":"IF(RawData!A376<>\"\",ROW(RawData!A376),0)","v":0},{"$f":"IF(RawData!A376=\"\",\"blank\",\"\")","v":"blank"}]
[null,null,null,null,null,null,null,null,null,null,null,null,null,null,null,null,null,null,null,null,null,{"$f":"IF(RawData!A377<>\"\",ROW(RawData!A377),0)","v":0},{"$f":"IF(RawData!A377=\"\",\"blank\",\"\")","v":"blank"}]
[null,null,null,null,null,null,null,null,null,null,null,null,null,null,null,null,null,null,null,null,null,{"$f":"IF(RawData!A378<>\"\",ROW(RawData!A378),0)","v":0},{"$f":"IF(RawData!A378=\"\",\"blank\",\"\")","v":"blank"}]
[null,null,null,null,null,null,null,null,null,null,null,null,null,null,null,null,null,null,null,null,null,{"$f":"IF(RawData!A379<>\"\",ROW(RawData!A379),0)","v":0},{"$f":"IF(RawData!A379=\"\",\"blank\",\"\")","v":"blank"}]
[null,null,null,null,null,null,null,null,null,null,null,null,null,null,null,null,null,null,null,null,null,{"$f":"IF(RawData!A380<>\"\",ROW(RawData!A380),0)","v":0},{"$f":"IF(RawData!A380=\"\",\"blank\",\"\")","v":"blank"}]
[null,null,null,null,null,null,null,null,null,null,null,null,null,null,null,null,null,null,null,null,null,{"$f":"IF(RawData!A381<>\"\",ROW(RawData!A381),0)","v":0},{"$f":"IF(RawData!A381=\"\",\"blank\",\"\")","v":"blank"}]
[null,null,null,null,null,null,null,null,null,null,null,null,null,null,null,null,null,null,null,null,null,{"$f":"IF(RawData!A382<>\"\",ROW(RawData!A382),0)","v":0},{"$f":"IF(RawData!A382=\"\",\"blank\",\"\")","v":"blank"}]
[null,null,null,null,null,null,null,null,null,null,null,null,null,null,null,null,null,null,null,null,null,{"$f":"IF(RawData!A383<>\"\",ROW(RawData!A383),0)","v":0},{"$f":"IF(RawData!A383=\"\",\"blank\",\"\")","v":"blank"}]
[null,null,null,null,null,null,null,null,null,null,null,null,null,null,null,null,null,null,null,null,null,{"$f":"IF(RawData!A384<>\"\",ROW(RawData!A384),0)","v":0},{"$f":"IF(RawData!A384=\"\",\"blank\",\"\")","v":"blank"}]
[null,null,null,null,null,null,null,null,null,null,null,null,null,null,null,null,null,null,null,null,null,{"$f":"IF(RawData!A385<>\"\",ROW(RawData!A385),0)","v":0},{"$f":"IF(RawData!A385=\"\",\"blank\",\"\")","v":"blank"}]
[null,null,null,null,null,null,null,null,null,null,null,null,null,null,null,null,null,null,null,null,null,{"$f":"IF(RawData!A386<>\"\",ROW(RawData!A386),0)","v":0},{"$f":"IF(RawData!A386=\"\",\"blank\",\"\")","v":"blank"}]
[null,null,null,null,null,null,null,null,null,null,null,null,null,null,null,null,null,null,null,null,null,{"$f":"IF(RawData!A387<>\"\",ROW(RawData!A387),0)","v":0},{"$f":"IF(RawData!A387=\"\",\"blank\",\"\")","v":"blank"}]
[null,null,null,null,null,null,null,null,null,null,null,null,null,null,null,null,null,null,null,null,null,{"$f":"IF(RawData!A388<>\"\",ROW(RawData!A388),0)","v":0},{"$f":"IF(RawData!A388=\"\",\"blank\",\"\")","v":"blank"}]
[null,null,null,null,null,null,null,null,null,null,null,null,null,null,null,null,null,null,null,null,null,{"$f":"IF(RawData!A389<>\"\",ROW(RawData!A389),0)","v":0},{"$f":"IF(RawData!A389=\"\",\"blank\",\"\")","v":"blank"}]
[null,null,null,null,null,null,null,null,null,null,null,null,null,null,null,null,null,null,null,null,null,{"$f":"IF(RawData!A390<>\"\",ROW(RawData!A390),0)","v":0},{"$f":"IF(RawData!A390=\"\",\"blank\",\"\")","v":"blank"}]
[null,null,null,null,null,null,null,null,null,null,null,null,null,null,null,null,null,null,null,null,null,{"$f":"IF(RawData!A391<>\"\",ROW(RawData!A391),0)","v":0},{"$f":"IF(RawData!A391=\"\",\"blank\",\"\")","v":"blank"}]
[null,null,null,null,null,null,null,null,null,null,null,null,null,null,null,null,null,null,null,null,null,{"$f":"IF(RawData!A392<>\"\",ROW(RawData!A392),0)","v":0},{"$f":"IF(RawData!A392=\"\",\"blank\",\"\")","v":"blank"}]
[null,null,null,null,null,null,null,null,null,null,null,null,null,null,null,null,null,null,null,null,null,{"$f":"IF(RawData!A393<>\"\",ROW(RawData!A393),0)","v":0},{"$f":"IF(RawData!A393=\"\",\"blank\",\"\")","v":"blank"}]
[null,null,null,null,null,null,null,null,null,null,null,null,null,null,null,null,null,null,null,null,null,{"$f":"IF(RawData!A394<>\"\",ROW(RawData!A394),0)","v":0},{"$f":"IF(RawData!A394=\"\",\"blank\",\"\")","v":"blank"}]
[null,null,null,null,null,null,null,null,null,null,null,null,null,null,null,null,null,null,null,null,null,{"$f":"IF(RawData!A395<>\"\",ROW(RawData!A395),0)","v":0},{"$f":"IF(RawData!A395=\"\",\"blank\",\"\")","v":"blank"}]
[null,null,null,null,null,null,null,null,null,null,null,null,null,null,null,null,null,null,null,null,null,{"$f":"IF(RawData!A396<>\"\",ROW(RawData!A396),0)","v":0},{"$f":"IF(RawData!A396=\"\",\"blank\",\"\")","v":"blank"}]
[null,null,null,null,null,null,null,null,null,null,null,null,null,null,null,null,null,null,null,null,null,{"$f":"IF(RawData!A397<>\"\",ROW(RawData!A397),0)","v":0},{"$f":"IF(RawData!A397=\"\",\"blank\",\"\")","v":"blank"}]
[null,null,null,null,null,null,null,null,null,null,null,null,null,null,null,null,null,null,null,null,null,{"$f":"IF(RawData!A398<>\"\",ROW(RawData!A398),0)","v":0},{"$f":"IF(RawData!A398=\"\",\"blank\",\"\")","v":"blank"}]
[null,null,null,null,null,null,null,null,null,null,null,null,null,null,null,null,null,null,null,null,null,{"$f":"IF(RawData!A399<>\"\",ROW(RawData!A399),0)","v":0},{"$f":"IF(RawData!A399=\"\",\"blank\",\"\")","v":"blank"}]
[null,null,null,null,null,null,null,null,null,null,null,null,null,null,null,null,null,null,null,null,null,{"$f":"IF(RawData!A400<>\"\",ROW(RawData!A400),0)","v":0},{"$f":"IF(RawData!A400=\"\",\"blank\",\"\")","v":"blank"}]
[null,null,null,null,null,null,null,null,null,null,null,null,null,null,null,null,null,null,null,null,null,{"$f":"IF(RawData!A401<>\"\",ROW(RawData!A401),0)","v":0},{"$f":"IF(RawData!A401=\"\",\"blank\",\"\")","v":"blank"}]
[null,null,null,null,null,null,null,null,null,null,null,null,null,null,null,null,null,null,null,null,null,{"$f":"IF(RawData!A402<>\"\",ROW(RawData!A402),0)","v":0},{"$f":"IF(RawData!A402=\"\",\"blank\",\"\")","v":"blank"}]
[null,null,null,null,null,null,null,null,null,null,null,null,null,null,null,null,null,null,null,null,null,{"$f":"IF(RawData!A403<>\"\",ROW(RawData!A403),0)","v":0},{"$f":"IF(RawData!A403=\"\",\"blank\",\"\")","v":"blank"}]
[null,null,null,null,null,null,null,null,null,null,null,null,null,null,null,null,null,null,null,null,null,{"$f":"IF(RawData!A404<>\"\",ROW(RawData!A404),0)","v":0},{"$f":"IF(RawData!A404=\"\",\"blank\",\"\")","v":"blank"}]
[null,null,null,null,null,null,null,null,null,null,null,null,null,null,null,null,null,null,null,null,null,{"$f":"IF(RawData!A405<>\"\",ROW(RawData!A405),0)","v":0},{"$f":"IF(RawData!A405=\"\",\"blank\",\"\")","v":"blank"}]
[null,null,null,null,null,null,null,null,null,null,null,null,null,null,null,null,null,null,null,null,null,{"$f":"IF(RawData!A406<>\"\",ROW(RawData!A406),0)","v":0},{"$f":"IF(RawData!A406=\"\",\"blank\",\"\")","v":"blank"}]
[null,null,null,null,null,null,null,null,null,null,null,null,null,null,null,null,null,null,null,null,null,{"$f":"IF(RawData!A407<>\"\",ROW(RawData!A407),0)","v":0},{"$f":"IF(RawData!A407=\"\",\"blank\",\"\")","v":"blank"}]
[null,null,null,null,null,null,null,null,null,null,null,null,null,null,null,null,null,null,null,null,null,{"$f":"IF(RawData!A408<>\"\",ROW(RawData!A408),0)","v":0},{"$f":"IF(RawData!A408=\"\",\"blank\",\"\")","v":"blank"}]
[null,null,null,null,null,null,null,null,null,null,null,null,null,null,null,null,null,null,null,null,null,{"$f":"IF(RawData!A409<>\"\",ROW(RawData!A409),0)","v":0},{"$f":"IF(RawData!A409=\"\",\"blank\",\"\")","v":"blank"}]
[null,null,null,null,null,null,null,null,null,null,null,null,null,null,null,null,null,null,null,null,null,{"$f":"IF(RawData!A410<>\"\",ROW(RawData!A410),0)","v":0},{"$f":"IF(RawData!A410=\"\",\"blank\",\"\")","v":"blank"}]
[null,null,null,null,null,null,null,null,null,null,null,null,null,null,null,null,null,null,null,null,null,{"$f":"IF(RawData!A411<>\"\",ROW(RawData!A411),0)","v":0},{"$f":"IF(RawData!A411=\"\",\"blank\",\"\")","v":"blank"}]
[null,null,null,null,null,null,null,null,null,null,null,null,null,null,null,null,null,null,null,null,null,{"$f":"IF(RawData!A412<>\"\",ROW(RawData!A412),0)","v":0},{"$f":"IF(RawData!A412=\"\",\"blank\",\"\")","v":"blank"}]
[null,null,null,null,null,null,null,null,null,null,null,null,null,null,null,null,null,null,null,null,null,{"$f":"IF(RawData!A413<>\"\",ROW(RawData!A413),0)","v":0},{"$f":"IF(RawData!A413=\"\",\"blank\",\"\")","v":"blank"}]
[null,null,null,null,null,null,null,null,null,null,null,null,null,null,null,null,null,null,null,null,null,{"$f":"IF(RawData!A414<>\"\",ROW(RawData!A414),0)","v":0},{"$f":"IF(RawData!A414=\"\",\"blank\",\"\")","v":"blank"}]
[null,null,null,null,null,null,null,null,null,null,null,null,null,null,null,null,null,null,null,null,null,{"$f":"IF(RawData!A415<>\"\",ROW(RawData!A415),0)","v":0},{"$f":"IF(RawData!A415=\"\",\"blank\",\"\")","v":"blank"}]
[null,null,null,null,null,null,null,null,null,null,null,null,null,null,null,null,null,null,null,null,null,{"$f":"IF(RawData!A416<>\"\",ROW(RawData!A416),0)","v":0},{"$f":"IF(RawData!A416=\"\",\"blank\",\"\")","v":"blank"}]
[null,null,null,null,null,null,null,null,null,null,null,null,null,null,null,null,null,null,null,null,null,{"$f":"IF(RawData!A417<>\"\",ROW(RawData!A417),0)","v":0},{"$f":"IF(RawData!A417=\"\",\"blank\",\"\")","v":"blank"}]
[null,null,null,null,null,null,null,null,null,null,null,null,null,null,null,null,null,null,null,null,null,{"$f":"IF(RawData!A418<>\"\",ROW(RawData!A418),0)","v":0},{"$f":"IF(RawData!A418=\"\",\"blank\",\"\")","v":"blank"}]
[null,null,null,null,null,null,null,null,null,null,null,null,null,null,null,null,null,null,null,null,null,{"$f":"IF(RawData!A419<>\"\",ROW(RawData!A419),0)","v":0},{"$f":"IF(RawData!A419=\"\",\"blank\",\"\")","v":"blank"}]
[null,null,null,null,null,null,null,null,null,null,null,null,null,null,null,null,null,null,null,null,null,{"$f":"IF(RawData!A420<>\"\",ROW(RawData!A420),0)","v":0},{"$f":"IF(RawData!A420=\"\",\"blank\",\"\")","v":"blank"}]
[null,null,null,null,null,null,null,null,null,null,null,null,null,null,null,null,null,null,null,null,null,{"$f":"IF(RawData!A421<>\"\",ROW(RawData!A421),0)","v":0},{"$f":"IF(RawData!A421=\"\",\"blank\",\"\")","v":"blank"}]
[null,null,null,null,null,null,null,null,null,null,null,null,null,null,null,null,null,null,null,null,null,{"$f":"IF(RawData!A422<>\"\",ROW(RawData!A422),0)","v":0},{"$f":"IF(RawData!A422=\"\",\"blank\",\"\")","v":"blank"}]
[null,null,null,null,null,null,null,null,null,null,null,null,null,null,null,null,null,null,null,null,null,{"$f":"IF(RawData!A423<>\"\",ROW(RawData!A423),0)","v":0},{"$f":"IF(RawData!A423=\"\",\"blank\",\"\")","v":"blank"}]
[null,null,null,null,null,null,null,null,null,null,null,null,null,null,null,null,null,null,null,null,null,{"$f":"IF(RawData!A424<>\"\",ROW(RawData!A424),0)","v":0},{"$f":"IF(RawData!A424=\"\",\"blank\",\"\")","v":"blank"}]
[null,null,null,null,null,null,null,null,null,null,null,null,null,null,null,null,null,null,null,null,null,{"$f":"IF(RawData!A425<>\"\",ROW(RawData!A425),0)","v":0},{"$f":"IF(RawData!A425=\"\",\"blank\",\"\")","v":"blank"}]
[null,null,null,null,null,null,null,null,null,null,null,null,null,null,null,null,null,null,null,null,null,{"$f":"IF(RawData!A426<>\"\",ROW(RawData!A426),0)","v":0},{"$f":"IF(RawData!A426=\"\",\"blank\",\"\")","v":"blank"}]
[null,null,null,null,null,null,null,null,null,null,null,null,null,null,null,null,null,null,null,null,null,{"$f":"IF(RawData!A427<>\"\",ROW(RawData!A427),0)","v":0},{"$f":"IF(RawData!A427=\"\",\"blank\",\"\")","v":"blank"}]
[null,null,null,null,null,null,null,null,null,null,null,null,null,null,null,null,null,null,null,null,null,{"$f":"IF(RawData!A428<>\"\",ROW(RawData!A428),0)","v":0},{"$f":"IF(RawData!A428=\"\",\"blank\",\"\")","v":"blank"}]
[null,null,null,null,null,null,null,null,null,null,null,null,null,null,null,null,null,null,null,null,null,{"$f":"IF(RawData!A429<>\"\",ROW(RawData!A429),0)","v":0},{"$f":"IF(RawData!A429=\"\",\"blank\",\"\")","v":"blank"}]
[null,null,null,null,null,null,null,null,null,null,null,null,null,null,null,null,null,null,null,null,null,{"$f":"IF(RawData!A430<>\"\",ROW(RawData!A430),0)","v":0},{"$f":"IF(RawData!A430=\"\",\"blank\",\"\")","v":"blank"}]
[null,null,null,null,null,null,null,null,null,null,null,null,null,null,null,null,null,null,null,null,null,{"$f":"IF(RawData!A431<>\"\",ROW(RawData!A431),0)","v":0},{"$f":"IF(RawData!A431=\"\",\"blank\",\"\")","v":"blank"}]
[null,null,null,null,null,null,null,null,null,null,null,null,null,null,null,null,null,null,null,null,null,{"$f":"IF(RawData!A432<>\"\",ROW(RawData!A432),0)","v":0},{"$f":"IF(RawData!A432=\"\",\"blank\",\"\")","v":"blank"}]
[null,null,null,null,null,null,null,null,null,null,null,null,null,null,null,null,null,null,null,null,null,{"$f":"IF(RawData!A433<>\"\",ROW(RawData!A433),0)","v":0},{"$f":"IF(RawData!A433=\"\",\"blank\",\"\")","v":"blank"}]
[null,null,null,null,null,null,null,null,null,null,null,null,null,null,null,null,null,null,null,null,null,{"$f":"IF(RawData!A434<>\"\",ROW(RawData!A434),0)","v":0},{"$f":"IF(RawData!A434=\"\",\"blank\",\"\")","v":"blank"}]
[null,null,null,null,null,null,null,null,null,null,null,null,null,null,null,null,null,null,null,null,null,{"$f":"IF(RawData!A435<>\"\",ROW(RawData!A435),0)","v":0},{"$f":"IF(RawData!A435=\"\",\"blank\",\"\")","v":"blank"}]
[null,null,null,null,null,null,null,null,null,null,null,null,null,null,null,null,null,null,null,null,null,{"$f":"IF(RawData!A436<>\"\",ROW(RawData!A436),0)","v":0},{"$f":"IF(RawData!A436=\"\",\"blank\",\"\")","v":"blank"}]
[null,null,null,null,null,null,null,null,null,null,null,null,null,null,null,null,null,null,null,null,null,{"$f":"IF(RawData!A437<>\"\",ROW(RawData!A437),0)","v":0},{"$f":"IF(RawData!A437=\"\",\"blank\",\"\")","v":"blank"}]
[null,null,null,null,null,null,null,null,null,null,null,null,null,null,null,null,null,null,null,null,null,{"$f":"IF(RawData!A438<>\"\",ROW(RawData!A438),0)","v":0},{"$f":"IF(RawData!A438=\"\",\"blank\",\"\")","v":"blank"}]
[null,null,null,null,null,null,null,null,null,null,null,null,null,null,null,null,null,null,null,null,null,{"$f":"IF(RawData!A439<>\"\",ROW(RawData!A439),0)","v":0},{"$f":"IF(RawData!A439=\"\",\"blank\",\"\")","v":"blank"}]
[null,null,null,null,null,null,null,null,null,null,null,null,null,null,null,null,null,null,null,null,null,{"$f":"IF(RawData!A440<>\"\",ROW(RawData!A440),0)","v":0},{"$f":"IF(RawData!A440=\"\",\"blank\",\"\")","v":"blank"}]
[null,null,null,null,null,null,null,null,null,null,null,null,null,null,null,null,null,null,null,null,null,{"$f":"IF(RawData!A441<>\"\",ROW(RawData!A441),0)","v":0},{"$f":"IF(RawData!A441=\"\",\"blank\",\"\")","v":"blank"}]
[null,null,null,null,null,null,null,null,null,null,null,null,null,null,null,null,null,null,null,null,null,{"$f":"IF(RawData!A442<>\"\",ROW(RawData!A442),0)","v":0},{"$f":"IF(RawData!A442=\"\",\"blank\",\"\")","v":"blank"}]
[null,null,null,null,null,null,null,null,null,null,null,null,null,null,null,null,null,null,null,null,null,{"$f":"IF(RawData!A443<>\"\",ROW(RawData!A443),0)","v":0},{"$f":"IF(RawData!A443=\"\",\"blank\",\"\")","v":"blank"}]
[null,null,null,null,null,null,null,null,null,null,null,null,null,null,null,null,null,null,null,null,null,{"$f":"IF(RawData!A444<>\"\",ROW(RawData!A444),0)","v":0},{"$f":"IF(RawData!A444=\"\",\"blank\",\"\")","v":"blank"}]
[null,null,null,null,null,null,null,null,null,null,null,null,null,null,null,null,null,null,null,null,null,{"$f":"IF(RawData!A445<>\"\",ROW(RawData!A445),0)","v":0},{"$f":"IF(RawData!A445=\"\",\"blank\",\"\")","v":"blank"}]
[null,null,null,null,null,null,null,null,null,null,null,null,null,null,null,null,null,null,null,null,null,{"$f":"IF(RawData!A446<>\"\",ROW(RawData!A446),0)","v":0},{"$f":"IF(RawData!A446=\"\",\"blank\",\"\")","v":"blank"}]
[null,null,null,null,null,null,null,null,null,null,null,null,null,null,null,null,null,null,null,null,null,{"$f":"IF(RawData!A447<>\"\",ROW(RawData!A447),0)","v":0},{"$f":"IF(RawData!A447=\"\",\"blank\",\"\")","v":"blank"}]
[null,null,null,null,null,null,null,null,null,null,null,null,null,null,null,null,null,null,null,null,null,{"$f":"IF(RawData!A448<>\"\",ROW(RawData!A448),0)","v":0},{"$f":"IF(RawData!A448=\"\",\"blank\",\"\")","v":"blank"}]
[null,null,null,null,null,null,null,null,null,null,null,null,null,null,null,null,null,null,null,null,null,{"$f":"IF(RawData!A449<>\"\",ROW(RawData!A449),0)","v":0},{"$f":"IF(RawData!A449=\"\",\"blank\",\"\")","v":"blank"}]
[null,null,null,null,null,null,null,null,null,null,null,null,null,null,null,null,null,null,null,null,null,{"$f":"IF(RawData!A450<>\"\",ROW(RawData!A450),0)","v":0},{"$f":"IF(RawData!A450=\"\",\"blank\",\"\")","v":"blank"}]
[null,null,null,null,null,null,null,null,null,null,null,null,null,null,null,null,null,null,null,null,null,{"$f":"IF(RawData!A451<>\"\",ROW(RawData!A451),0)","v":0},{"$f":"IF(RawData!A451=\"\",\"blank\",\"\")","v":"blank"}]
[null,null,null,null,null,null,null,null,null,null,null,null,null,null,null,null,null,null,null,null,null,{"$f":"IF(RawData!A452<>\"\",ROW(RawData!A452),0)","v":0},{"$f":"IF(RawData!A452=\"\",\"blank\",\"\")","v":"blank"}]
[null,null,null,null,null,null,null,null,null,null,null,null,null,null,null,null,null,null,null,null,null,{"$f":"IF(RawData!A453<>\"\",ROW(RawData!A453),0)","v":0},{"$f":"IF(RawData!A453=\"\",\"blank\",\"\")","v":"blank"}]
[null,null,null,null,null,null,null,null,null,null,null,null,null,null,null,null,null,null,null,null,null,{"$f":"IF(RawData!A454<>\"\",ROW(RawData!A454),0)","v":0},{"$f":"IF(RawData!A454=\"\",\"blank\",\"\")","v":"blank"}]
[null,null,null,null,null,null,null,null,null,null,null,null,null,null,null,null,null,null,null,null,null,{"$f":"IF(RawData!A455<>\"\",ROW(RawData!A455),0)","v":0},{"$f":"IF(RawData!A455=\"\",\"blank\",\"\")","v":"blank"}]
[null,null,null,null,null,null,null,null,null,null,null,null,null,null,null,null,null,null,null,null,null,{"$f":"IF(RawData!A456<>\"\",ROW(RawData!A456),0)","v":0},{"$f":"IF(RawData!A456=\"\",\"blank\",\"\")","v":"blank"}]
[null,null,null,null,null,null,null,null,null,null,null,null,null,null,null,null,null,null,null,null,null,{"$f":"IF(RawData!A457<>\"\",ROW(RawData!A457),0)","v":0},{"$f":"IF(RawData!A457=\"\",\"blank\",\"\")","v":"blank"}]
[null,null,null,null,null,null,null,null,null,null,null,null,null,null,null,null,null,null,null,null,null,{"$f":"IF(RawData!A458<>\"\",ROW(RawData!A458),0)","v":0},{"$f":"IF(RawData!A458=\"\",\"blank\",\"\")","v":"blank"}]
[null,null,null,null,null,null,null,null,null,null,null,null,null,null,null,null,null,null,null,null,null,{"$f":"IF(RawData!A459<>\"\",ROW(RawData!A459),0)","v":0},{"$f":"IF(RawData!A459=\"\",\"blank\",\"\")","v":"blank"}]
[null,null,null,null,null,null,null,null,null,null,null,null,null,null,null,null,null,null,null,null,null,{"$f":"IF(RawData!A460<>\"\",ROW(RawData!A460),0)","v":0},{"$f":"IF(RawData!A460=\"\",\"blank\",\"\")","v":"blank"}]
[null,null,null,null,null,null,null,null,null,null,null,null,null,null,null,null,null,null,null,null,null,{"$f":"IF(RawData!A461<>\"\",ROW(RawData!A461),0)","v":0},{"$f":"IF(RawData!A461=\"\",\"blank\",\"\")","v":"blank"}]
[null,null,null,null,null,null,null,null,null,null,null,null,null,null,null,null,null,null,null,null,null,{"$f":"IF(RawData!A462<>\"\",ROW(RawData!A462),0)","v":0},{"$f":"IF(RawData!A462=\"\",\"blank\",\"\")","v":"blank"}]
[null,null,null,null,null,null,null,null,null,null,null,null,null,null,null,null,null,null,null,null,null,{"$f":"IF(RawData!A463<>\"\",ROW(RawData!A463),0)","v":0},{"$f":"IF(RawData!A463=\"\",\"blank\",\"\")","v":"blank"}]
[null,null,null,null,null,null,null,null,null,null,null,null,null,null,null,null,null,null,null,null,null,{"$f":"IF(RawData!A464<>\"\",ROW(RawData!A464),0)","v":0},{"$f":"IF(RawData!A464=\"\",\"blank\",\"\")","v":"blank"}]
[null,null,null,null,null,null,null,null,null,null,null,null,null,null,null,null,null,null,null,null,null,{"$f":"IF(RawData!A465<>\"\",ROW(RawData!A465),0)","v":0},{"$f":"IF(RawData!A465=\"\",\"blank\",\"\")","v":"blank"}]
[null,null,null,null,null,null,null,null,null,null,null,null,null,null,null,null,null,null,null,null,null,{"$f":"IF(RawData!A466<>\"\",ROW(RawData!A466),0)","v":0},{"$f":"IF(RawData!A466=\"\",\"blank\",\"\")","v":"blank"}]
[null,null,null,null,null,null,null,null,null,null,null,null,null,null,null,null,null,null,null,null,null,{"$f":"IF(RawData!A467<>\"\",ROW(RawData!A467),0)","v":0},{"$f":"IF(RawData!A467=\"\",\"blank\",\"\")","v":"blank"}]
[null,null,null,null,null,null,null,null,null,null,null,null,null,null,null,null,null,null,null,null,null,{"$f":"IF(RawData!A468<>\"\",ROW(RawData!A468),0)","v":0},{"$f":"IF(RawData!A468=\"\",\"blank\",\"\")","v":"blank"}]
[null,null,null,null,null,null,null,null,null,null,null,null,null,null,null,null,null,null,null,null,null,{"$f":"IF(RawData!A469<>\"\",ROW(RawData!A469),0)","v":0},{"$f":"IF(RawData!A469=\"\",\"blank\",\"\")","v":"blank"}]
[null,null,null,null,null,null,null,null,null,null,null,null,null,null,null,null,null,null,null,null,null,{"$f":"IF(RawData!A470<>\"\",ROW(RawData!A470),0)","v":0},{"$f":"IF(RawData!A470=\"\",\"blank\",\"\")","v":"blank"}]
[null,null,null,null,null,null,null,null,null,null,null,null,null,null,null,null,null,null,null,null,null,{"$f":"IF(RawData!A471<>\"\",ROW(RawData!A471),0)","v":0},{"$f":"IF(RawData!A471=\"\",\"blank\",\"\")","v":"blank"}]
[null,null,null,null,null,null,null,null,null,null,null,null,null,null,null,null,null,null,null,null,null,{"$f":"IF(RawData!A472<>\"\",ROW(RawData!A472),0)","v":0},{"$f":"IF(RawData!A472=\"\",\"blank\",\"\")","v":"blank"}]
[null,null,null,null,null,null,null,null,null,null,null,null,null,null,null,null,null,null,null,null,null,{"$f":"IF(RawData!A473<>\"\",ROW(RawData!A473),0)","v":0},{"$f":"IF(RawData!A473=\"\",\"blank\",\"\")","v":"blank"}]
[null,null,null,null,null,null,null,null,null,null,null,null,null,null,null,null,null,null,null,null,null,{"$f":"IF(RawData!A474<>\"\",ROW(RawData!A474),0)","v":0},{"$f":"IF(RawData!A474=\"\",\"blank\",\"\")","v":"blank"}]
[null,null,null,null,null,null,null,null,null,null,null,null,null,null,null,null,null,null,null,null,null,{"$f":"IF(RawData!A475<>\"\",ROW(RawData!A475),0)","v":0},{"$f":"IF(RawData!A475=\"\",\"blank\",\"\")","v":"blank"}]
[null,null,null,null,null,null,null,null,null,null,null,null,null,null,null,null,null,null,null,null,null,{"$f":"IF(RawData!A476<>\"\",ROW(RawData!A476),0)","v":0},{"$f":"IF(RawData!A476=\"\",\"blank\",\"\")","v":"blank"}]
[null,null,null,null,null,null,null,null,null,null,null,null,null,null,null,null,null,null,null,null,null,{"$f":"IF(RawData!A477<>\"\",ROW(RawData!A477),0)","v":0},{"$f":"IF(RawData!A477=\"\",\"blank\",\"\")","v":"blank"}]
[null,null,null,null,null,null,null,null,null,null,null,null,null,null,null,null,null,null,null,null,null,{"$f":"IF(RawData!A478<>\"\",ROW(RawData!A478),0)","v":0},{"$f":"IF(RawData!A478=\"\",\"blank\",\"\")","v":"blank"}]
[null,null,null,null,null,null,null,null,null,null,null,null,null,null,null,null,null,null,null,null,null,{"$f":"IF(RawData!A479<>\"\",ROW(RawData!A479),0)","v":0},{"$f":"IF(RawData!A479=\"\",\"blank\",\"\")","v":"blank"}]
[null,null,null,null,null,null,null,null,null,null,null,null,null,null,null,null,null,null,null,null,null,{"$f":"IF(RawData!A480<>\"\",ROW(RawData!A480),0)","v":0},{"$f":"IF(RawData!A480=\"\",\"blank\",\"\")","v":"blank"}]
[null,null,null,null,null,null,null,null,null,null,null,null,null,null,null,null,null,null,null,null,null,{"$f":"IF(RawData!A481<>\"\",ROW(RawData!A481),0)","v":0},{"$f":"IF(RawData!A481=\"\",\"blank\",\"\")","v":"blank"}]
[null,null,null,null,null,null,null,null,null,null,null,null,null,null,null,null,null,null,null,null,null,{"$f":"IF(RawData!A482<>\"\",ROW(RawData!A482),0)","v":0},{"$f":"IF(RawData!A482=\"\",\"blank\",\"\")","v":"blank"}]
[null,null,null,null,null,null,null,null,null,null,null,null,null,null,null,null,null,null,null,null,null,{"$f":"IF(RawData!A483<>\"\",ROW(RawData!A483),0)","v":0},{"$f":"IF(RawData!A483=\"\",\"blank\",\"\")","v":"blank"}]
[null,null,null,null,null,null,null,null,null,null,null,null,null,null,null,null,null,null,null,null,null,{"$f":"IF(RawData!A484<>\"\",ROW(RawData!A484),0)","v":0},{"$f":"IF(RawData!A484=\"\",\"blank\",\"\")","v":"blank"}]
[null,null,null,null,null,null,null,null,null,null,null,null,null,null,null,null,null,null,null,null,null,{"$f":"IF(RawData!A485<>\"\",ROW(RawData!A485),0)","v":0},{"$f":"IF(RawData!A485=\"\",\"blank\",\"\")","v":"blank"}]
[null,null,null,null,null,null,null,null,null,null,null,null,null,null,null,null,null,null,null,null,null,{"$f":"IF(RawData!A486<>\"\",ROW(RawData!A486),0)","v":0},{"$f":"IF(RawData!A486=\"\",\"blank\",\"\")","v":"blank"}]
[null,null,null,null,null,null,null,null,null,null,null,null,null,null,null,null,null,null,null,null,null,{"$f":"IF(RawData!A487<>\"\",ROW(RawData!A487),0)","v":0},{"$f":"IF(RawData!A487=\"\",\"blank\",\"\")","v":"blank"}]
[null,null,null,null,null,null,null,null,null,null,null,null,null,null,null,null,null,null,null,null,null,{"$f":"IF(RawData!A488<>\"\",ROW(RawData!A488),0)","v":0},{"$f":"IF(RawData!A488=\"\",\"blank\",\"\")","v":"blank"}]
[null,null,null,null,null,null,null,null,null,null,null,null,null,null,null,null,null,null,null,null,null,{"$f":"IF(RawData!A489<>\"\",ROW(RawData!A489),0)","v":0},{"$f":"IF(RawData!A489=\"\",\"blank\",\"\")","v":"blank"}]
[null,null,null,null,null,null,null,null,null,null,null,null,null,null,null,null,null,null,null,null,null,{"$f":"IF(RawData!A490<>\"\",ROW(RawData!A490),0)","v":0},{"$f":"IF(RawData!A490=\"\",\"blank\",\"\")","v":"blank"}]
[null,null,null,null,null,null,null,null,null,null,null,null,null,null,null,null,null,null,null,null,null,{"$f":"IF(RawData!A491<>\"\",ROW(RawData!A491),0)","v":0},{"$f":"IF(RawData!A491=\"\",\"blank\",\"\")","v":"blank"}]
[null,null,null,null,null,null,null,null,null,null,null,null,null,null,null,null,null,null,null,null,null,{"$f":"IF(RawData!A492<>\"\",ROW(RawData!A492),0)","v":0},{"$f":"IF(RawData!A492=\"\",\"blank\",\"\")","v":"blank"}]
[null,null,null,null,null,null,null,null,null,null,null,null,null,null,null,null,null,null,null,null,null,{"$f":"IF(RawData!A493<>\"\",ROW(RawData!A493),0)","v":0},{"$f":"IF(RawData!A493=\"\",\"blank\",\"\")","v":"blank"}]
[null,null,null,null,null,null,null,null,null,null,null,null,null,null,null,null,null,null,null,null,null,{"$f":"IF(RawData!A494<>\"\",ROW(RawData!A494),0)","v":0},{"$f":"IF(RawData!A494=\"\",\"blank\",\"\")","v":"blank"}]
[null,null,null,null,null,null,null,null,null,null,null,null,null,null,null,null,null,null,null,null,null,{"$f":"IF(RawData!A495<>\"\",ROW(RawData!A495),0)","v":0},{"$f":"IF(RawData!A495=\"\",\"blank\",\"\")","v":"blank"}]
[null,null,null,null,null,null,null,null,null,null,null,null,null,null,null,null,null,null,null,null,null,{"$f":"IF(RawData!A496<>\"\",ROW(RawData!A496),0)","v":0},{"$f":"IF(RawData!A496=\"\",\"blank\",\"\")","v":"blank"}]
[null,null,null,null,null,null,null,null,null,null,null,null,null,null,null,null,null,null,null,null,null,{"$f":"IF(RawData!A497<>\"\",ROW(RawData!A497),0)","v":0},{"$f":"IF(RawData!A497=\"\",\"blank\",\"\")","v":"blank"}]
[null,null,null,null,null,null,null,null,null,null,null,null,null,null,null,null,null,null,null,null,null,{"$f":"IF(RawData!A498<>\"\",ROW(RawData!A498),0)","v":0},{"$f":"IF(RawData!A498=\"\",\"blank\",\"\")","v":"blank"}]
[null,null,null,null,null,null,null,null,null,null,null,null,null,null,null,null,null,null,null,null,null,{"$f":"IF(RawData!A499<>\"\",ROW(RawData!A499),0)","v":0},{"$f":"IF(RawData!A499=\"\",\"blank\",\"\")","v":"blank"}]
[null,null,null,null,null,null,null,null,null,null,null,null,null,null,null,null,null,null,null,null,null,{"$f":"IF(RawData!A500<>\"\",ROW(RawData!A500),0)","v":0},{"$f":"IF(RawData!A500=\"\",\"blank\",\"\")","v":"blank"}]
[null,null,null,null,null,null,null,null,null,null,null,null,null,null,null,null,null,null,null,null,null,{"$f":"IF(RawData!A501<>\"\",ROW(RawData!A501),0)","v":0},{"$f":"IF(RawData!A501=\"\",\"blank\",\"\")","v":"blank"}]
[null,null,null,null,null,null,null,null,null,null,null,null,null,null,null,null,null,null,null,null,null,{"$f":"IF(RawData!A502<>\"\",ROW(RawData!A502),0)","v":0},{"$f":"IF(RawData!A502=\"\",\"blank\",\"\")","v":"blank"}]
[null,null,null,null,null,null,null,null,null,null,null,null,null,null,null,null,null,null,null,null,null,{"$f":"IF(RawData!A503<>\"\",ROW(RawData!A503),0)","v":0},{"$f":"IF(RawData!A503=\"\",\"blank\",\"\")","v":"blank"}]
[null,null,null,null,null,null,null,null,null,null,null,null,null,null,null,null,null,null,null,null,null,{"$f":"IF(RawData!A504<>\"\",ROW(RawData!A504),0)","v":0},{"$f":"IF(RawData!A504=\"\",\"blank\",\"\")","v":"blank"}]
[null,null,null,null,null,null,null,null,null,null,null,null,null,null,null,null,null,null,null,null,null,{"$f":"IF(RawData!A505<>\"\",ROW(RawData!A505),0)","v":0},{"$f":"IF(RawData!A505=\"\",\"blank\",\"\")","v":"blank"}]
[null,null,null,null,null,null,null,null,null,null,null,null,null,null,null,null,null,null,null,null,null,{"$f":"IF(RawData!A506<>\"\",ROW(RawData!A506),0)","v":0},{"$f":"IF(RawData!A506=\"\",\"blank\",\"\")","v":"blank"}]
[null,null,null,null,null,null,null,null,null,null,null,null,null,null,null,null,null,null,null,null,null,{"$f":"IF(RawData!A507<>\"\",ROW(RawData!A507),0)","v":0},{"$f":"IF(RawData!A507=\"\",\"blank\",\"\")","v":"blank"}]
[null,null,null,null,null,null,null,null,null,null,null,null,null,null,null,null,null,null,null,null,null,{"$f":"IF(RawData!A508<>\"\",ROW(RawData!A508),0)","v":0},{"$f":"IF(RawData!A508=\"\",\"blank\",\"\")","v":"blank"}]
[null,null,null,null,null,null,null,null,null,null,null,null,null,null,null,null,null,null,null,null,null,{"$f":"IF(RawData!A509<>\"\",ROW(RawData!A509),0)","v":0},{"$f":"IF(RawData!A509=\"\",\"blank\",\"\")","v":"blank"}]
[null,null,null,null,null,null,null,null,null,null,null,null,null,null,null,null,null,null,null,null,null,{"$f":"IF(RawData!A510<>\"\",ROW(RawData!A510),0)","v":0},{"$f":"IF(RawData!A510=\"\",\"blank\",\"\")","v":"blank"}]
[null,null,null,null,null,null,null,null,null,null,null,null,null,null,null,null,null,null,null,null,null,{"$f":"IF(RawData!A511<>\"\",ROW(RawData!A511),0)","v":0},{"$f":"IF(RawData!A511=\"\",\"blank\",\"\")","v":"blank"}]
[null,null,null,null,null,null,null,null,null,null,null,null,null,null,null,null,null,null,null,null,null,{"$f":"IF(RawData!A512<>\"\",ROW(RawData!A512),0)","v":0},{"$f":"IF(RawData!A512=\"\",\"blank\",\"\")","v":"blank"}]
[null,null,null,null,null,null,null,null,null,null,null,null,null,null,null,null,null,null,null,null,null,{"$f":"IF(RawData!A513<>\"\",ROW(RawData!A513),0)","v":0},{"$f":"IF(RawData!A513=\"\",\"blank\",\"\")","v":"blank"}]
[null,null,null,null,null,null,null,null,null,null,null,null,null,null,null,null,null,null,null,null,null,{"$f":"IF(RawData!A514<>\"\",ROW(RawData!A514),0)","v":0},{"$f":"IF(RawData!A514=\"\",\"blank\",\"\")","v":"blank"}]
[null,null,null,null,null,null,null,null,null,null,null,null,null,null,null,null,null,null,null,null,null,{"$f":"IF(RawData!A515<>\"\",ROW(RawData!A515),0)","v":0},{"$f":"IF(RawData!A515=\"\",\"blank\",\"\")","v":"blank"}]
[null,null,null,null,null,null,null,null,null,null,null,null,null,null,null,null,null,null,null,null,null,{"$f":"IF(RawData!A516<>\"\",ROW(RawData!A516),0)","v":0},{"$f":"IF(RawData!A516=\"\",\"blank\",\"\")","v":"blank"}]
[null,null,null,null,null,null,null,null,null,null,null,null,null,null,null,null,null,null,null,null,null,{"$f":"IF(RawData!A517<>\"\",ROW(RawData!A517),0)","v":0},{"$f":"IF(RawData!A517=\"\",\"blank\",\"\")","v":"blank"}]
[null,null,null,null,null,null,null,null,null,null,null,null,null,null,null,null,null,null,null,null,null,{"$f":"IF(RawData!A518<>\"\",ROW(RawData!A518),0)","v":0},{"$f":"IF(RawData!A518=\"\",\"blank\",\"\")","v":"blank"}]
[null,null,null,null,null,null,null,null,null,null,null,null,null,null,null,null,null,null,null,null,null,{"$f":"IF(RawData!A519<>\"\",ROW(RawData!A519),0)","v":0},{"$f":"IF(RawData!A519=\"\",\"blank\",\"\")","v":"blank"}]
[null,null,null,null,null,null,null,null,null,null,null,null,null,null,null,null,null,null,null,null,null,{"$f":"IF(RawData!A520<>\"\",ROW(RawData!A520),0)","v":0},{"$f":"IF(RawData!A520=\"\",\"blank\",\"\")","v":"blank"}]
[null,null,null,null,null,null,null,null,null,null,null,null,null,null,null,null,null,null,null,null,null,{"$f":"IF(RawData!A521<>\"\",ROW(RawData!A521),0)","v":0},{"$f":"IF(RawData!A521=\"\",\"blank\",\"\")","v":"blank"}]
[null,null,null,null,null,null,null,null,null,null,null,null,null,null,null,null,null,null,null,null,null,{"$f":"IF(RawData!A522<>\"\",ROW(RawData!A522),0)","v":0},{"$f":"IF(RawData!A522=\"\",\"blank\",\"\")","v":"blank"}]
[null,null,null,null,null,null,null,null,null,null,null,null,null,null,null,null,null,null,null,null,null,{"$f":"IF(RawData!A523<>\"\",ROW(RawData!A523),0)","v":0},{"$f":"IF(RawData!A523=\"\",\"blank\",\"\")","v":"blank"}]
[null,null,null,null,null,null,null,null,null,null,null,null,null,null,null,null,null,null,null,null,null,{"$f":"IF(RawData!A524<>\"\",ROW(RawData!A524),0)","v":0},{"$f":"IF(RawData!A524=\"\",\"blank\",\"\")","v":"blank"}]
[null,null,null,null,null,null,null,null,null,null,null,null,null,null,null,null,null,null,null,null,null,{"$f":"IF(RawData!A525<>\"\",ROW(RawData!A525),0)","v":0},{"$f":"IF(RawData!A525=\"\",\"blank\",\"\")","v":"blank"}]
[null,null,null,null,null,null,null,null,null,null,null,null,null,null,null,null,null,null,null,null,null,{"$f":"IF(RawData!A526<>\"\",ROW(RawData!A526),0)","v":0},{"$f":"IF(RawData!A526=\"\",\"blank\",\"\")","v":"blank"}]
[null,null,null,null,null,null,null,null,null,null,null,null,null,null,null,null,null,null,null,null,null,{"$f":"IF(RawData!A527<>\"\",ROW(RawData!A527),0)","v":0},{"$f":"IF(RawData!A527=\"\",\"blank\",\"\")","v":"blank"}]
[null,null,null,null,null,null,null,null,null,null,null,null,null,null,null,null,null,null,null,null,null,{"$f":"IF(RawData!A528<>\"\",ROW(RawData!A528),0)","v":0},{"$f":"IF(RawData!A528=\"\",\"blank\",\"\")","v":"blank"}]
[null,null,null,null,null,null,null,null,null,null,null,null,null,null,null,null,null,null,null,null,null,{"$f":"IF(RawData!A529<>\"\",ROW(RawData!A529),0)","v":0},{"$f":"IF(RawData!A529=\"\",\"blank\",\"\")","v":"blank"}]
[null,null,null,null,null,null,null,null,null,null,null,null,null,null,null,null,null,null,null,null,null,{"$f":"IF(RawData!A530<>\"\",ROW(RawData!A530),0)","v":0},{"$f":"IF(RawData!A530=\"\",\"blank\",\"\")","v":"blank"}]
[null,null,null,null,null,null,null,null,null,null,null,null,null,null,null,null,null,null,null,null,null,{"$f":"IF(RawData!A531<>\"\",ROW(RawData!A531),0)","v":0},{"$f":"IF(RawData!A531=\"\",\"blank\",\"\")","v":"blank"}]
[null,null,null,null,null,null,null,null,null,null,null,null,null,null,null,null,null,null,null,null,null,{"$f":"IF(RawData!A532<>\"\",ROW(RawData!A532),0)","v":0},{"$f":"IF(RawData!A532=\"\",\"blank\",\"\")","v":"blank"}]
[null,null,null,null,null,null,null,null,null,null,null,null,null,null,null,null,null,null,null,null,null,{"$f":"IF(RawData!A533<>\"\",ROW(RawData!A533),0)","v":0},{"$f":"IF(RawData!A533=\"\",\"blank\",\"\")","v":"blank"}]
[null,null,null,null,null,null,null,null,null,null,null,null,null,null,null,null,null,null,null,null,null,{"$f":"IF(RawData!A534<>\"\",ROW(RawData!A534),0)","v":0},{"$f":"IF(RawData!A534=\"\",\"blank\",\"\")","v":"blank"}]
[null,null,null,null,null,null,null,null,null,null,null,null,null,null,null,null,null,null,null,null,null,{"$f":"IF(RawData!A535<>\"\",ROW(RawData!A535),0)","v":0},{"$f":"IF(RawData!A535=\"\",\"blank\",\"\")","v":"blank"}]
[null,null,null,null,null,null,null,null,null,null,null,null,null,null,null,null,null,null,null,null,null,{"$f":"IF(RawData!A536<>\"\",ROW(RawData!A536),0)","v":0},{"$f":"IF(RawData!A536=\"\",\"blank\",\"\")","v":"blank"}]
[null,null,null,null,null,null,null,null,null,null,null,null,null,null,null,null,null,null,null,null,null,{"$f":"IF(RawData!A537<>\"\",ROW(RawData!A537),0)","v":0},{"$f":"IF(RawData!A537=\"\",\"blank\",\"\")","v":"blank"}]
[null,null,null,null,null,null,null,null,null,null,null,null,null,null,null,null,null,null,null,null,null,{"$f":"IF(RawData!A538<>\"\",ROW(RawData!A538),0)","v":0},{"$f":"IF(RawData!A538=\"\",\"blank\",\"\")","v":"blank"}]
[null,null,null,null,null,null,null,null,null,null,null,null,null,null,null,null,null,null,null,null,null,{"$f":"IF(RawData!A539<>\"\",ROW(RawData!A539),0)","v":0},{"$f":"IF(RawData!A539=\"\",\"blank\",\"\")","v":"blank"}]
[null,null,null,null,null,null,null,null,null,null,null,null,null,null,null,null,null,null,null,null,null,{"$f":"IF(RawData!A540<>\"\",ROW(RawData!A540),0)","v":0},{"$f":"IF(RawData!A540=\"\",\"blank\",\"\")","v":"blank"}]
[null,null,null,null,null,null,null,null,null,null,null,null,null,null,null,null,null,null,null,null,null,{"$f":"IF(RawData!A541<>\"\",ROW(RawData!A541),0)","v":0},{"$f":"IF(RawData!A541=\"\",\"blank\",\"\")","v":"blank"}]
[null,null,null,null,null,null,null,null,null,null,null,null,null,null,null,null,null,null,null,null,null,{"$f":"IF(RawData!A542<>\"\",ROW(RawData!A542),0)","v":0},{"$f":"IF(RawData!A542=\"\",\"blank\",\"\")","v":"blank"}]
[null,null,null,null,null,null,null,null,null,null,null,null,null,null,null,null,null,null,null,null,null,{"$f":"IF(RawData!A543<>\"\",ROW(RawData!A543),0)","v":0},{"$f":"IF(RawData!A543=\"\",\"blank\",\"\")","v":"blank"}]
[null,null,null,null,null,null,null,null,null,null,null,null,null,null,null,null,null,null,null,null,null,{"$f":"IF(RawData!A544<>\"\",ROW(RawData!A544),0)","v":0},{"$f":"IF(RawData!A544=\"\",\"blank\",\"\")","v":"blank"}]
[null,null,null,null,null,null,null,null,null,null,null,null,null,null,null,null,null,null,null,null,null,{"$f":"IF(RawData!A545<>\"\",ROW(RawData!A545),0)","v":0},{"$f":"IF(RawData!A545=\"\",\"blank\",\"\")","v":"blank"}]
[null,null,null,null,null,null,null,null,null,null,null,null,null,null,null,null,null,null,null,null,null,{"$f":"IF(RawData!A546<>\"\",ROW(RawData!A546),0)","v":0},{"$f":"IF(RawData!A546=\"\",\"blank\",\"\")","v":"blank"}]
[null,null,null,null,null,null,null,null,null,null,null,null,null,null,null,null,null,null,null,null,null,{"$f":"IF(RawData!A547<>\"\",ROW(RawData!A547),0)","v":0},{"$f":"IF(RawData!A547=\"\",\"blank\",\"\")","v":"blank"}]
[null,null,null,null,null,null,null,null,null,null,null,null,null,null,null,null,null,null,null,null,null,{"$f":"IF(RawData!A548<>\"\",ROW(RawData!A548),0)","v":0},{"$f":"IF(RawData!A548=\"\",\"blank\",\"\")","v":"blank"}]
[null,null,null,null,null,null,null,null,null,null,null,null,null,null,null,null,null,null,null,null,null,{"$f":"IF(RawData!A549<>\"\",ROW(RawData!A549),0)","v":0},{"$f":"IF(RawData!A549=\"\",\"blank\",\"\")","v":"blank"}]
[null,null,null,null,null,null,null,null,null,null,null,null,null,null,null,null,null,null,null,null,null,{"$f":"IF(RawData!A550<>\"\",ROW(RawData!A550),0)","v":0},{"$f":"IF(RawData!A550=\"\",\"blank\",\"\")","v":"blank"}]
[null,null,null,null,null,null,null,null,null,null,null,null,null,null,null,null,null,null,null,null,null,{"$f":"IF(RawData!A551<>\"\",ROW(RawData!A551),0)","v":0},{"$f":"IF(RawData!A551=\"\",\"blank\",\"\")","v":"blank"}]
[null,null,null,null,null,null,null,null,null,null,null,null,null,null,null,null,null,null,null,null,null,{"$f":"IF(RawData!A552<>\"\",ROW(RawData!A552),0)","v":0},{"$f":"IF(RawData!A552=\"\",\"blank\",\"\")","v":"blank"}]
[null,null,null,null,null,null,null,null,null,null,null,null,null,null,null,null,null,null,null,null,null,{"$f":"IF(RawData!A553<>\"\",ROW(RawData!A553),0)","v":0},{"$f":"IF(RawData!A553=\"\",\"blank\",\"\")","v":"blank"}]
[null,null,null,null,null,null,null,null,null,null,null,null,null,null,null,null,null,null,null,null,null,{"$f":"IF(RawData!A554<>\"\",ROW(RawData!A554),0)","v":0},{"$f":"IF(RawData!A554=\"\",\"blank\",\"\")","v":"blank"}]
[null,null,null,null,null,null,null,null,null,null,null,null,null,null,null,null,null,null,null,null,null,{"$f":"IF(RawData!A555<>\"\",ROW(RawData!A555),0)","v":0},{"$f":"IF(RawData!A555=\"\",\"blank\",\"\")","v":"blank"}]
[null,null,null,null,null,null,null,null,null,null,null,null,null,null,null,null,null,null,null,null,null,{"$f":"IF(RawData!A556<>\"\",ROW(RawData!A556),0)","v":0},{"$f":"IF(RawData!A556=\"\",\"blank\",\"\")","v":"blank"}]
[null,null,null,null,null,null,null,null,null,null,null,null,null,null,null,null,null,null,null,null,null,{"$f":"IF(RawData!A557<>\"\",ROW(RawData!A557),0)","v":0},{"$f":"IF(RawData!A557=\"\",\"blank\",\"\")","v":"blank"}]
[null,null,null,null,null,null,null,null,null,null,null,null,null,null,null,null,null,null,null,null,null,{"$f":"IF(RawData!A558<>\"\",ROW(RawData!A558),0)","v":0},{"$f":"IF(RawData!A558=\"\",\"blank\",\"\")","v":"blank"}]
[null,null,null,null,null,null,null,null,null,null,null,null,null,null,null,null,null,null,null,null,null,{"$f":"IF(RawData!A559<>\"\",ROW(RawData!A559),0)","v":0},{"$f":"IF(RawData!A559=\"\",\"blank\",\"\")","v":"blank"}]
[null,null,null,null,null,null,null,null,null,null,null,null,null,null,null,null,null,null,null,null,null,{"$f":"IF(RawData!A560<>\"\",ROW(RawData!A560),0)","v":0},{"$f":"IF(RawData!A560=\"\",\"blank\",\"\")","v":"blank"}]
[null,null,null,null,null,null,null,null,null,null,null,null,null,null,null,null,null,null,null,null,null,{"$f":"IF(RawData!A561<>\"\",ROW(RawData!A561),0)","v":0},{"$f":"IF(RawData!A561=\"\",\"blank\",\"\")","v":"blank"}]
[null,null,null,null,null,null,null,null,null,null,null,null,null,null,null,null,null,null,null,null,null,{"$f":"IF(RawData!A562<>\"\",ROW(RawData!A562),0)","v":0},{"$f":"IF(RawData!A562=\"\",\"blank\",\"\")","v":"blank"}]
[null,null,null,null,null,null,null,null,null,null,null,null,null,null,null,null,null,null,null,null,null,{"$f":"IF(RawData!A563<>\"\",ROW(RawData!A563),0)","v":0},{"$f":"IF(RawData!A563=\"\",\"blank\",\"\")","v":"blank"}]
[null,null,null,null,null,null,null,null,null,null,null,null,null,null,null,null,null,null,null,null,null,{"$f":"IF(RawData!A564<>\"\",ROW(RawData!A564),0)","v":0},{"$f":"IF(RawData!A564=\"\",\"blank\",\"\")","v":"blank"}]
[null,null,null,null,null,null,null,null,null,null,null,null,null,null,null,null,null,null,null,null,null,{"$f":"IF(RawData!A565<>\"\",ROW(RawData!A565),0)","v":0},{"$f":"IF(RawData!A565=\"\",\"blank\",\"\")","v":"blank"}]
[null,null,null,null,null,null,null,null,null,null,null,null,null,null,null,null,null,null,null,null,null,{"$f":"IF(RawData!A566<>\"\",ROW(RawData!A566),0)","v":0},{"$f":"IF(RawData!A566=\"\",\"blank\",\"\")","v":"blank"}]
[null,null,null,null,null,null,null,null,null,null,null,null,null,null,null,null,null,null,null,null,null,{"$f":"IF(RawData!A567<>\"\",ROW(RawData!A567),0)","v":0},{"$f":"IF(RawData!A567=\"\",\"blank\",\"\")","v":"blank"}]
[null,null,null,null,null,null,null,null,null,null,null,null,null,null,null,null,null,null,null,null,null,{"$f":"IF(RawData!A568<>\"\",ROW(RawData!A568),0)","v":0},{"$f":"IF(RawData!A568=\"\",\"blank\",\"\")","v":"blank"}]
[null,null,null,null,null,null,null,null,null,null,null,null,null,null,null,null,null,null,null,null,null,{"$f":"IF(RawData!A569<>\"\",ROW(RawData!A569),0)","v":0},{"$f":"IF(RawData!A569=\"\",\"blank\",\"\")","v":"blank"}]
[null,null,null,null,null,null,null,null,null,null,null,null,null,null,null,null,null,null,null,null,null,{"$f":"IF(RawData!A570<>\"\",ROW(RawData!A570),0)","v":0},{"$f":"IF(RawData!A570=\"\",\"blank\",\"\")","v":"blank"}]
[null,null,null,null,null,null,null,null,null,null,null,null,null,null,null,null,null,null,null,null,null,{"$f":"IF(RawData!A571<>\"\",ROW(RawData!A571),0)","v":0},{"$f":"IF(RawData!A571=\"\",\"blank\",\"\")","v":"blank"}]
[null,null,null,null,null,null,null,null,null,null,null,null,null,null,null,null,null,null,null,null,null,{"$f":"IF(RawData!A572<>\"\",ROW(RawData!A572),0)","v":0},{"$f":"IF(RawData!A572=\"\",\"blank\",\"\")","v":"blank"}]
[null,null,null,null,null,null,null,null,null,null,null,null,null,null,null,null,null,null,null,null,null,{"$f":"IF(RawData!A573<>\"\",ROW(RawData!A573),0)","v":0},{"$f":"IF(RawData!A573=\"\",\"blank\",\"\")","v":"blank"}]
[null,null,null,null,null,null,null,null,null,null,null,null,null,null,null,null,null,null,null,null,null,{"$f":"IF(RawData!A574<>\"\",ROW(RawData!A574),0)","v":0},{"$f":"IF(RawData!A574=\"\",\"blank\",\"\")","v":"blank"}]
[null,null,null,null,null,null,null,null,null,null,null,null,null,null,null,null,null,null,null,null,null,{"$f":"IF(RawData!A575<>\"\",ROW(RawData!A575),0)","v":0},{"$f":"IF(RawData!A575=\"\",\"blank\",\"\")","v":"blank"}]
[null,null,null,null,null,null,null,null,null,null,null,null,null,null,null,null,null,null,null,null,null,{"$f":"IF(RawData!A576<>\"\",ROW(RawData!A576),0)","v":0},{"$f":"IF(RawData!A576=\"\",\"blank\",\"\")","v":"blank"}]
[null,null,null,null,null,null,null,null,null,null,null,null,null,null,null,null,null,null,null,null,null,{"$f":"IF(RawData!A577<>\"\",ROW(RawData!A577),0)","v":0},{"$f":"IF(RawData!A577=\"\",\"blank\",\"\")","v":"blank"}]
[null,null,null,null,null,null,null,null,null,null,null,null,null,null,null,null,null,null,null,null,null,{"$f":"IF(RawData!A578<>\"\",ROW(RawData!A578),0)","v":0},{"$f":"IF(RawData!A578=\"\",\"blank\",\"\")","v":"blank"}]
[null,null,null,null,null,null,null,null,null,null,null,null,null,null,null,null,null,null,null,null,null,{"$f":"IF(RawData!A579<>\"\",ROW(RawData!A579),0)","v":0},{"$f":"IF(RawData!A579=\"\",\"blank\",\"\")","v":"blank"}]
[null,null,null,null,null,null,null,null,null,null,null,null,null,null,null,null,null,null,null,null,null,{"$f":"IF(RawData!A580<>\"\",ROW(RawData!A580),0)","v":0},{"$f":"IF(RawData!A580=\"\",\"blank\",\"\")","v":"blank"}]
[null,null,null,null,null,null,null,null,null,null,null,null,null,null,null,null,null,null,null,null,null,{"$f":"IF(RawData!A581<>\"\",ROW(RawData!A581),0)","v":0},{"$f":"IF(RawData!A581=\"\",\"blank\",\"\")","v":"blank"}]
[null,null,null,null,null,null,null,null,null,null,null,null,null,null,null,null,null,null,null,null,null,{"$f":"IF(RawData!A582<>\"\",ROW(RawData!A582),0)","v":0},{"$f":"IF(RawData!A582=\"\",\"blank\",\"\")","v":"blank"}]
[null,null,null,null,null,null,null,null,null,null,null,null,null,null,null,null,null,null,null,null,null,{"$f":"IF(RawData!A583<>\"\",ROW(RawData!A583),0)","v":0},{"$f":"IF(RawData!A583=\"\",\"blank\",\"\")","v":"blank"}]
[null,null,null,null,null,null,null,null,null,null,null,null,null,null,null,null,null,null,null,null,null,{"$f":"IF(RawData!A584<>\"\",ROW(RawData!A584),0)","v":0},{"$f":"IF(RawData!A584=\"\",\"blank\",\"\")","v":"blank"}]
[null,null,null,null,null,null,null,null,null,null,null,null,null,null,null,null,null,null,null,null,null,{"$f":"IF(RawData!A585<>\"\",ROW(RawData!A585),0)","v":0},{"$f":"IF(RawData!A585=\"\",\"blank\",\"\")","v":"blank"}]
[null,null,null,null,null,null,null,null,null,null,null,null,null,null,null,null,null,null,null,null,null,{"$f":"IF(RawData!A586<>\"\",ROW(RawData!A586),0)","v":0},{"$f":"IF(RawData!A586=\"\",\"blank\",\"\")","v":"blank"}]
[null,null,null,null,null,null,null,null,null,null,null,null,null,null,null,null,null,null,null,null,null,{"$f":"IF(RawData!A587<>\"\",ROW(RawData!A587),0)","v":0},{"$f":"IF(RawData!A587=\"\",\"blank\",\"\")","v":"blank"}]
[null,null,null,null,null,null,null,null,null,null,null,null,null,null,null,null,null,null,null,null,null,{"$f":"IF(RawData!A588<>\"\",ROW(RawData!A588),0)","v":0},{"$f":"IF(RawData!A588=\"\",\"blank\",\"\")","v":"blank"}]
[null,null,null,null,null,null,null,null,null,null,null,null,null,null,null,null,null,null,null,null,null,{"$f":"IF(RawData!A589<>\"\",ROW(RawData!A589),0)","v":0},{"$f":"IF(RawData!A589=\"\",\"blank\",\"\")","v":"blank"}]
[null,null,null,null,null,null,null,null,null,null,null,null,null,null,null,null,null,null,null,null,null,{"$f":"IF(RawData!A590<>\"\",ROW(RawData!A590),0)","v":0},{"$f":"IF(RawData!A590=\"\",\"blank\",\"\")","v":"blank"}]
[null,null,null,null,null,null,null,null,null,null,null,null,null,null,null,null,null,null,null,null,null,{"$f":"IF(RawData!A591<>\"\",ROW(RawData!A591),0)","v":0},{"$f":"IF(RawData!A591=\"\",\"blank\",\"\")","v":"blank"}]
[null,null,null,null,null,null,null,null,null,null,null,null,null,null,null,null,null,null,null,null,null,{"$f":"IF(RawData!A592<>\"\",ROW(RawData!A592),0)","v":0},{"$f":"IF(RawData!A592=\"\",\"blank\",\"\")","v":"blank"}]
[null,null,null,null,null,null,null,null,null,null,null,null,null,null,null,null,null,null,null,null,null,{"$f":"IF(RawData!A593<>\"\",ROW(RawData!A593),0)","v":0},{"$f":"IF(RawData!A593=\"\",\"blank\",\"\")","v":"blank"}]
[null,null,null,null,null,null,null,null,null,null,null,null,null,null,null,null,null,null,null,null,null,{"$f":"IF(RawData!A594<>\"\",ROW(RawData!A594),0)","v":0},{"$f":"IF(RawData!A594=\"\",\"blank\",\"\")","v":"blank"}]
[null,null,null,null,null,null,null,null,null,null,null,null,null,null,null,null,null,null,null,null,null,{"$f":"IF(RawData!A595<>\"\",ROW(RawData!A595),0)","v":0},{"$f":"IF(RawData!A595=\"\",\"blank\",\"\")","v":"blank"}]
[null,null,null,null,null,null,null,null,null,null,null,null,null,null,null,null,null,null,null,null,null,{"$f":"IF(RawData!A596<>\"\",ROW(RawData!A596),0)","v":0},{"$f":"IF(RawData!A596=\"\",\"blank\",\"\")","v":"blank"}]
[null,null,null,null,null,null,null,null,null,null,null,null,null,null,null,null,null,null,null,null,null,{"$f":"IF(RawData!A597<>\"\",ROW(RawData!A597),0)","v":0},{"$f":"IF(RawData!A597=\"\",\"blank\",\"\")","v":"blank"}]
[null,null,null,null,null,null,null,null,null,null,null,null,null,null,null,null,null,null,null,null,null,{"$f":"IF(RawData!A598<>\"\",ROW(RawData!A598),0)","v":0},{"$f":"IF(RawData!A598=\"\",\"blank\",\"\")","v":"blank"}]
[null,null,null,null,null,null,null,null,null,null,null,null,null,null,null,null,null,null,null,null,null,{"$f":"IF(RawData!A599<>\"\",ROW(RawData!A599),0)","v":0},{"$f":"IF(RawData!A599=\"\",\"blank\",\"\")","v":"blank"}]
[null,null,null,null,null,null,null,null,null,null,null,null,null,null,null,null,null,null,null,null,null,{"$f":"IF(RawData!A600<>\"\",ROW(RawData!A600),0)","v":0},{"$f":"IF(RawData!A600=\"\",\"blank\",\"\")","v":"blank"}]
[null,null,null,null,null,null,null,null,null,null,null,null,null,null,null,null,null,null,null,null,null,{"$f":"IF(RawData!A601<>\"\",ROW(RawData!A601),0)","v":0},{"$f":"IF(RawData!A601=\"\",\"blank\",\"\")","v":"blank"}]
[null,null,null,null,null,null,null,null,null,null,null,null,null,null,null,null,null,null,null,null,null,{"$f":"IF(RawData!A602<>\"\",ROW(RawData!A602),0)","v":0},{"$f":"IF(RawData!A602=\"\",\"blank\",\"\")","v":"blank"}]
[null,null,null,null,null,null,null,null,null,null,null,null,null,null,null,null,null,null,null,null,null,{"$f":"IF(RawData!A603<>\"\",ROW(RawData!A603),0)","v":0},{"$f":"IF(RawData!A603=\"\",\"blank\",\"\")","v":"blank"}]
[null,null,null,null,null,null,null,null,null,null,null,null,null,null,null,null,null,null,null,null,null,{"$f":"IF(RawData!A604<>\"\",ROW(RawData!A604),0)","v":0},{"$f":"IF(RawData!A604=\"\",\"blank\",\"\")","v":"blank"}]
[null,null,null,null,null,null,null,null,null,null,null,null,null,null,null,null,null,null,null,null,null,{"$f":"IF(RawData!A605<>\"\",ROW(RawData!A605),0)","v":0},{"$f":"IF(RawData!A605=\"\",\"blank\",\"\")","v":"blank"}]
[null,null,null,null,null,null,null,null,null,null,null,null,null,null,null,null,null,null,null,null,null,{"$f":"IF(RawData!A606<>\"\",ROW(RawData!A606),0)","v":0},{"$f":"IF(RawData!A606=\"\",\"blank\",\"\")","v":"blank"}]
[null,null,null,null,null,null,null,null,null,null,null,null,null,null,null,null,null,null,null,null,null,{"$f":"IF(RawData!A607<>\"\",ROW(RawData!A607),0)","v":0},{"$f":"IF(RawData!A607=\"\",\"blank\",\"\")","v":"blank"}]
[null,null,null,null,null,null,null,null,null,null,null,null,null,null,null,null,null,null,null,null,null,{"$f":"IF(RawData!A608<>\"\",ROW(RawData!A608),0)","v":0},{"$f":"IF(RawData!A608=\"\",\"blank\",\"\")","v":"blank"}]
[null,null,null,null,null,null,null,null,null,null,null,null,null,null,null,null,null,null,null,null,null,{"$f":"IF(RawData!A609<>\"\",ROW(RawData!A609),0)","v":0},{"$f":"IF(RawData!A609=\"\",\"blank\",\"\")","v":"blank"}]
[null,null,null,null,null,null,null,null,null,null,null,null,null,null,null,null,null,null,null,null,null,{"$f":"IF(RawData!A610<>\"\",ROW(RawData!A610),0)","v":0},{"$f":"IF(RawData!A610=\"\",\"blank\",\"\")","v":"blank"}]
[null,null,null,null,null,null,null,null,null,null,null,null,null,null,null,null,null,null,null,null,null,{"$f":"IF(RawData!A611<>\"\",ROW(RawData!A611),0)","v":0},{"$f":"IF(RawData!A611=\"\",\"blank\",\"\")","v":"blank"}]
[null,null,null,null,null,null,null,null,null,null,null,null,null,null,null,null,null,null,null,null,null,{"$f":"IF(RawData!A612<>\"\",ROW(RawData!A612),0)","v":0},{"$f":"IF(RawData!A612=\"\",\"blank\",\"\")","v":"blank"}]
[null,null,null,null,null,null,null,null,null,null,null,null,null,null,null,null,null,null,null,null,null,{"$f":"IF(RawData!A613<>\"\",ROW(RawData!A613),0)","v":0},{"$f":"IF(RawData!A613=\"\",\"blank\",\"\")","v":"blank"}]
[null,null,null,null,null,null,null,null,null,null,null,null,null,null,null,null,null,null,null,null,null,{"$f":"IF(RawData!A614<>\"\",ROW(RawData!A614),0)","v":0},{"$f":"IF(RawData!A614=\"\",\"blank\",\"\")","v":"blank"}]
[null,null,null,null,null,null,null,null,null,null,null,null,null,null,null,null,null,null,null,null,null,{"$f":"IF(RawData!A615<>\"\",ROW(RawData!A615),0)","v":0},{"$f":"IF(RawData!A615=\"\",\"blank\",\"\")","v":"blank"}]
[null,null,null,null,null,null,null,null,null,null,null,null,null,null,null,null,null,null,null,null,null,{"$f":"IF(RawData!A616<>\"\",ROW(RawData!A616),0)","v":0},{"$f":"IF(RawData!A616=\"\",\"blank\",\"\")","v":"blank"}]
[null,null,null,null,null,null,null,null,null,null,null,null,null,null,null,null,null,null,null,null,null,{"$f":"IF(RawData!A617<>\"\",ROW(RawData!A617),0)","v":0},{"$f":"IF(RawData!A617=\"\",\"blank\",\"\")","v":"blank"}]
[null,null,null,null,null,null,null,null,null,null,null,null,null,null,null,null,null,null,null,null,null,{"$f":"IF(RawData!A618<>\"\",ROW(RawData!A618),0)","v":0},{"$f":"IF(RawData!A618=\"\",\"blank\",\"\")","v":"blank"}]
[null,null,null,null,null,null,null,null,null,null,null,null,null,null,null,null,null,null,null,null,null,{"$f":"IF(RawData!A619<>\"\",ROW(RawData!A619),0)","v":0},{"$f":"IF(RawData!A619=\"\",\"blank\",\"\")","v":"blank"}]
[null,null,null,null,null,null,null,null,null,null,null,null,null,null,null,null,null,null,null,null,null,{"$f":"IF(RawData!A620<>\"\",ROW(RawData!A620),0)","v":0},{"$f":"IF(RawData!A620=\"\",\"blank\",\"\")","v":"blank"}]
[null,null,null,null,null,null,null,null,null,null,null,null,null,null,null,null,null,null,null,null,null,{"$f":"IF(RawData!A621<>\"\",ROW(RawData!A621),0)","v":0},{"$f":"IF(RawData!A621=\"\",\"blank\",\"\")","v":"blank"}]
[null,null,null,null,null,null,null,null,null,null,null,null,null,null,null,null,null,null,null,null,null,{"$f":"IF(RawData!A622<>\"\",ROW(RawData!A622),0)","v":0},{"$f":"IF(RawData!A622=\"\",\"blank\",\"\")","v":"blank"}]
[null,null,null,null,null,null,null,null,null,null,null,null,null,null,null,null,null,null,null,null,null,{"$f":"IF(RawData!A623<>\"\",ROW(RawData!A623),0)","v":0},{"$f":"IF(RawData!A623=\"\",\"blank\",\"\")","v":"blank"}]
[null,null,null,null,null,null,null,null,null,null,null,null,null,null,null,null,null,null,null,null,null,{"$f":"IF(RawData!A624<>\"\",ROW(RawData!A624),0)","v":0},{"$f":"IF(RawData!A624=\"\",\"blank\",\"\")","v":"blank"}]
[null,null,null,null,null,null,null,null,null,null,null,null,null,null,null,null,null,null,null,null,null,{"$f":"IF(RawData!A625<>\"\",ROW(RawData!A625),0)","v":0},{"$f":"IF(RawData!A625=\"\",\"blank\",\"\")","v":"blank"}]
[null,null,null,null,null,null,null,null,null,null,null,null,null,null,null,null,null,null,null,null,null,{"$f":"IF(RawData!A626<>\"\",ROW(RawData!A626),0)","v":0},{"$f":"IF(RawData!A626=\"\",\"blank\",\"\")","v":"blank"}]
[null,null,null,null,null,null,null,null,null,null,null,null,null,null,null,null,null,null,null,null,null,{"$f":"IF(RawData!A627<>\"\",ROW(RawData!A627),0)","v":0},{"$f":"IF(RawData!A627=\"\",\"blank\",\"\")","v":"blank"}]
[null,null,null,null,null,null,null,null,null,null,null,null,null,null,null,null,null,null,null,null,null,{"$f":"IF(RawData!A628<>\"\",ROW(RawData!A628),0)","v":0},{"$f":"IF(RawData!A628=\"\",\"blank\",\"\")","v":"blank"}]
[null,null,null,null,null,null,null,null,null,null,null,null,null,null,null,null,null,null,null,null,null,{"$f":"IF(RawData!A629<>\"\",ROW(RawData!A629),0)","v":0},{"$f":"IF(RawData!A629=\"\",\"blank\",\"\")","v":"blank"}]
[null,null,null,null,null,null,null,null,null,null,null,null,null,null,null,null,null,null,null,null,null,{"$f":"IF(RawData!A630<>\"\",ROW(RawData!A630),0)","v":0},{"$f":"IF(RawData!A630=\"\",\"blank\",\"\")","v":"blank"}]
[null,null,null,null,null,null,null,null,null,null,null,null,null,null,null,null,null,null,null,null,null,{"$f":"IF(RawData!A631<>\"\",ROW(RawData!A631),0)","v":0},{"$f":"IF(RawData!A631=\"\",\"blank\",\"\")","v":"blank"}]
[null,null,null,null,null,null,null,null,null,null,null,null,null,null,null,null,null,null,null,null,null,{"$f":"IF(RawData!A632<>\"\",ROW(RawData!A632),0)","v":0},{"$f":"IF(RawData!A632=\"\",\"blank\",\"\")","v":"blank"}]
[null,null,null,null,null,null,null,null,null,null,null,null,null,null,null,null,null,null,null,null,null,{"$f":"IF(RawData!A633<>\"\",ROW(RawData!A633),0)","v":0},{"$f":"IF(RawData!A633=\"\",\"blank\",\"\")","v":"blank"}]
[null,null,null,null,null,null,null,null,null,null,null,null,null,null,null,null,null,null,null,null,null,{"$f":"IF(RawData!A634<>\"\",ROW(RawData!A634),0)","v":0},{"$f":"IF(RawData!A634=\"\",\"blank\",\"\")","v":"blank"}]
[null,null,null,null,null,null,null,null,null,null,null,null,null,null,null,null,null,null,null,null,null,{"$f":"IF(RawData!A635<>\"\",ROW(RawData!A635),0)","v":0},{"$f":"IF(RawData!A635=\"\",\"blank\",\"\")","v":"blank"}]
[null,null,null,null,null,null,null,null,null,null,null,null,null,null,null,null,null,null,null,null,null,{"$f":"IF(RawData!A636<>\"\",ROW(RawData!A636),0)","v":0},{"$f":"IF(RawData!A636=\"\",\"blank\",\"\")","v":"blank"}]
[null,null,null,null,null,null,null,null,null,null,null,null,null,null,null,null,null,null,null,null,null,{"$f":"IF(RawData!A637<>\"\",ROW(RawData!A637),0)","v":0},{"$f":"IF(RawData!A637=\"\",\"blank\",\"\")","v":"blank"}]
[null,null,null,null,null,null,null,null,null,null,null,null,null,null,null,null,null,null,null,null,null,{"$f":"IF(RawData!A638<>\"\",ROW(RawData!A638),0)","v":0},{"$f":"IF(RawData!A638=\"\",\"blank\",\"\")","v":"blank"}]
[null,null,null,null,null,null,null,null,null,null,null,null,null,null,null,null,null,null,null,null,null,{"$f":"IF(RawData!A639<>\"\",ROW(RawData!A639),0)","v":0},{"$f":"IF(RawData!A639=\"\",\"blank\",\"\")","v":"blank"}]
[null,null,null,null,null,null,null,null,null,null,null,null,null,null,null,null,null,null,null,null,null,{"$f":"IF(RawData!A640<>\"\",ROW(RawData!A640),0)","v":0},{"$f":"IF(RawData!A640=\"\",\"blank\",\"\")","v":"blank"}]
[null,null,null,null,null,null,null,null,null,null,null,null,null,null,null,null,null,null,null,null,null,{"$f":"IF(RawData!A641<>\"\",ROW(RawData!A641),0)","v":0},{"$f":"IF(RawData!A641=\"\",\"blank\",\"\")","v":"blank"}]
[null,null,null,null,null,null,null,null,null,null,null,null,null,null,null,null,null,null,null,null,null,{"$f":"IF(RawData!A642<>\"\",ROW(RawData!A642),0)","v":0},{"$f":"IF(RawData!A642=\"\",\"blank\",\"\")","v":"blank"}]
[null,null,null,null,null,null,null,null,null,null,null,null,null,null,null,null,null,null,null,null,null,{"$f":"IF(RawData!A643<>\"\",ROW(RawData!A643),0)","v":0},{"$f":"IF(RawData!A643=\"\",\"blank\",\"\")","v":"blank"}]
[null,null,null,null,null,null,null,null,null,null,null,null,null,null,null,null,null,null,null,null,null,{"$f":"IF(RawData!A644<>\"\",ROW(RawData!A644),0)","v":0},{"$f":"IF(RawData!A644=\"\",\"blank\",\"\")","v":"blank"}]
[null,null,null,null,null,null,null,null,null,null,null,null,null,null,null,null,null,null,null,null,null,{"$f":"IF(RawData!A645<>\"\",ROW(RawData!A645),0)","v":0},{"$f":"IF(RawData!A645=\"\",\"blank\",\"\")","v":"blank"}]
[null,null,null,null,null,null,null,null,null,null,null,null,null,null,null,null,null,null,null,null,null,{"$f":"IF(RawData!A646<>\"\",ROW(RawData!A646),0)","v":0},{"$f":"IF(RawData!A646=\"\",\"blank\",\"\")","v":"blank"}]
[null,null,null,null,null,null,null,null,null,null,null,null,null,null,null,null,null,null,null,null,null,{"$f":"IF(RawData!A647<>\"\",ROW(RawData!A647),0)","v":0},{"$f":"IF(RawData!A647=\"\",\"blank\",\"\")","v":"blank"}]
[null,null,null,null,null,null,null,null,null,null,null,null,null,null,null,null,null,null,null,null,null,{"$f":"IF(RawData!A648<>\"\",ROW(RawData!A648),0)","v":0},{"$f":"IF(RawData!A648=\"\",\"blank\",\"\")","v":"blank"}]
[null,null,null,null,null,null,null,null,null,null,null,null,null,null,null,null,null,null,null,null,null,{"$f":"IF(RawData!A649<>\"\",ROW(RawData!A649),0)","v":0},{"$f":"IF(RawData!A649=\"\",\"blank\",\"\")","v":"blank"}]
[null,null,null,null,null,null,null,null,null,null,null,null,null,null,null,null,null,null,null,null,null,{"$f":"IF(RawData!A650<>\"\",ROW(RawData!A650),0)","v":0},{"$f":"IF(RawData!A650=\"\",\"blank\",\"\")","v":"blank"}]
[null,null,null,null,null,null,null,null,null,null,null,null,null,null,null,null,null,null,null,null,null,{"$f":"IF(RawData!A651<>\"\",ROW(RawData!A651),0)","v":0},{"$f":"IF(RawData!A651=\"\",\"blank\",\"\")","v":"blank"}]
[null,null,null,null,null,null,null,null,null,null,null,null,null,null,null,null,null,null,null,null,null,{"$f":"IF(RawData!A652<>\"\",ROW(RawData!A652),0)","v":0},{"$f":"IF(RawData!A652=\"\",\"blank\",\"\")","v":"blank"}]
[null,null,null,null,null,null,null,null,null,null,null,null,null,null,null,null,null,null,null,null,null,{"$f":"IF(RawData!A653<>\"\",ROW(RawData!A653),0)","v":0},{"$f":"IF(RawData!A653=\"\",\"blank\",\"\")","v":"blank"}]
[null,null,null,null,null,null,null,null,null,null,null,null,null,null,null,null,null,null,null,null,null,{"$f":"IF(RawData!A654<>\"\",ROW(RawData!A654),0)","v":0},{"$f":"IF(RawData!A654=\"\",\"blank\",\"\")","v":"blank"}]
[null,null,null,null,null,null,null,null,null,null,null,null,null,null,null,null,null,null,null,null,null,{"$f":"IF(RawData!A655<>\"\",ROW(RawData!A655),0)","v":0},{"$f":"IF(RawData!A655=\"\",\"blank\",\"\")","v":"blank"}]
[null,null,null,null,null,null,null,null,null,null,null,null,null,null,null,null,null,null,null,null,null,{"$f":"IF(RawData!A656<>\"\",ROW(RawData!A656),0)","v":0},{"$f":"IF(RawData!A656=\"\",\"blank\",\"\")","v":"blank"}]
[null,null,null,null,null,null,null,null,null,null,null,null,null,null,null,null,null,null,null,null,null,{"$f":"IF(RawData!A657<>\"\",ROW(RawData!A657),0)","v":0},{"$f":"IF(RawData!A657=\"\",\"blank\",\"\")","v":"blank"}]
[null,null,null,null,null,null,null,null,null,null,null,null,null,null,null,null,null,null,null,null,null,{"$f":"IF(RawData!A658<>\"\",ROW(RawData!A658),0)","v":0},{"$f":"IF(RawData!A658=\"\",\"blank\",\"\")","v":"blank"}]
[null,null,null,null,null,null,null,null,null,null,null,null,null,null,null,null,null,null,null,null,null,{"$f":"IF(RawData!A659<>\"\",ROW(RawData!A659),0)","v":0},{"$f":"IF(RawData!A659=\"\",\"blank\",\"\")","v":"blank"}]
[null,null,null,null,null,null,null,null,null,null,null,null,null,null,null,null,null,null,null,null,null,{"$f":"IF(RawData!A660<>\"\",ROW(RawData!A660),0)","v":0},{"$f":"IF(RawData!A660=\"\",\"blank\",\"\")","v":"blank"}]
[null,null,null,null,null,null,null,null,null,null,null,null,null,null,null,null,null,null,null,null,null,{"$f":"IF(RawData!A661<>\"\",ROW(RawData!A661),0)","v":0},{"$f":"IF(RawData!A661=\"\",\"blank\",\"\")","v":"blank"}]
[null,null,null,null,null,null,null,null,null,null,null,null,null,null,null,null,null,null,null,null,null,{"$f":"IF(RawData!A662<>\"\",ROW(RawData!A662),0)","v":0},{"$f":"IF(RawData!A662=\"\",\"blank\",\"\")","v":"blank"}]
[null,null,null,null,null,null,null,null,null,null,null,null,null,null,null,null,null,null,null,null,null,{"$f":"IF(RawData!A663<>\"\",ROW(RawData!A663),0)","v":0},{"$f":"IF(RawData!A663=\"\",\"blank\",\"\")","v":"blank"}]
[null,null,null,null,null,null,null,null,null,null,null,null,null,null,null,null,null,null,null,null,null,{"$f":"IF(RawData!A664<>\"\",ROW(RawData!A664),0)","v":0},{"$f":"IF(RawData!A664=\"\",\"blank\",\"\")","v":"blank"}]
[null,null,null,null,null,null,null,null,null,null,null,null,null,null,null,null,null,null,null,null,null,{"$f":"IF(RawData!A665<>\"\",ROW(RawData!A665),0)","v":0},{"$f":"IF(RawData!A665=\"\",\"blank\",\"\")","v":"blank"}]
[null,null,null,null,null,null,null,null,null,null,null,null,null,null,null,null,null,null,null,null,null,{"$f":"IF(RawData!A666<>\"\",ROW(RawData!A666),0)","v":0},{"$f":"IF(RawData!A666=\"\",\"blank\",\"\")","v":"blank"}]
[null,null,null,null,null,null,null,null,null,null,null,null,null,null,null,null,null,null,null,null,null,{"$f":"IF(RawData!A667<>\"\",ROW(RawData!A667),0)","v":0},{"$f":"IF(RawData!A667=\"\",\"blank\",\"\")","v":"blank"}]
[null,null,null,null,null,null,null,null,null,null,null,null,null,null,null,null,null,null,null,null,null,{"$f":"IF(RawData!A668<>\"\",ROW(RawData!A668),0)","v":0},{"$f":"IF(RawData!A668=\"\",\"blank\",\"\")","v":"blank"}]
[null,null,null,null,null,null,null,null,null,null,null,null,null,null,null,null,null,null,null,null,null,{"$f":"IF(RawData!A669<>\"\",ROW(RawData!A669),0)","v":0},{"$f":"IF(RawData!A669=\"\",\"blank\",\"\")","v":"blank"}]
[null,null,null,null,null,null,null,null,null,null,null,null,null,null,null,null,null,null,null,null,null,{"$f":"IF(RawData!A670<>\"\",ROW(RawData!A670),0)","v":0},{"$f":"IF(RawData!A670=\"\",\"blank\",\"\")","v":"blank"}]
[null,null,null,null,null,null,null,null,null,null,null,null,null,null,null,null,null,null,null,null,null,{"$f":"IF(RawData!A671<>\"\",ROW(RawData!A671),0)","v":0},{"$f":"IF(RawData!A671=\"\",\"blank\",\"\")","v":"blank"}]
[null,null,null,null,null,null,null,null,null,null,null,null,null,null,null,null,null,null,null,null,null,{"$f":"IF(RawData!A672<>\"\",ROW(RawData!A672),0)","v":0},{"$f":"IF(RawData!A672=\"\",\"blank\",\"\")","v":"blank"}]
[null,null,null,null,null,null,null,null,null,null,null,null,null,null,null,null,null,null,null,null,null,{"$f":"IF(RawData!A673<>\"\",ROW(RawData!A673),0)","v":0},{"$f":"IF(RawData!A673=\"\",\"blank\",\"\")","v":"blank"}]
[null,null,null,null,null,null,null,null,null,null,null,null,null,null,null,null,null,null,null,null,null,{"$f":"IF(RawData!A674<>\"\",ROW(RawData!A674),0)","v":0},{"$f":"IF(RawData!A674=\"\",\"blank\",\"\")","v":"blank"}]
[null,null,null,null,null,null,null,null,null,null,null,null,null,null,null,null,null,null,null,null,null,{"$f":"IF(RawData!A675<>\"\",ROW(RawData!A675),0)","v":0},{"$f":"IF(RawData!A675=\"\",\"blank\",\"\")","v":"blank"}]
[null,null,null,null,null,null,null,null,null,null,null,null,null,null,null,null,null,null,null,null,null,{"$f":"IF(RawData!A676<>\"\",ROW(RawData!A676),0)","v":0},{"$f":"IF(RawData!A676=\"\",\"blank\",\"\")","v":"blank"}]
[null,null,null,null,null,null,null,null,null,null,null,null,null,null,null,null,null,null,null,null,null,{"$f":"IF(RawData!A677<>\"\",ROW(RawData!A677),0)","v":0},{"$f":"IF(RawData!A677=\"\",\"blank\",\"\")","v":"blank"}]
[null,null,null,null,null,null,null,null,null,null,null,null,null,null,null,null,null,null,null,null,null,{"$f":"IF(RawData!A678<>\"\",ROW(RawData!A678),0)","v":0},{"$f":"IF(RawData!A678=\"\",\"blank\",\"\")","v":"blank"}]
[null,null,null,null,null,null,null,null,null,null,null,null,null,null,null,null,null,null,null,null,null,{"$f":"IF(RawData!A679<>\"\",ROW(RawData!A679),0)","v":0},{"$f":"IF(RawData!A679=\"\",\"blank\",\"\")","v":"blank"}]
[null,null,null,null,null,null,null,null,null,null,null,null,null,null,null,null,null,null,null,null,null,{"$f":"IF(RawData!A680<>\"\",ROW(RawData!A680),0)","v":0},{"$f":"IF(RawData!A680=\"\",\"blank\",\"\")","v":"blank"}]
[null,null,null,null,null,null,null,null,null,null,null,null,null,null,null,null,null,null,null,null,null,{"$f":"IF(RawData!A681<>\"\",ROW(RawData!A681),0)","v":0},{"$f":"IF(RawData!A681=\"\",\"blank\",\"\")","v":"blank"}]
[null,null,null,null,null,null,null,null,null,null,null,null,null,null,null,null,null,null,null,null,null,{"$f":"IF(RawData!A682<>\"\",ROW(RawData!A682),0)","v":0},{"$f":"IF(RawData!A682=\"\",\"blank\",\"\")","v":"blank"}]
[null,null,null,null,null,null,null,null,null,null,null,null,null,null,null,null,null,null,null,null,null,{"$f":"IF(RawData!A683<>\"\",ROW(RawData!A683),0)","v":0},{"$f":"IF(RawData!A683=\"\",\"blank\",\"\")","v":"blank"}]
[null,null,null,null,null,null,null,null,null,null,null,null,null,null,null,null,null,null,null,null,null,{"$f":"IF(RawData!A684<>\"\",ROW(RawData!A684),0)","v":0},{"$f":"IF(RawData!A684=\"\",\"blank\",\"\")","v":"blank"}]
[null,null,null,null,null,null,null,null,null,null,null,null,null,null,null,null,null,null,null,null,null,{"$f":"IF(RawData!A685<>\"\",ROW(RawData!A685),0)","v":0},{"$f":"IF(RawData!A685=\"\",\"blank\",\"\")","v":"blank"}]
[null,null,null,null,null,null,null,null,null,null,null,null,null,null,null,null,null,null,null,null,null,{"$f":"IF(RawData!A686<>\"\",ROW(RawData!A686),0)","v":0},{"$f":"IF(RawData!A686=\"\",\"blank\",\"\")","v":"blank"}]
[null,null,null,null,null,null,null,null,null,null,null,null,null,null,null,null,null,null,null,null,null,{"$f":"IF(RawData!A687<>\"\",ROW(RawData!A687),0)","v":0},{"$f":"IF(RawData!A687=\"\",\"blank\",\"\")","v":"blank"}]
[null,null,null,null,null,null,null,null,null,null,null,null,null,null,null,null,null,null,null,null,null,{"$f":"IF(RawData!A688<>\"\",ROW(RawData!A688),0)","v":0},{"$f":"IF(RawData!A688=\"\",\"blank\",\"\")","v":"blank"}]
[null,null,null,null,null,null,null,null,null,null,null,null,null,null,null,null,null,null,null,null,null,{"$f":"IF(RawData!A689<>\"\",ROW(RawData!A689),0)","v":0},{"$f":"IF(RawData!A689=\"\",\"blank\",\"\")","v":"blank"}]
[null,null,null,null,null,null,null,null,null,null,null,null,null,null,null,null,null,null,null,null,null,{"$f":"IF(RawData!A690<>\"\",ROW(RawData!A690),0)","v":0},{"$f":"IF(RawData!A690=\"\",\"blank\",\"\")","v":"blank"}]
[null,null,null,null,null,null,null,null,null,null,null,null,null,null,null,null,null,null,null,null,null,{"$f":"IF(RawData!A691<>\"\",ROW(RawData!A691),0)","v":0},{"$f":"IF(RawData!A691=\"\",\"blank\",\"\")","v":"blank"}]
[null,null,null,null,null,null,null,null,null,null,null,null,null,null,null,null,null,null,null,null,null,{"$f":"IF(RawData!A692<>\"\",ROW(RawData!A692),0)","v":0},{"$f":"IF(RawData!A692=\"\",\"blank\",\"\")","v":"blank"}]
[null,null,null,null,null,null,null,null,null,null,null,null,null,null,null,null,null,null,null,null,null,{"$f":"IF(RawData!A693<>\"\",ROW(RawData!A693),0)","v":0},{"$f":"IF(RawData!A693=\"\",\"blank\",\"\")","v":"blank"}]
[null,null,null,null,null,null,null,null,null,null,null,null,null,null,null,null,null,null,null,null,null,{"$f":"IF(RawData!A694<>\"\",ROW(RawData!A694),0)","v":0},{"$f":"IF(RawData!A694=\"\",\"blank\",\"\")","v":"blank"}]
[null,null,null,null,null,null,null,null,null,null,null,null,null,null,null,null,null,null,null,null,null,{"$f":"IF(RawData!A695<>\"\",ROW(RawData!A695),0)","v":0},{"$f":"IF(RawData!A695=\"\",\"blank\",\"\")","v":"blank"}]
[null,null,null,null,null,null,null,null,null,null,null,null,null,null,null,null,null,null,null,null,null,{"$f":"IF(RawData!A696<>\"\",ROW(RawData!A696),0)","v":0},{"$f":"IF(RawData!A696=\"\",\"blank\",\"\")","v":"blank"}]
[null,null,null,null,null,null,null,null,null,null,null,null,null,null,null,null,null,null,null,null,null,{"$f":"IF(RawData!A697<>\"\",ROW(RawData!A697),0)","v":0},{"$f":"IF(RawData!A697=\"\",\"blank\",\"\")","v":"blank"}]
[null,null,null,null,null,null,null,null,null,null,null,null,null,null,null,null,null,null,null,null,null,{"$f":"IF(RawData!A698<>\"\",ROW(RawData!A698),0)","v":0},{"$f":"IF(RawData!A698=\"\",\"blank\",\"\")","v":"blank"}]
[null,null,null,null,null,null,null,null,null,null,null,null,null,null,null,null,null,null,null,null,null,{"$f":"IF(RawData!A699<>\"\",ROW(RawData!A699),0)","v":0},{"$f":"IF(RawData!A699=\"\",\"blank\",\"\")","v":"blank"}]
[null,null,null,null,null,null,null,null,null,null,null,null,null,null,null,null,null,null,null,null,null,{"$f":"IF(RawData!A700<>\"\",ROW(RawData!A700),0)","v":0},{"$f":"IF(RawData!A700=\"\",\"blank\",\"\")","v":"blank"}]
[null,null,null,null,null,null,null,null,null,null,null,null,null,null,null,null,null,null,null,null,null,{"$f":"IF(RawData!A701<>\"\",ROW(RawData!A701),0)","v":0},{"$f":"IF(RawData!A701=\"\",\"blank\",\"\")","v":"blank"}]
[null,null,null,null,null,null,null,null,null,null,null,null,null,null,null,null,null,null,null,null,null,{"$f":"IF(RawData!A702<>\"\",ROW(RawData!A702),0)","v":0},{"$f":"IF(RawData!A702=\"\",\"blank\",\"\")","v":"blank"}]
[null,null,null,null,null,null,null,null,null,null,null,null,null,null,null,null,null,null,null,null,null,{"$f":"IF(RawData!A703<>\"\",ROW(RawData!A703),0)","v":0},{"$f":"IF(RawData!A703=\"\",\"blank\",\"\")","v":"blank"}]
[null,null,null,null,null,null,null,null,null,null,null,null,null,null,null,null,null,null,null,null,null,{"$f":"IF(RawData!A704<>\"\",ROW(RawData!A704),0)","v":0},{"$f":"IF(RawData!A704=\"\",\"blank\",\"\")","v":"blank"}]
[null,null,null,null,null,null,null,null,null,null,null,null,null,null,null,null,null,null,null,null,null,{"$f":"IF(RawData!A705<>\"\",ROW(RawData!A705),0)","v":0},{"$f":"IF(RawData!A705=\"\",\"blank\",\"\")","v":"blank"}]
[null,null,null,null,null,null,null,null,null,null,null,null,null,null,null,null,null,null,null,null,null,{"$f":"IF(RawData!A706<>\"\",ROW(RawData!A706),0)","v":0},{"$f":"IF(RawData!A706=\"\",\"blank\",\"\")","v":"blank"}]
[null,null,null,null,null,null,null,null,null,null,null,null,null,null,null,null,null,null,null,null,null,{"$f":"IF(RawData!A707<>\"\",ROW(RawData!A707),0)","v":0},{"$f":"IF(RawData!A707=\"\",\"blank\",\"\")","v":"blank"}]
[null,null,null,null,null,null,null,null,null,null,null,null,null,null,null,null,null,null,null,null,null,{"$f":"IF(RawData!A708<>\"\",ROW(RawData!A708),0)","v":0},{"$f":"IF(RawData!A708=\"\",\"blank\",\"\")","v":"blank"}]
[null,null,null,null,null,null,null,null,null,null,null,null,null,null,null,null,null,null,null,null,null,{"$f":"IF(RawData!A709<>\"\",ROW(RawData!A709),0)","v":0},{"$f":"IF(RawData!A709=\"\",\"blank\",\"\")","v":"blank"}]
[null,null,null,null,null,null,null,null,null,null,null,null,null,null,null,null,null,null,null,null,null,{"$f":"IF(RawData!A710<>\"\",ROW(RawData!A710),0)","v":0},{"$f":"IF(RawData!A710=\"\",\"blank\",\"\")","v":"blank"}]
[null,null,null,null,null,null,null,null,null,null,null,null,null,null,null,null,null,null,null,null,null,{"$f":"IF(RawData!A711<>\"\",ROW(RawData!A711),0)","v":0},{"$f":"IF(RawData!A711=\"\",\"blank\",\"\")","v":"blank"}]
[null,null,null,null,null,null,null,null,null,null,null,null,null,null,null,null,null,null,null,null,null,{"$f":"IF(RawData!A712<>\"\",ROW(RawData!A712),0)","v":0},{"$f":"IF(RawData!A712=\"\",\"blank\",\"\")","v":"blank"}]
[null,null,null,null,null,null,null,null,null,null,null,null,null,null,null,null,null,null,null,null,null,{"$f":"IF(RawData!A713<>\"\",ROW(RawData!A713),0)","v":0},{"$f":"IF(RawData!A713=\"\",\"blank\",\"\")","v":"blank"}]
[null,null,null,null,null,null,null,null,null,null,null,null,null,null,null,null,null,null,null,null,null,{"$f":"IF(RawData!A714<>\"\",ROW(RawData!A714),0)","v":0},{"$f":"IF(RawData!A714=\"\",\"blank\",\"\")","v":"blank"}]
[null,null,null,null,null,null,null,null,null,null,null,null,null,null,null,null,null,null,null,null,null,{"$f":"IF(RawData!A715<>\"\",ROW(RawData!A715),0)","v":0},{"$f":"IF(RawData!A715=\"\",\"blank\",\"\")","v":"blank"}]
[null,null,null,null,null,null,null,null,null,null,null,null,null,null,null,null,null,null,null,null,null,{"$f":"IF(RawData!A716<>\"\",ROW(RawData!A716),0)","v":0},{"$f":"IF(RawData!A716=\"\",\"blank\",\"\")","v":"blank"}]
[null,null,null,null,null,null,null,null,null,null,null,null,null,null,null,null,null,null,null,null,null,{"$f":"IF(RawData!A717<>\"\",ROW(RawData!A717),0)","v":0},{"$f":"IF(RawData!A717=\"\",\"blank\",\"\")","v":"blank"}]
[null,null,null,null,null,null,null,null,null,null,null,null,null,null,null,null,null,null,null,null,null,{"$f":"IF(RawData!A718<>\"\",ROW(RawData!A718),0)","v":0},{"$f":"IF(RawData!A718=\"\",\"blank\",\"\")","v":"blank"}]
[null,null,null,null,null,null,null,null,null,null,null,null,null,null,null,null,null,null,null,null,null,{"$f":"IF(RawData!A719<>\"\",ROW(RawData!A719),0)","v":0},{"$f":"IF(RawData!A719=\"\",\"blank\",\"\")","v":"blank"}]
[null,null,null,null,null,null,null,null,null,null,null,null,null,null,null,null,null,null,null,null,null,{"$f":"IF(RawData!A720<>\"\",ROW(RawData!A720),0)","v":0},{"$f":"IF(RawData!A720=\"\",\"blank\",\"\")","v":"blank"}]
[null,null,null,null,null,null,null,null,null,null,null,null,null,null,null,null,null,null,null,null,null,{"$f":"IF(RawData!A721<>\"\",ROW(RawData!A721),0)","v":0},{"$f":"IF(RawData!A721=\"\",\"blank\",\"\")","v":"blank"}]
[null,null,null,null,null,null,null,null,null,null,null,null,null,null,null,null,null,null,null,null,null,{"$f":"IF(RawData!A722<>\"\",ROW(RawData!A722),0)","v":0},{"$f":"IF(RawData!A722=\"\",\"blank\",\"\")","v":"blank"}]
[null,null,null,null,null,null,null,null,null,null,null,null,null,null,null,null,null,null,null,null,null,{"$f":"IF(RawData!A723<>\"\",ROW(RawData!A723),0)","v":0},{"$f":"IF(RawData!A723=\"\",\"blank\",\"\")","v":"blank"}]
[null,null,null,null,null,null,null,null,null,null,null,null,null,null,null,null,null,null,null,null,null,{"$f":"IF(RawData!A724<>\"\",ROW(RawData!A724),0)","v":0},{"$f":"IF(RawData!A724=\"\",\"blank\",\"\")","v":"blank"}]
[null,null,null,null,null,null,null,null,null,null,null,null,null,null,null,null,null,null,null,null,null,{"$f":"IF(RawData!A725<>\"\",ROW(RawData!A725),0)","v":0},{"$f":"IF(RawData!A725=\"\",\"blank\",\"\")","v":"blank"}]
[null,null,null,null,null,null,null,null,null,null,null,null,null,null,null,null,null,null,null,null,null,{"$f":"IF(RawData!A726<>\"\",ROW(RawData!A726),0)","v":0},{"$f":"IF(RawData!A726=\"\",\"blank\",\"\")","v":"blank"}]
[null,null,null,null,null,null,null,null,null,null,null,null,null,null,null,null,null,null,null,null,null,{"$f":"IF(RawData!A727<>\"\",ROW(RawData!A727),0)","v":0},{"$f":"IF(RawData!A727=\"\",\"blank\",\"\")","v":"blank"}]
[null,null,null,null,null,null,null,null,null,null,null,null,null,null,null,null,null,null,null,null,null,{"$f":"IF(RawData!A728<>\"\",ROW(RawData!A728),0)","v":0},{"$f":"IF(RawData!A728=\"\",\"blank\",\"\")","v":"blank"}]
[null,null,null,null,null,null,null,null,null,null,null,null,null,null,null,null,null,null,null,null,null,{"$f":"IF(RawData!A729<>\"\",ROW(RawData!A729),0)","v":0},{"$f":"IF(RawData!A729=\"\",\"blank\",\"\")","v":"blank"}]
[null,null,null,null,null,null,null,null,null,null,null,null,null,null,null,null,null,null,null,null,null,{"$f":"IF(RawData!A730<>\"\",ROW(RawData!A730),0)","v":0},{"$f":"IF(RawData!A730=\"\",\"blank\",\"\")","v":"blank"}]
[null,null,null,null,null,null,null,null,null,null,null,null,null,null,null,null,null,null,null,null,null,{"$f":"IF(RawData!A731<>\"\",ROW(RawData!A731),0)","v":0},{"$f":"IF(RawData!A731=\"\",\"blank\",\"\")","v":"blank"}]
[null,null,null,null,null,null,null,null,null,null,null,null,null,null,null,null,null,null,null,null,null,{"$f":"IF(RawData!A732<>\"\",ROW(RawData!A732),0)","v":0},{"$f":"IF(RawData!A732=\"\",\"blank\",\"\")","v":"blank"}]
[null,null,null,null,null,null,null,null,null,null,null,null,null,null,null,null,null,null,null,null,null,{"$f":"IF(RawData!A733<>\"\",ROW(RawData!A733),0)","v":0},{"$f":"IF(RawData!A733=\"\",\"blank\",\"\")","v":"blank"}]
[null,null,null,null,null,null,null,null,null,null,null,null,null,null,null,null,null,null,null,null,null,{"$f":"IF(RawData!A734<>\"\",ROW(RawData!A734),0)","v":0},{"$f":"IF(RawData!A734=\"\",\"blank\",\"\")","v":"blank"}]
[null,null,null,null,null,null,null,null,null,null,null,null,null,null,null,null,null,null,null,null,null,{"$f":"IF(RawData!A735<>\"\",ROW(RawData!A735),0)","v":0},{"$f":"IF(RawData!A735=\"\",\"blank\",\"\")","v":"blank"}]
[null,null,null,null,null,null,null,null,null,null,null,null,null,null,null,null,null,null,null,null,null,{"$f":"IF(RawData!A736<>\"\",ROW(RawData!A736),0)","v":0},{"$f":"IF(RawData!A736=\"\",\"blank\",\"\")","v":"blank"}]
[null,null,null,null,null,null,null,null,null,null,null,null,null,null,null,null,null,null,null,null,null,{"$f":"IF(RawData!A737<>\"\",ROW(RawData!A737),0)","v":0},{"$f":"IF(RawData!A737=\"\",\"blank\",\"\")","v":"blank"}]
[null,null,null,null,null,null,null,null,null,null,null,null,null,null,null,null,null,null,null,null,null,{"$f":"IF(RawData!A738<>\"\",ROW(RawData!A738),0)","v":0},{"$f":"IF(RawData!A738=\"\",\"blank\",\"\")","v":"blank"}]
[null,null,null,null,null,null,null,null,null,null,null,null,null,null,null,null,null,null,null,null,null,{"$f":"IF(RawData!A739<>\"\",ROW(RawData!A739),0)","v":0},{"$f":"IF(RawData!A739=\"\",\"blank\",\"\")","v":"blank"}]
[null,null,null,null,null,null,null,null,null,null,null,null,null,null,null,null,null,null,null,null,null,{"$f":"IF(RawData!A740<>\"\",ROW(RawData!A740),0)","v":0},{"$f":"IF(RawData!A740=\"\",\"blank\",\"\")","v":"blank"}]
[null,null,null,null,null,null,null,null,null,null,null,null,null,null,null,null,null,null,null,null,null,{"$f":"IF(RawData!A741<>\"\",ROW(RawData!A741),0)","v":0},{"$f":"IF(RawData!A741=\"\",\"blank\",\"\")","v":"blank"}]
[null,null,null,null,null,null,null,null,null,null,null,null,null,null,null,null,null,null,null,null,null,{"$f":"IF(RawData!A742<>\"\",ROW(RawData!A742),0)","v":0},{"$f":"IF(RawData!A742=\"\",\"blank\",\"\")","v":"blank"}]
[null,null,null,null,null,null,null,null,null,null,null,null,null,null,null,null,null,null,null,null,null,{"$f":"IF(RawData!A743<>\"\",ROW(RawData!A743),0)","v":0},{"$f":"IF(RawData!A743=\"\",\"blank\",\"\")","v":"blank"}]
[null,null,null,null,null,null,null,null,null,null,null,null,null,null,null,null,null,null,null,null,null,{"$f":"IF(RawData!A744<>\"\",ROW(RawData!A744),0)","v":0},{"$f":"IF(RawData!A744=\"\",\"blank\",\"\")","v":"blank"}]
[null,null,null,null,null,null,null,null,null,null,null,null,null,null,null,null,null,null,null,null,null,{"$f":"IF(RawData!A745<>\"\",ROW(RawData!A745),0)","v":0},{"$f":"IF(RawData!A745=\"\",\"blank\",\"\")","v":"blank"}]
[null,null,null,null,null,null,null,null,null,null,null,null,null,null,null,null,null,null,null,null,null,{"$f":"IF(RawData!A746<>\"\",ROW(RawData!A746),0)","v":0},{"$f":"IF(RawData!A746=\"\",\"blank\",\"\")","v":"blank"}]
[null,null,null,null,null,null,null,null,null,null,null,null,null,null,null,null,null,null,null,null,null,{"$f":"IF(RawData!A747<>\"\",ROW(RawData!A747),0)","v":0},{"$f":"IF(RawData!A747=\"\",\"blank\",\"\")","v":"blank"}]
[null,null,null,null,null,null,null,null,null,null,null,null,null,null,null,null,null,null,null,null,null,{"$f":"IF(RawData!A748<>\"\",ROW(RawData!A748),0)","v":0},{"$f":"IF(RawData!A748=\"\",\"blank\",\"\")","v":"blank"}]
[null,null,null,null,null,null,null,null,null,null,null,null,null,null,null,null,null,null,null,null,null,{"$f":"IF(RawData!A749<>\"\",ROW(RawData!A749),0)","v":0},{"$f":"IF(RawData!A749=\"\",\"blank\",\"\")","v":"blank"}]
[null,null,null,null,null,null,null,null,null,null,null,null,null,null,null,null,null,null,null,null,null,{"$f":"IF(RawData!A750<>\"\",ROW(RawData!A750),0)","v":0},{"$f":"IF(RawData!A750=\"\",\"blank\",\"\")","v":"blank"}]
[null,null,null,null,null,null,null,null,null,null,null,null,null,null,null,null,null,null,null,null,null,{"$f":"IF(RawData!A751<>\"\",ROW(RawData!A751),0)","v":0},{"$f":"IF(RawData!A751=\"\",\"blank\",\"\")","v":"blank"}]
[null,null,null,null,null,null,null,null,null,null,null,null,null,null,null,null,null,null,null,null,null,{"$f":"IF(RawData!A752<>\"\",ROW(RawData!A752),0)","v":0},{"$f":"IF(RawData!A752=\"\",\"blank\",\"\")","v":"blank"}]
[null,null,null,null,null,null,null,null,null,null,null,null,null,null,null,null,null,null,null,null,null,{"$f":"IF(RawData!A753<>\"\",ROW(RawData!A753),0)","v":0},{"$f":"IF(RawData!A753=\"\",\"blank\",\"\")","v":"blank"}]
[null,null,null,null,null,null,null,null,null,null,null,null,null,null,null,null,null,null,null,null,null,{"$f":"IF(RawData!A754<>\"\",ROW(RawData!A754),0)","v":0},{"$f":"IF(RawData!A754=\"\",\"blank\",\"\")","v":"blank"}]
[null,null,null,null,null,null,null,null,null,null,null,null,null,null,null,null,null,null,null,null,null,{"$f":"IF(RawData!A755<>\"\",ROW(RawData!A755),0)","v":0},{"$f":"IF(RawData!A755=\"\",\"blank\",\"\")","v":"blank"}]
[null,null,null,null,null,null,null,null,null,null,null,null,null,null,null,null,null,null,null,null,null,{"$f":"IF(RawData!A756<>\"\",ROW(RawData!A756),0)","v":0},{"$f":"IF(RawData!A756=\"\",\"blank\",\"\")","v":"blank"}]
[null,null,null,null,null,null,null,null,null,null,null,null,null,null,null,null,null,null,null,null,null,{"$f":"IF(RawData!A757<>\"\",ROW(RawData!A757),0)","v":0},{"$f":"IF(RawData!A757=\"\",\"blank\",\"\")","v":"blank"}]
[null,null,null,null,null,null,null,null,null,null,null,null,null,null,null,null,null,null,null,null,null,{"$f":"IF(RawData!A758<>\"\",ROW(RawData!A758),0)","v":0},{"$f":"IF(RawData!A758=\"\",\"blank\",\"\")","v":"blank"}]
[null,null,null,null,null,null,null,null,null,null,null,null,null,null,null,null,null,null,null,null,null,{"$f":"IF(RawData!A759<>\"\",ROW(RawData!A759),0)","v":0},{"$f":"IF(RawData!A759=\"\",\"blank\",\"\")","v":"blank"}]
[null,null,null,null,null,null,null,null,null,null,null,null,null,null,null,null,null,null,null,null,null,{"$f":"IF(RawData!A760<>\"\",ROW(RawData!A760),0)","v":0},{"$f":"IF(RawData!A760=\"\",\"blank\",\"\")","v":"blank"}]
[null,null,null,null,null,null,null,null,null,null,null,null,null,null,null,null,null,null,null,null,null,{"$f":"IF(RawData!A761<>\"\",ROW(RawData!A761),0)","v":0},{"$f":"IF(RawData!A761=\"\",\"blank\",\"\")","v":"blank"}]
[null,null,null,null,null,null,null,null,null,null,null,null,null,null,null,null,null,null,null,null,null,{"$f":"IF(RawData!A762<>\"\",ROW(RawData!A762),0)","v":0},{"$f":"IF(RawData!A762=\"\",\"blank\",\"\")","v":"blank"}]
[null,null,null,null,null,null,null,null,null,null,null,null,null,null,null,null,null,null,null,null,null,{"$f":"IF(RawData!A763<>\"\",ROW(RawData!A763),0)","v":0},{"$f":"IF(RawData!A763=\"\",\"blank\",\"\")","v":"blank"}]
[null,null,null,null,null,null,null,null,null,null,null,null,null,null,null,null,null,null,null,null,null,{"$f":"IF(RawData!A764<>\"\",ROW(RawData!A764),0)","v":0},{"$f":"IF(RawData!A764=\"\",\"blank\",\"\")","v":"blank"}]
[null,null,null,null,null,null,null,null,null,null,null,null,null,null,null,null,null,null,null,null,null,{"$f":"IF(RawData!A765<>\"\",ROW(RawData!A765),0)","v":0},{"$f":"IF(RawData!A765=\"\",\"blank\",\"\")","v":"blank"}]
[null,null,null,null,null,null,null,null,null,null,null,null,null,null,null,null,null,null,null,null,null,{"$f":"IF(RawData!A766<>\"\",ROW(RawData!A766),0)","v":0},{"$f":"IF(RawData!A766=\"\",\"blank\",\"\")","v":"blank"}]
[null,null,null,null,null,null,null,null,null,null,null,null,null,null,null,null,null,null,null,null,null,{"$f":"IF(RawData!A767<>\"\",ROW(RawData!A767),0)","v":0},{"$f":"IF(RawData!A767=\"\",\"blank\",\"\")","v":"blank"}]
[null,null,null,null,null,null,null,null,null,null,null,null,null,null,null,null,null,null,null,null,null,{"$f":"IF(RawData!A768<>\"\",ROW(RawData!A768),0)","v":0},{"$f":"IF(RawData!A768=\"\",\"blank\",\"\")","v":"blank"}]
[null,null,null,null,null,null,null,null,null,null,null,null,null,null,null,null,null,null,null,null,null,{"$f":"IF(RawData!A769<>\"\",ROW(RawData!A769),0)","v":0},{"$f":"IF(RawData!A769=\"\",\"blank\",\"\")","v":"blank"}]
[null,null,null,null,null,null,null,null,null,null,null,null,null,null,null,null,null,null,null,null,null,{"$f":"IF(RawData!A770<>\"\",ROW(RawData!A770),0)","v":0},{"$f":"IF(RawData!A770=\"\",\"blank\",\"\")","v":"blank"}]
[null,null,null,null,null,null,null,null,null,null,null,null,null,null,null,null,null,null,null,null,null,{"$f":"IF(RawData!A771<>\"\",ROW(RawData!A771),0)","v":0},{"$f":"IF(RawData!A771=\"\",\"blank\",\"\")","v":"blank"}]
[null,null,null,null,null,null,null,null,null,null,null,null,null,null,null,null,null,null,null,null,null,{"$f":"IF(RawData!A772<>\"\",ROW(RawData!A772),0)","v":0},{"$f":"IF(RawData!A772=\"\",\"blank\",\"\")","v":"blank"}]
[null,null,null,null,null,null,null,null,null,null,null,null,null,null,null,null,null,null,null,null,null,{"$f":"IF(RawData!A773<>\"\",ROW(RawData!A773),0)","v":0},{"$f":"IF(RawData!A773=\"\",\"blank\",\"\")","v":"blank"}]
[null,null,null,null,null,null,null,null,null,null,null,null,null,null,null,null,null,null,null,null,null,{"$f":"IF(RawData!A774<>\"\",ROW(RawData!A774),0)","v":0},{"$f":"IF(RawData!A774=\"\",\"blank\",\"\")","v":"blank"}]
[null,null,null,null,null,null,null,null,null,null,null,null,null,null,null,null,null,null,null,null,null,{"$f":"IF(RawData!A775<>\"\",ROW(RawData!A775),0)","v":0},{"$f":"IF(RawData!A775=\"\",\"blank\",\"\")","v":"blank"}]
[null,null,null,null,null,null,null,null,null,null,null,null,null,null,null,null,null,null,null,null,null,{"$f":"IF(RawData!A776<>\"\",ROW(RawData!A776),0)","v":0},{"$f":"IF(RawData!A776=\"\",\"blank\",\"\")","v":"blank"}]
[null,null,null,null,null,null,null,null,null,null,null,null,null,null,null,null,null,null,null,null,null,{"$f":"IF(RawData!A777<>\"\",ROW(RawData!A777),0)","v":0},{"$f":"IF(RawData!A777=\"\",\"blank\",\"\")","v":"blank"}]
[null,null,null,null,null,null,null,null,null,null,null,null,null,null,null,null,null,null,null,null,null,{"$f":"IF(RawData!A778<>\"\",ROW(RawData!A778),0)","v":0},{"$f":"IF(RawData!A778=\"\",\"blank\",\"\")","v":"blank"}]
[null,null,null,null,null,null,null,null,null,null,null,null,null,null,null,null,null,null,null,null,null,{"$f":"IF(RawData!A779<>\"\",ROW(RawData!A779),0)","v":0},{"$f":"IF(RawData!A779=\"\",\"blank\",\"\")","v":"blank"}]
[null,null,null,null,null,null,null,null,null,null,null,null,null,null,null,null,null,null,null,null,null,{"$f":"IF(RawData!A780<>\"\",ROW(RawData!A780),0)","v":0},{"$f":"IF(RawData!A780=\"\",\"blank\",\"\")","v":"blank"}]
[null,null,null,null,null,null,null,null,null,null,null,null,null,null,null,null,null,null,null,null,null,{"$f":"IF(RawData!A781<>\"\",ROW(RawData!A781),0)","v":0},{"$f":"IF(RawData!A781=\"\",\"blank\",\"\")","v":"blank"}]
[null,null,null,null,null,null,null,null,null,null,null,null,null,null,null,null,null,null,null,null,null,{"$f":"IF(RawData!A782<>\"\",ROW(RawData!A782),0)","v":0},{"$f":"IF(RawData!A782=\"\",\"blank\",\"\")","v":"blank"}]
[null,null,null,null,null,null,null,null,null,null,null,null,null,null,null,null,null,null,null,null,null,{"$f":"IF(RawData!A783<>\"\",ROW(RawData!A783),0)","v":0},{"$f":"IF(RawData!A783=\"\",\"blank\",\"\")","v":"blank"}]
[null,null,null,null,null,null,null,null,null,null,null,null,null,null,null,null,null,null,null,null,null,{"$f":"IF(RawData!A784<>\"\",ROW(RawData!A784),0)","v":0},{"$f":"IF(RawData!A784=\"\",\"blank\",\"\")","v":"blank"}]
[null,null,null,null,null,null,null,null,null,null,null,null,null,null,null,null,null,null,null,null,null,{"$f":"IF(RawData!A785<>\"\",ROW(RawData!A785),0)","v":0},{"$f":"IF(RawData!A785=\"\",\"blank\",\"\")","v":"blank"}]
[null,null,null,null,null,null,null,null,null,null,null,null,null,null,null,null,null,null,null,null,null,{"$f":"IF(RawData!A786<>\"\",ROW(RawData!A786),0)","v":0},{"$f":"IF(RawData!A786=\"\",\"blank\",\"\")","v":"blank"}]
[null,null,null,null,null,null,null,null,null,null,null,null,null,null,null,null,null,null,null,null,null,{"$f":"IF(RawData!A787<>\"\",ROW(RawData!A787),0)","v":0},{"$f":"IF(RawData!A787=\"\",\"blank\",\"\")","v":"blank"}]
[null,null,null,null,null,null,null,null,null,null,null,null,null,null,null,null,null,null,null,null,null,{"$f":"IF(RawData!A788<>\"\",ROW(RawData!A788),0)","v":0},{"$f":"IF(RawData!A788=\"\",\"blank\",\"\")","v":"blank"}]
[null,null,null,null,null,null,null,null,null,null,null,null,null,null,null,null,null,null,null,null,null,{"$f":"IF(RawData!A789<>\"\",ROW(RawData!A789),0)","v":0},{"$f":"IF(RawData!A789=\"\",\"blank\",\"\")","v":"blank"}]
[null,null,null,null,null,null,null,null,null,null,null,null,null,null,null,null,null,null,null,null,null,{"$f":"IF(RawData!A790<>\"\",ROW(RawData!A790),0)","v":0},{"$f":"IF(RawData!A790=\"\",\"blank\",\"\")","v":"blank"}]
[null,null,null,null,null,null,null,null,null,null,null,null,null,null,null,null,null,null,null,null,null,{"$f":"IF(RawData!A791<>\"\",ROW(RawData!A791),0)","v":0},{"$f":"IF(RawData!A791=\"\",\"blank\",\"\")","v":"blank"}]
[null,null,null,null,null,null,null,null,null,null,null,null,null,null,null,null,null,null,null,null,null,{"$f":"IF(RawData!A792<>\"\",ROW(RawData!A792),0)","v":0},{"$f":"IF(RawData!A792=\"\",\"blank\",\"\")","v":"blank"}]
[null,null,null,null,null,null,null,null,null,null,null,null,null,null,null,null,null,null,null,null,null,{"$f":"IF(RawData!A793<>\"\",ROW(RawData!A793),0)","v":0},{"$f":"IF(RawData!A793=\"\",\"blank\",\"\")","v":"blank"}]
[null,null,null,null,null,null,null,null,null,null,null,null,null,null,null,null,null,null,null,null,null,{"$f":"IF(RawData!A794<>\"\",ROW(RawData!A794),0)","v":0},{"$f":"IF(RawData!A794=\"\",\"blank\",\"\")","v":"blank"}]
[null,null,null,null,null,null,null,null,null,null,null,null,null,null,null,null,null,null,null,null,null,{"$f":"IF(RawData!A795<>\"\",ROW(RawData!A795),0)","v":0},{"$f":"IF(RawData!A795=\"\",\"blank\",\"\")","v":"blank"}]
[null,null,null,null,null,null,null,null,null,null,null,null,null,null,null,null,null,null,null,null,null,{"$f":"IF(RawData!A796<>\"\",ROW(RawData!A796),0)","v":0},{"$f":"IF(RawData!A796=\"\",\"blank\",\"\")","v":"blank"}]
[null,null,null,null,null,null,null,null,null,null,null,null,null,null,null,null,null,null,null,null,null,{"$f":"IF(RawData!A797<>\"\",ROW(RawData!A797),0)","v":0},{"$f":"IF(RawData!A797=\"\",\"blank\",\"\")","v":"blank"}]
[null,null,null,null,null,null,null,null,null,null,null,null,null,null,null,null,null,null,null,null,null,{"$f":"IF(RawData!A798<>\"\",ROW(RawData!A798),0)","v":0},{"$f":"IF(RawData!A798=\"\",\"blank\",\"\")","v":"blank"}]
[null,null,null,null,null,null,null,null,null,null,null,null,null,null,null,null,null,null,null,null,null,{"$f":"IF(RawData!A799<>\"\",ROW(RawData!A799),0)","v":0},{"$f":"IF(RawData!A799=\"\",\"blank\",\"\")","v":"blank"}]
[null,null,null,null,null,null,null,null,null,null,null,null,null,null,null,null,null,null,null,null,null,{"$f":"IF(RawData!A800<>\"\",ROW(RawData!A800),0)","v":0},{"$f":"IF(RawData!A800=\"\",\"blank\",\"\")","v":"blank"}]
[null,null,null,null,null,null,null,null,null,null,null,null,null,null,null,null,null,null,null,null,null,{"$f":"IF(RawData!A801<>\"\",ROW(RawData!A801),0)","v":0},{"$f":"IF(RawData!A801=\"\",\"blank\",\"\")","v":"blank"}]
[null,null,null,null,null,null,null,null,null,null,null,null,null,null,null,null,null,null,null,null,null,{"$f":"IF(RawData!A802<>\"\",ROW(RawData!A802),0)","v":0},{"$f":"IF(RawData!A802=\"\",\"blank\",\"\")","v":"blank"}]
[null,null,null,null,null,null,null,null,null,null,null,null,null,null,null,null,null,null,null,null,null,{"$f":"IF(RawData!A803<>\"\",ROW(RawData!A803),0)","v":0},{"$f":"IF(RawData!A803=\"\",\"blank\",\"\")","v":"blank"}]
[null,null,null,null,null,null,null,null,null,null,null,null,null,null,null,null,null,null,null,null,null,{"$f":"IF(RawData!A804<>\"\",ROW(RawData!A804),0)","v":0},{"$f":"IF(RawData!A804=\"\",\"blank\",\"\")","v":"blank"}]
[null,null,null,null,null,null,null,null,null,null,null,null,null,null,null,null,null,null,null,null,null,{"$f":"IF(RawData!A805<>\"\",ROW(RawData!A805),0)","v":0},{"$f":"IF(RawData!A805=\"\",\"blank\",\"\")","v":"blank"}]
[null,null,null,null,null,null,null,null,null,null,null,null,null,null,null,null,null,null,null,null,null,{"$f":"IF(RawData!A806<>\"\",ROW(RawData!A806),0)","v":0},{"$f":"IF(RawData!A806=\"\",\"blank\",\"\")","v":"blank"}]
[null,null,null,null,null,null,null,null,null,null,null,null,null,null,null,null,null,null,null,null,null,{"$f":"IF(RawData!A807<>\"\",ROW(RawData!A807),0)","v":0},{"$f":"IF(RawData!A807=\"\",\"blank\",\"\")","v":"blank"}]
[null,null,null,null,null,null,null,null,null,null,null,null,null,null,null,null,null,null,null,null,null,{"$f":"IF(RawData!A808<>\"\",ROW(RawData!A808),0)","v":0},{"$f":"IF(RawData!A808=\"\",\"blank\",\"\")","v":"blank"}]
[null,null,null,null,null,null,null,null,null,null,null,null,null,null,null,null,null,null,null,null,null,{"$f":"IF(RawData!A809<>\"\",ROW(RawData!A809),0)","v":0},{"$f":"IF(RawData!A809=\"\",\"blank\",\"\")","v":"blank"}]
[null,null,null,null,null,null,null,null,null,null,null,null,null,null,null,null,null,null,null,null,null,{"$f":"IF(RawData!A810<>\"\",ROW(RawData!A810),0)","v":0},{"$f":"IF(RawData!A810=\"\",\"blank\",\"\")","v":"blank"}]
[null,null,null,null,null,null,null,null,null,null,null,null,null,null,null,null,null,null,null,null,null,{"$f":"IF(RawData!A811<>\"\",ROW(RawData!A811),0)","v":0},{"$f":"IF(RawData!A811=\"\",\"blank\",\"\")","v":"blank"}]
[null,null,null,null,null,null,null,null,null,null,null,null,null,null,null,null,null,null,null,null,null,{"$f":"IF(RawData!A812<>\"\",ROW(RawData!A812),0)","v":0},{"$f":"IF(RawData!A812=\"\",\"blank\",\"\")","v":"blank"}]
[null,null,null,null,null,null,null,null,null,null,null,null,null,null,null,null,null,null,null,null,null,{"$f":"IF(RawData!A813<>\"\",ROW(RawData!A813),0)","v":0},{"$f":"IF(RawData!A813=\"\",\"blank\",\"\")","v":"blank"}]
[null,null,null,null,null,null,null,null,null,null,null,null,null,null,null,null,null,null,null,null,null,{"$f":"IF(RawData!A814<>\"\",ROW(RawData!A814),0)","v":0},{"$f":"IF(RawData!A814=\"\",\"blank\",\"\")","v":"blank"}]
[null,null,null,null,null,null,null,null,null,null,null,null,null,null,null,null,null,null,null,null,null,{"$f":"IF(RawData!A815<>\"\",ROW(RawData!A815),0)","v":0},{"$f":"IF(RawData!A815=\"\",\"blank\",\"\")","v":"blank"}]
[null,null,null,null,null,null,null,null,null,null,null,null,null,null,null,null,null,null,null,null,null,{"$f":"IF(RawData!A816<>\"\",ROW(RawData!A816),0)","v":0},{"$f":"IF(RawData!A816=\"\",\"blank\",\"\")","v":"blank"}]
[null,null,null,null,null,null,null,null,null,null,null,null,null,null,null,null,null,null,null,null,null,{"$f":"IF(RawData!A817<>\"\",ROW(RawData!A817),0)","v":0},{"$f":"IF(RawData!A817=\"\",\"blank\",\"\")","v":"blank"}]
[null,null,null,null,null,null,null,null,null,null,null,null,null,null,null,null,null,null,null,null,null,{"$f":"IF(RawData!A818<>\"\",ROW(RawData!A818),0)","v":0},{"$f":"IF(RawData!A818=\"\",\"blank\",\"\")","v":"blank"}]
[null,null,null,null,null,null,null,null,null,null,null,null,null,null,null,null,null,null,null,null,null,{"$f":"IF(RawData!A819<>\"\",ROW(RawData!A819),0)","v":0},{"$f":"IF(RawData!A819=\"\",\"blank\",\"\")","v":"blank"}]
[null,null,null,null,null,null,null,null,null,null,null,null,null,null,null,null,null,null,null,null,null,{"$f":"IF(RawData!A820<>\"\",ROW(RawData!A820),0)","v":0},{"$f":"IF(RawData!A820=\"\",\"blank\",\"\")","v":"blank"}]
[null,null,null,null,null,null,null,null,null,null,null,null,null,null,null,null,null,null,null,null,null,{"$f":"IF(RawData!A821<>\"\",ROW(RawData!A821),0)","v":0},{"$f":"IF(RawData!A821=\"\",\"blank\",\"\")","v":"blank"}]
[null,null,null,null,null,null,null,null,null,null,null,null,null,null,null,null,null,null,null,null,null,{"$f":"IF(RawData!A822<>\"\",ROW(RawData!A822),0)","v":0},{"$f":"IF(RawData!A822=\"\",\"blank\",\"\")","v":"blank"}]
[null,null,null,null,null,null,null,null,null,null,null,null,null,null,null,null,null,null,null,null,null,{"$f":"IF(RawData!A823<>\"\",ROW(RawData!A823),0)","v":0},{"$f":"IF(RawData!A823=\"\",\"blank\",\"\")","v":"blank"}]
[null,null,null,null,null,null,null,null,null,null,null,null,null,null,null,null,null,null,null,null,null,{"$f":"IF(RawData!A824<>\"\",ROW(RawData!A824),0)","v":0},{"$f":"IF(RawData!A824=\"\",\"blank\",\"\")","v":"blank"}]
[null,null,null,null,null,null,null,null,null,null,null,null,null,null,null,null,null,null,null,null,null,{"$f":"IF(RawData!A825<>\"\",ROW(RawData!A825),0)","v":0},{"$f":"IF(RawData!A825=\"\",\"blank\",\"\")","v":"blank"}]
[null,null,null,null,null,null,null,null,null,null,null,null,null,null,null,null,null,null,null,null,null,{"$f":"IF(RawData!A826<>\"\",ROW(RawData!A826),0)","v":0},{"$f":"IF(RawData!A826=\"\",\"blank\",\"\")","v":"blank"}]
[null,null,null,null,null,null,null,null,null,null,null,null,null,null,null,null,null,null,null,null,null,{"$f":"IF(RawData!A827<>\"\",ROW(RawData!A827),0)","v":0},{"$f":"IF(RawData!A827=\"\",\"blank\",\"\")","v":"blank"}]
[null,null,null,null,null,null,null,null,null,null,null,null,null,null,null,null,null,null,null,null,null,{"$f":"IF(RawData!A828<>\"\",ROW(RawData!A828),0)","v":0},{"$f":"IF(RawData!A828=\"\",\"blank\",\"\")","v":"blank"}]
[null,null,null,null,null,null,null,null,null,null,null,null,null,null,null,null,null,null,null,null,null,{"$f":"IF(RawData!A829<>\"\",ROW(RawData!A829),0)","v":0},{"$f":"IF(RawData!A829=\"\",\"blank\",\"\")","v":"blank"}]
[null,null,null,null,null,null,null,null,null,null,null,null,null,null,null,null,null,null,null,null,null,{"$f":"IF(RawData!A830<>\"\",ROW(RawData!A830),0)","v":0},{"$f":"IF(RawData!A830=\"\",\"blank\",\"\")","v":"blank"}]
[null,null,null,null,null,null,null,null,null,null,null,null,null,null,null,null,null,null,null,null,null,{"$f":"IF(RawData!A831<>\"\",ROW(RawData!A831),0)","v":0},{"$f":"IF(RawData!A831=\"\",\"blank\",\"\")","v":"blank"}]
[null,null,null,null,null,null,null,null,null,null,null,null,null,null,null,null,null,null,null,null,null,{"$f":"IF(RawData!A832<>\"\",ROW(RawData!A832),0)","v":0},{"$f":"IF(RawData!A832=\"\",\"blank\",\"\")","v":"blank"}]
[null,null,null,null,null,null,null,null,null,null,null,null,null,null,null,null,null,null,null,null,null,{"$f":"IF(RawData!A833<>\"\",ROW(RawData!A833),0)","v":0},{"$f":"IF(RawData!A833=\"\",\"blank\",\"\")","v":"blank"}]
[null,null,null,null,null,null,null,null,null,null,null,null,null,null,null,null,null,null,null,null,null,{"$f":"IF(RawData!A834<>\"\",ROW(RawData!A834),0)","v":0},{"$f":"IF(RawData!A834=\"\",\"blank\",\"\")","v":"blank"}]
[null,null,null,null,null,null,null,null,null,null,null,null,null,null,null,null,null,null,null,null,null,{"$f":"IF(RawData!A835<>\"\",ROW(RawData!A835),0)","v":0},{"$f":"IF(RawData!A835=\"\",\"blank\",\"\")","v":"blank"}]
[null,null,null,null,null,null,null,null,null,null,null,null,null,null,null,null,null,null,null,null,null,{"$f":"IF(RawData!A836<>\"\",ROW(RawData!A836),0)","v":0},{"$f":"IF(RawData!A836=\"\",\"blank\",\"\")","v":"blank"}]
[null,null,null,null,null,null,null,null,null,null,null,null,null,null,null,null,null,null,null,null,null,{"$f":"IF(RawData!A837<>\"\",ROW(RawData!A837),0)","v":0},{"$f":"IF(RawData!A837=\"\",\"blank\",\"\")","v":"blank"}]
[null,null,null,null,null,null,null,null,null,null,null,null,null,null,null,null,null,null,null,null,null,{"$f":"IF(RawData!A838<>\"\",ROW(RawData!A838),0)","v":0},{"$f":"IF(RawData!A838=\"\",\"blank\",\"\")","v":"blank"}]
[null,null,null,null,null,null,null,null,null,null,null,null,null,null,null,null,null,null,null,null,null,{"$f":"IF(RawData!A839<>\"\",ROW(RawData!A839),0)","v":0},{"$f":"IF(RawData!A839=\"\",\"blank\",\"\")","v":"blank"}]
[null,null,null,null,null,null,null,null,null,null,null,null,null,null,null,null,null,null,null,null,null,{"$f":"IF(RawData!A840<>\"\",ROW(RawData!A840),0)","v":0},{"$f":"IF(RawData!A840=\"\",\"blank\",\"\")","v":"blank"}]
[null,null,null,null,null,null,null,null,null,null,null,null,null,null,null,null,null,null,null,null,null,{"$f":"IF(RawData!A841<>\"\",ROW(RawData!A841),0)","v":0},{"$f":"IF(RawData!A841=\"\",\"blank\",\"\")","v":"blank"}]
[null,null,null,null,null,null,null,null,null,null,null,null,null,null,null,null,null,null,null,null,null,{"$f":"IF(RawData!A842<>\"\",ROW(RawData!A842),0)","v":0},{"$f":"IF(RawData!A842=\"\",\"blank\",\"\")","v":"blank"}]
[null,null,null,null,null,null,null,null,null,null,null,null,null,null,null,null,null,null,null,null,null,{"$f":"IF(RawData!A843<>\"\",ROW(RawData!A843),0)","v":0},{"$f":"IF(RawData!A843=\"\",\"blank\",\"\")","v":"blank"}]
[null,null,null,null,null,null,null,null,null,null,null,null,null,null,null,null,null,null,null,null,null,{"$f":"IF(RawData!A844<>\"\",ROW(RawData!A844),0)","v":0},{"$f":"IF(RawData!A844=\"\",\"blank\",\"\")","v":"blank"}]
[null,null,null,null,null,null,null,null,null,null,null,null,null,null,null,null,null,null,null,null,null,{"$f":"IF(RawData!A845<>\"\",ROW(RawData!A845),0)","v":0},{"$f":"IF(RawData!A845=\"\",\"blank\",\"\")","v":"blank"}]
[null,null,null,null,null,null,null,null,null,null,null,null,null,null,null,null,null,null,null,null,null,{"$f":"IF(RawData!A846<>\"\",ROW(RawData!A846),0)","v":0},{"$f":"IF(RawData!A846=\"\",\"blank\",\"\")","v":"blank"}]
[null,null,null,null,null,null,null,null,null,null,null,null,null,null,null,null,null,null,null,null,null,{"$f":"IF(RawData!A847<>\"\",ROW(RawData!A847),0)","v":0},{"$f":"IF(RawData!A847=\"\",\"blank\",\"\")","v":"blank"}]
[null,null,null,null,null,null,null,null,null,null,null,null,null,null,null,null,null,null,null,null,null,{"$f":"IF(RawData!A848<>\"\",ROW(RawData!A848),0)","v":0},{"$f":"IF(RawData!A848=\"\",\"blank\",\"\")","v":"blank"}]
[null,null,null,null,null,null,null,null,null,null,null,null,null,null,null,null,null,null,null,null,null,{"$f":"IF(RawData!A849<>\"\",ROW(RawData!A849),0)","v":0},{"$f":"IF(RawData!A849=\"\",\"blank\",\"\")","v":"blank"}]
[null,null,null,null,null,null,null,null,null,null,null,null,null,null,null,null,null,null,null,null,null,{"$f":"IF(RawData!A850<>\"\",ROW(RawData!A850),0)","v":0},{"$f":"IF(RawData!A850=\"\",\"blank\",\"\")","v":"blank"}]
[null,null,null,null,null,null,null,null,null,null,null,null,null,null,null,null,null,null,null,null,null,{"$f":"IF(RawData!A851<>\"\",ROW(RawData!A851),0)","v":0},{"$f":"IF(RawData!A851=\"\",\"blank\",\"\")","v":"blank"}]
[null,null,null,null,null,null,null,null,null,null,null,null,null,null,null,null,null,null,null,null,null,{"$f":"IF(RawData!A852<>\"\",ROW(RawData!A852),0)","v":0},{"$f":"IF(RawData!A852=\"\",\"blank\",\"\")","v":"blank"}]
[null,null,null,null,null,null,null,null,null,null,null,null,null,null,null,null,null,null,null,null,null,{"$f":"IF(RawData!A853<>\"\",ROW(RawData!A853),0)","v":0},{"$f":"IF(RawData!A853=\"\",\"blank\",\"\")","v":"blank"}]
[null,null,null,null,null,null,null,null,null,null,null,null,null,null,null,null,null,null,null,null,null,{"$f":"IF(RawData!A854<>\"\",ROW(RawData!A854),0)","v":0},{"$f":"IF(RawData!A854=\"\",\"blank\",\"\")","v":"blank"}]
[null,null,null,null,null,null,null,null,null,null,null,null,null,null,null,null,null,null,null,null,null,{"$f":"IF(RawData!A855<>\"\",ROW(RawData!A855),0)","v":0},{"$f":"IF(RawData!A855=\"\",\"blank\",\"\")","v":"blank"}]
[null,null,null,null,null,null,null,null,null,null,null,null,null,null,null,null,null,null,null,null,null,{"$f":"IF(RawData!A856<>\"\",ROW(RawData!A856),0)","v":0},{"$f":"IF(RawData!A856=\"\",\"blank\",\"\")","v":"blank"}]
[null,null,null,null,null,null,null,null,null,null,null,null,null,null,null,null,null,null,null,null,null,{"$f":"IF(RawData!A857<>\"\",ROW(RawData!A857),0)","v":0},{"$f":"IF(RawData!A857=\"\",\"blank\",\"\")","v":"blank"}]
[null,null,null,null,null,null,null,null,null,null,null,null,null,null,null,null,null,null,null,null,null,{"$f":"IF(RawData!A858<>\"\",ROW(RawData!A858),0)","v":0},{"$f":"IF(RawData!A858=\"\",\"blank\",\"\")","v":"blank"}]
[null,null,null,null,null,null,null,null,null,null,null,null,null,null,null,null,null,null,null,null,null,{"$f":"IF(RawData!A859<>\"\",ROW(RawData!A859),0)","v":0},{"$f":"IF(RawData!A859=\"\",\"blank\",\"\")","v":"blank"}]
[null,null,null,null,null,null,null,null,null,null,null,null,null,null,null,null,null,null,null,null,null,{"$f":"IF(RawData!A860<>\"\",ROW(RawData!A860),0)","v":0},{"$f":"IF(RawData!A860=\"\",\"blank\",\"\")","v":"blank"}]
[null,null,null,null,null,null,null,null,null,null,null,null,null,null,null,null,null,null,null,null,null,{"$f":"IF(RawData!A861<>\"\",ROW(RawData!A861),0)","v":0},{"$f":"IF(RawData!A861=\"\",\"blank\",\"\")","v":"blank"}]
[null,null,null,null,null,null,null,null,null,null,null,null,null,null,null,null,null,null,null,null,null,{"$f":"IF(RawData!A862<>\"\",ROW(RawData!A862),0)","v":0},{"$f":"IF(RawData!A862=\"\",\"blank\",\"\")","v":"blank"}]
[null,null,null,null,null,null,null,null,null,null,null,null,null,null,null,null,null,null,null,null,null,{"$f":"IF(RawData!A863<>\"\",ROW(RawData!A863),0)","v":0},{"$f":"IF(RawData!A863=\"\",\"blank\",\"\")","v":"blank"}]
[null,null,null,null,null,null,null,null,null,null,null,null,null,null,null,null,null,null,null,null,null,{"$f":"IF(RawData!A864<>\"\",ROW(RawData!A864),0)","v":0},{"$f":"IF(RawData!A864=\"\",\"blank\",\"\")","v":"blank"}]
[null,null,null,null,null,null,null,null,null,null,null,null,null,null,null,null,null,null,null,null,null,{"$f":"IF(RawData!A865<>\"\",ROW(RawData!A865),0)","v":0},{"$f":"IF(RawData!A865=\"\",\"blank\",\"\")","v":"blank"}]
[null,null,null,null,null,null,null,null,null,null,null,null,null,null,null,null,null,null,null,null,null,{"$f":"IF(RawData!A866<>\"\",ROW(RawData!A866),0)","v":0},{"$f":"IF(RawData!A866=\"\",\"blank\",\"\")","v":"blank"}]
[null,null,null,null,null,null,null,null,null,null,null,null,null,null,null,null,null,null,null,null,null,{"$f":"IF(RawData!A867<>\"\",ROW(RawData!A867),0)","v":0},{"$f":"IF(RawData!A867=\"\",\"blank\",\"\")","v":"blank"}]
[null,null,null,null,null,null,null,null,null,null,null,null,null,null,null,null,null,null,null,null,null,{"$f":"IF(RawData!A868<>\"\",ROW(RawData!A868),0)","v":0},{"$f":"IF(RawData!A868=\"\",\"blank\",\"\")","v":"blank"}]
[null,null,null,null,null,null,null,null,null,null,null,null,null,null,null,null,null,null,null,null,null,{"$f":"IF(RawData!A869<>\"\",ROW(RawData!A869),0)","v":0},{"$f":"IF(RawData!A869=\"\",\"blank\",\"\")","v":"blank"}]
[null,null,null,null,null,null,null,null,null,null,null,null,null,null,null,null,null,null,null,null,null,{"$f":"IF(RawData!A870<>\"\",ROW(RawData!A870),0)","v":0},{"$f":"IF(RawData!A870=\"\",\"blank\",\"\")","v":"blank"}]
[null,null,null,null,null,null,null,null,null,null,null,null,null,null,null,null,null,null,null,null,null,{"$f":"IF(RawData!A871<>\"\",ROW(RawData!A871),0)","v":0},{"$f":"IF(RawData!A871=\"\",\"blank\",\"\")","v":"blank"}]
[null,null,null,null,null,null,null,null,null,null,null,null,null,null,null,null,null,null,null,null,null,{"$f":"IF(RawData!A872<>\"\",ROW(RawData!A872),0)","v":0},{"$f":"IF(RawData!A872=\"\",\"blank\",\"\")","v":"blank"}]
[null,null,null,null,null,null,null,null,null,null,null,null,null,null,null,null,null,null,null,null,null,{"$f":"IF(RawData!A873<>\"\",ROW(RawData!A873),0)","v":0},{"$f":"IF(RawData!A873=\"\",\"blank\",\"\")","v":"blank"}]
[null,null,null,null,null,null,null,null,null,null,null,null,null,null,null,null,null,null,null,null,null,{"$f":"IF(RawData!A874<>\"\",ROW(RawData!A874),0)","v":0},{"$f":"IF(RawData!A874=\"\",\"blank\",\"\")","v":"blank"}]
[null,null,null,null,null,null,null,null,null,null,null,null,null,null,null,null,null,null,null,null,null,{"$f":"IF(RawData!A875<>\"\",ROW(RawData!A875),0)","v":0},{"$f":"IF(RawData!A875=\"\",\"blank\",\"\")","v":"blank"}]
[null,null,null,null,null,null,null,null,null,null,null,null,null,null,null,null,null,null,null,null,null,{"$f":"IF(RawData!A876<>\"\",ROW(RawData!A876),0)","v":0},{"$f":"IF(RawData!A876=\"\",\"blank\",\"\")","v":"blank"}]
[null,null,null,null,null,null,null,null,null,null,null,null,null,null,null,null,null,null,null,null,null,{"$f":"IF(RawData!A877<>\"\",ROW(RawData!A877),0)","v":0},{"$f":"IF(RawData!A877=\"\",\"blank\",\"\")","v":"blank"}]
[null,null,null,null,null,null,null,null,null,null,null,null,null,null,null,null,null,null,null,null,null,{"$f":"IF(RawData!A878<>\"\",ROW(RawData!A878),0)","v":0},{"$f":"IF(RawData!A878=\"\",\"blank\",\"\")","v":"blank"}]
[null,null,null,null,null,null,null,null,null,null,null,null,null,null,null,null,null,null,null,null,null,{"$f":"IF(RawData!A879<>\"\",ROW(RawData!A879),0)","v":0},{"$f":"IF(RawData!A879=\"\",\"blank\",\"\")","v":"blank"}]
[null,null,null,null,null,null,null,null,null,null,null,null,null,null,null,null,null,null,null,null,null,{"$f":"IF(RawData!A880<>\"\",ROW(RawData!A880),0)","v":0},{"$f":"IF(RawData!A880=\"\",\"blank\",\"\")","v":"blank"}]
[null,null,null,null,null,null,null,null,null,null,null,null,null,null,null,null,null,null,null,null,null,{"$f":"IF(RawData!A881<>\"\",ROW(RawData!A881),0)","v":0},{"$f":"IF(RawData!A881=\"\",\"blank\",\"\")","v":"blank"}]
[null,null,null,null,null,null,null,null,null,null,null,null,null,null,null,null,null,null,null,null,null,{"$f":"IF(RawData!A882<>\"\",ROW(RawData!A882),0)","v":0},{"$f":"IF(RawData!A882=\"\",\"blank\",\"\")","v":"blank"}]
[null,null,null,null,null,null,null,null,null,null,null,null,null,null,null,null,null,null,null,null,null,{"$f":"IF(RawData!A883<>\"\",ROW(RawData!A883),0)","v":0},{"$f":"IF(RawData!A883=\"\",\"blank\",\"\")","v":"blank"}]
[null,null,null,null,null,null,null,null,null,null,null,null,null,null,null,null,null,null,null,null,null,{"$f":"IF(RawData!A884<>\"\",ROW(RawData!A884),0)","v":0},{"$f":"IF(RawData!A884=\"\",\"blank\",\"\")","v":"blank"}]
[null,null,null,null,null,null,null,null,null,null,null,null,null,null,null,null,null,null,null,null,null,{"$f":"IF(RawData!A885<>\"\",ROW(RawData!A885),0)","v":0},{"$f":"IF(RawData!A885=\"\",\"blank\",\"\")","v":"blank"}]
[null,null,null,null,null,null,null,null,null,null,null,null,null,null,null,null,null,null,null,null,null,{"$f":"IF(RawData!A886<>\"\",ROW(RawData!A886),0)","v":0},{"$f":"IF(RawData!A886=\"\",\"blank\",\"\")","v":"blank"}]
[null,null,null,null,null,null,null,null,null,null,null,null,null,null,null,null,null,null,null,null,null,{"$f":"IF(RawData!A887<>\"\",ROW(RawData!A887),0)","v":0},{"$f":"IF(RawData!A887=\"\",\"blank\",\"\")","v":"blank"}]
[null,null,null,null,null,null,null,null,null,null,null,null,null,null,null,null,null,null,null,null,null,{"$f":"IF(RawData!A888<>\"\",ROW(RawData!A888),0)","v":0},{"$f":"IF(RawData!A888=\"\",\"blank\",\"\")","v":"blank"}]
[null,null,null,null,null,null,null,null,null,null,null,null,null,null,null,null,null,null,null,null,null,{"$f":"IF(RawData!A889<>\"\",ROW(RawData!A889),0)","v":0},{"$f":"IF(RawData!A889=\"\",\"blank\",\"\")","v":"blank"}]
[null,null,null,null,null,null,null,null,null,null,null,null,null,null,null,null,null,null,null,null,null,{"$f":"IF(RawData!A890<>\"\",ROW(RawData!A890),0)","v":0},{"$f":"IF(RawData!A890=\"\",\"blank\",\"\")","v":"blank"}]
[null,null,null,null,null,null,null,null,null,null,null,null,null,null,null,null,null,null,null,null,null,{"$f":"IF(RawData!A891<>\"\",ROW(RawData!A891),0)","v":0},{"$f":"IF(RawData!A891=\"\",\"blank\",\"\")","v":"blank"}]
[null,null,null,null,null,null,null,null,null,null,null,null,null,null,null,null,null,null,null,null,null,{"$f":"IF(RawData!A892<>\"\",ROW(RawData!A892),0)","v":0},{"$f":"IF(RawData!A892=\"\",\"blank\",\"\")","v":"blank"}]
[null,null,null,null,null,null,null,null,null,null,null,null,null,null,null,null,null,null,null,null,null,{"$f":"IF(RawData!A893<>\"\",ROW(RawData!A893),0)","v":0},{"$f":"IF(RawData!A893=\"\",\"blank\",\"\")","v":"blank"}]
[null,null,null,null,null,null,null,null,null,null,null,null,null,null,null,null,null,null,null,null,null,{"$f":"IF(RawData!A894<>\"\",ROW(RawData!A894),0)","v":0},{"$f":"IF(RawData!A894=\"\",\"blank\",\"\")","v":"blank"}]
[null,null,null,null,null,null,null,null,null,null,null,null,null,null,null,null,null,null,null,null,null,{"$f":"IF(RawData!A895<>\"\",ROW(RawData!A895),0)","v":0},{"$f":"IF(RawData!A895=\"\",\"blank\",\"\")","v":"blank"}]
[null,null,null,null,null,null,null,null,null,null,null,null,null,null,null,null,null,null,null,null,null,{"$f":"IF(RawData!A896<>\"\",ROW(RawData!A896),0)","v":0},{"$f":"IF(RawData!A896=\"\",\"blank\",\"\")","v":"blank"}]
[null,null,null,null,null,null,null,null,null,null,null,null,null,null,null,null,null,null,null,null,null,{"$f":"IF(RawData!A897<>\"\",ROW(RawData!A897),0)","v":0},{"$f":"IF(RawData!A897=\"\",\"blank\",\"\")","v":"blank"}]
[null,null,null,null,null,null,null,null,null,null,null,null,null,null,null,null,null,null,null,null,null,{"$f":"IF(RawData!A898<>\"\",ROW(RawData!A898),0)","v":0},{"$f":"IF(RawData!A898=\"\",\"blank\",\"\")","v":"blank"}]
[null,null,null,null,null,null,null,null,null,null,null,null,null,null,null,null,null,null,null,null,null,{"$f":"IF(RawData!A899<>\"\",ROW(RawData!A899),0)","v":0},{"$f":"IF(RawData!A899=\"\",\"blank\",\"\")","v":"blank"}]
[null,null,null,null,null,null,null,null,null,null,null,null,null,null,null,null,null,null,null,null,null,{"$f":"IF(RawData!A900<>\"\",ROW(RawData!A900),0)","v":0},{"$f":"IF(RawData!A900=\"\",\"blank\",\"\")","v":"blank"}]
[null,null,null,null,null,null,null,null,null,null,null,null,null,null,null,null,null,null,null,null,null,{"$f":"IF(RawData!A901<>\"\",ROW(RawData!A901),0)","v":0},{"$f":"IF(RawData!A901=\"\",\"blank\",\"\")","v":"blank"}]
[null,null,null,null,null,null,null,null,null,null,null,null,null,null,null,null,null,null,null,null,null,{"$f":"IF(RawData!A902<>\"\",ROW(RawData!A902),0)","v":0},{"$f":"IF(RawData!A902=\"\",\"blank\",\"\")","v":"blank"}]
[null,null,null,null,null,null,null,null,null,null,null,null,null,null,null,null,null,null,null,null,null,{"$f":"IF(RawData!A903<>\"\",ROW(RawData!A903),0)","v":0},{"$f":"IF(RawData!A903=\"\",\"blank\",\"\")","v":"blank"}]
[null,null,null,null,null,null,null,null,null,null,null,null,null,null,null,null,null,null,null,null,null,{"$f":"IF(RawData!A904<>\"\",ROW(RawData!A904),0)","v":0},{"$f":"IF(RawData!A904=\"\",\"blank\",\"\")","v":"blank"}]
[null,null,null,null,null,null,null,null,null,null,null,null,null,null,null,null,null,null,null,null,null,{"$f":"IF(RawData!A905<>\"\",ROW(RawData!A905),0)","v":0},{"$f":"IF(RawData!A905=\"\",\"blank\",\"\")","v":"blank"}]
[null,null,null,null,null,null,null,null,null,null,null,null,null,null,null,null,null,null,null,null,null,{"$f":"IF(RawData!A906<>\"\",ROW(RawData!A906),0)","v":0},{"$f":"IF(RawData!A906=\"\",\"blank\",\"\")","v":"blank"}]
[null,null,null,null,null,null,null,null,null,null,null,null,null,null,null,null,null,null,null,null,null,{"$f":"IF(RawData!A907<>\"\",ROW(RawData!A907),0)","v":0},{"$f":"IF(RawData!A907=\"\",\"blank\",\"\")","v":"blank"}]
[null,null,null,null,null,null,null,null,null,null,null,null,null,null,null,null,null,null,null,null,null,{"$f":"IF(RawData!A908<>\"\",ROW(RawData!A908),0)","v":0},{"$f":"IF(RawData!A908=\"\",\"blank\",\"\")","v":"blank"}]
[null,null,null,null,null,null,null,null,null,null,null,null,null,null,null,null,null,null,null,null,null,{"$f":"IF(RawData!A909<>\"\",ROW(RawData!A909),0)","v":0},{"$f":"IF(RawData!A909=\"\",\"blank\",\"\")","v":"blank"}]
[null,null,null,null,null,null,null,null,null,null,null,null,null,null,null,null,null,null,null,null,null,{"$f":"IF(RawData!A910<>\"\",ROW(RawData!A910),0)","v":0},{"$f":"IF(RawData!A910=\"\",\"blank\",\"\")","v":"blank"}]
[null,null,null,null,null,null,null,null,null,null,null,null,null,null,null,null,null,null,null,null,null,{"$f":"IF(RawData!A911<>\"\",ROW(RawData!A911),0)","v":0},{"$f":"IF(RawData!A911=\"\",\"blank\",\"\")","v":"blank"}]
[null,null,null,null,null,null,null,null,null,null,null,null,null,null,null,null,null,null,null,null,null,{"$f":"IF(RawData!A912<>\"\",ROW(RawData!A912),0)","v":0},{"$f":"IF(RawData!A912=\"\",\"blank\",\"\")","v":"blank"}]
[null,null,null,null,null,null,null,null,null,null,null,null,null,null,null,null,null,null,null,null,null,{"$f":"IF(RawData!A913<>\"\",ROW(RawData!A913),0)","v":0},{"$f":"IF(RawData!A913=\"\",\"blank\",\"\")","v":"blank"}]
[null,null,null,null,null,null,null,null,null,null,null,null,null,null,null,null,null,null,null,null,null,{"$f":"IF(RawData!A914<>\"\",ROW(RawData!A914),0)","v":0},{"$f":"IF(RawData!A914=\"\",\"blank\",\"\")","v":"blank"}]
[null,null,null,null,null,null,null,null,null,null,null,null,null,null,null,null,null,null,null,null,null,{"$f":"IF(RawData!A915<>\"\",ROW(RawData!A915),0)","v":0},{"$f":"IF(RawData!A915=\"\",\"blank\",\"\")","v":"blank"}]
[null,null,null,null,null,null,null,null,null,null,null,null,null,null,null,null,null,null,null,null,null,{"$f":"IF(RawData!A916<>\"\",ROW(RawData!A916),0)","v":0},{"$f":"IF(RawData!A916=\"\",\"blank\",\"\")","v":"blank"}]
[null,null,null,null,null,null,null,null,null,null,null,null,null,null,null,null,null,null,null,null,null,{"$f":"IF(RawData!A917<>\"\",ROW(RawData!A917),0)","v":0},{"$f":"IF(RawData!A917=\"\",\"blank\",\"\")","v":"blank"}]
[null,null,null,null,null,null,null,null,null,null,null,null,null,null,null,null,null,null,null,null,null,{"$f":"IF(RawData!A918<>\"\",ROW(RawData!A918),0)","v":0},{"$f":"IF(RawData!A918=\"\",\"blank\",\"\")","v":"blank"}]
[null,null,null,null,null,null,null,null,null,null,null,null,null,null,null,null,null,null,null,null,null,{"$f":"IF(RawData!A919<>\"\",ROW(RawData!A919),0)","v":0},{"$f":"IF(RawData!A919=\"\",\"blank\",\"\")","v":"blank"}]
[null,null,null,null,null,null,null,null,null,null,null,null,null,null,null,null,null,null,null,null,null,{"$f":"IF(RawData!A920<>\"\",ROW(RawData!A920),0)","v":0},{"$f":"IF(RawData!A920=\"\",\"blank\",\"\")","v":"blank"}]
[null,null,null,null,null,null,null,null,null,null,null,null,null,null,null,null,null,null,null,null,null,{"$f":"IF(RawData!A921<>\"\",ROW(RawData!A921),0)","v":0},{"$f":"IF(RawData!A921=\"\",\"blank\",\"\")","v":"blank"}]
[null,null,null,null,null,null,null,null,null,null,null,null,null,null,null,null,null,null,null,null,null,{"$f":"IF(RawData!A922<>\"\",ROW(RawData!A922),0)","v":0},{"$f":"IF(RawData!A922=\"\",\"blank\",\"\")","v":"blank"}]
[null,null,null,null,null,null,null,null,null,null,null,null,null,null,null,null,null,null,null,null,null,{"$f":"IF(RawData!A923<>\"\",ROW(RawData!A923),0)","v":0},{"$f":"IF(RawData!A923=\"\",\"blank\",\"\")","v":"blank"}]
[null,null,null,null,null,null,null,null,null,null,null,null,null,null,null,null,null,null,null,null,null,{"$f":"IF(RawData!A924<>\"\",ROW(RawData!A924),0)","v":0},{"$f":"IF(RawData!A924=\"\",\"blank\",\"\")","v":"blank"}]
[null,null,null,null,null,null,null,null,null,null,null,null,null,null,null,null,null,null,null,null,null,{"$f":"IF(RawData!A925<>\"\",ROW(RawData!A925),0)","v":0},{"$f":"IF(RawData!A925=\"\",\"blank\",\"\")","v":"blank"}]
[null,null,null,null,null,null,null,null,null,null,null,null,null,null,null,null,null,null,null,null,null,{"$f":"IF(RawData!A926<>\"\",ROW(RawData!A926),0)","v":0},{"$f":"IF(RawData!A926=\"\",\"blank\",\"\")","v":"blank"}]
[null,null,null,null,null,null,null,null,null,null,null,null,null,null,null,null,null,null,null,null,null,{"$f":"IF(RawData!A927<>\"\",ROW(RawData!A927),0)","v":0},{"$f":"IF(RawData!A927=\"\",\"blank\",\"\")","v":"blank"}]
[null,null,null,null,null,null,null,null,null,null,null,null,null,null,null,null,null,null,null,null,null,{"$f":"IF(RawData!A928<>\"\",ROW(RawData!A928),0)","v":0},{"$f":"IF(RawData!A928=\"\",\"blank\",\"\")","v":"blank"}]
[null,null,null,null,null,null,null,null,null,null,null,null,null,null,null,null,null,null,null,null,null,{"$f":"IF(RawData!A929<>\"\",ROW(RawData!A929),0)","v":0},{"$f":"IF(RawData!A929=\"\",\"blank\",\"\")","v":"blank"}]
[null,null,null,null,null,null,null,null,null,null,null,null,null,null,null,null,null,null,null,null,null,{"$f":"IF(RawData!A930<>\"\",ROW(RawData!A930),0)","v":0},{"$f":"IF(RawData!A930=\"\",\"blank\",\"\")","v":"blank"}]
[null,null,null,null,null,null,null,null,null,null,null,null,null,null,null,null,null,null,null,null,null,{"$f":"IF(RawData!A931<>\"\",ROW(RawData!A931),0)","v":0},{"$f":"IF(RawData!A931=\"\",\"blank\",\"\")","v":"blank"}]
[null,null,null,null,null,null,null,null,null,null,null,null,null,null,null,null,null,null,null,null,null,{"$f":"IF(RawData!A932<>\"\",ROW(RawData!A932),0)","v":0},{"$f":"IF(RawData!A932=\"\",\"blank\",\"\")","v":"blank"}]
[null,null,null,null,null,null,null,null,null,null,null,null,null,null,null,null,null,null,null,null,null,{"$f":"IF(RawData!A933<>\"\",ROW(RawData!A933),0)","v":0},{"$f":"IF(RawData!A933=\"\",\"blank\",\"\")","v":"blank"}]
[null,null,null,null,null,null,null,null,null,null,null,null,null,null,null,null,null,null,null,null,null,{"$f":"IF(RawData!A934<>\"\",ROW(RawData!A934),0)","v":0},{"$f":"IF(RawData!A934=\"\",\"blank\",\"\")","v":"blank"}]
[null,null,null,null,null,null,null,null,null,null,null,null,null,null,null,null,null,null,null,null,null,{"$f":"IF(RawData!A935<>\"\",ROW(RawData!A935),0)","v":0},{"$f":"IF(RawData!A935=\"\",\"blank\",\"\")","v":"blank"}]
[null,null,null,null,null,null,null,null,null,null,null,null,null,null,null,null,null,null,null,null,null,{"$f":"IF(RawData!A936<>\"\",ROW(RawData!A936),0)","v":0},{"$f":"IF(RawData!A936=\"\",\"blank\",\"\")","v":"blank"}]
[null,null,null,null,null,null,null,null,null,null,null,null,null,null,null,null,null,null,null,null,null,{"$f":"IF(RawData!A937<>\"\",ROW(RawData!A937),0)","v":0},{"$f":"IF(RawData!A937=\"\",\"blank\",\"\")","v":"blank"}]
[null,null,null,null,null,null,null,null,null,null,null,null,null,null,null,null,null,null,null,null,null,{"$f":"IF(RawData!A938<>\"\",ROW(RawData!A938),0)","v":0},{"$f":"IF(RawData!A938=\"\",\"blank\",\"\")","v":"blank"}]
[null,null,null,null,null,null,null,null,null,null,null,null,null,null,null,null,null,null,null,null,null,{"$f":"IF(RawData!A939<>\"\",ROW(RawData!A939),0)","v":0},{"$f":"IF(RawData!A939=\"\",\"blank\",\"\")","v":"blank"}]
[null,null,null,null,null,null,null,null,null,null,null,null,null,null,null,null,null,null,null,null,null,{"$f":"IF(RawData!A940<>\"\",ROW(RawData!A940),0)","v":0},{"$f":"IF(RawData!A940=\"\",\"blank\",\"\")","v":"blank"}]
[null,null,null,null,null,null,null,null,null,null,null,null,null,null,null,null,null,null,null,null,null,{"$f":"IF(RawData!A941<>\"\",ROW(RawData!A941),0)","v":0},{"$f":"IF(RawData!A941=\"\",\"blank\",\"\")","v":"blank"}]
[null,null,null,null,null,null,null,null,null,null,null,null,null,null,null,null,null,null,null,null,null,{"$f":"IF(RawData!A942<>\"\",ROW(RawData!A942),0)","v":0},{"$f":"IF(RawData!A942=\"\",\"blank\",\"\")","v":"blank"}]
[null,null,null,null,null,null,null,null,null,null,null,null,null,null,null,null,null,null,null,null,null,{"$f":"IF(RawData!A943<>\"\",ROW(RawData!A943),0)","v":0},{"$f":"IF(RawData!A943=\"\",\"blank\",\"\")","v":"blank"}]
[null,null,null,null,null,null,null,null,null,null,null,null,null,null,null,null,null,null,null,null,null,{"$f":"IF(RawData!A944<>\"\",ROW(RawData!A944),0)","v":0},{"$f":"IF(RawData!A944=\"\",\"blank\",\"\")","v":"blank"}]
[null,null,null,null,null,null,null,null,null,null,null,null,null,null,null,null,null,null,null,null,null,{"$f":"IF(RawData!A945<>\"\",ROW(RawData!A945),0)","v":0},{"$f":"IF(RawData!A945=\"\",\"blank\",\"\")","v":"blank"}]
[null,null,null,null,null,null,null,null,null,null,null,null,null,null,null,null,null,null,null,null,null,{"$f":"IF(RawData!A946<>\"\",ROW(RawData!A946),0)","v":0},{"$f":"IF(RawData!A946=\"\",\"blank\",\"\")","v":"blank"}]
[null,null,null,null,null,null,null,null,null,null,null,null,null,null,null,null,null,null,null,null,null,{"$f":"IF(RawData!A947<>\"\",ROW(RawData!A947),0)","v":0},{"$f":"IF(RawData!A947=\"\",\"blank\",\"\")","v":"blank"}]
[null,null,null,null,null,null,null,null,null,null,null,null,null,null,null,null,null,null,null,null,null,{"$f":"IF(RawData!A948<>\"\",ROW(RawData!A948),0)","v":0},{"$f":"IF(RawData!A948=\"\",\"blank\",\"\")","v":"blank"}]
[null,null,null,null,null,null,null,null,null,null,null,null,null,null,null,null,null,null,null,null,null,{"$f":"IF(RawData!A949<>\"\",ROW(RawData!A949),0)","v":0},{"$f":"IF(RawData!A949=\"\",\"blank\",\"\")","v":"blank"}]
[null,null,null,null,null,null,null,null,null,null,null,null,null,null,null,null,null,null,null,null,null,{"$f":"IF(RawData!A950<>\"\",ROW(RawData!A950),0)","v":0},{"$f":"IF(RawData!A950=\"\",\"blank\",\"\")","v":"blank"}]
[null,null,null,null,null,null,null,null,null,null,null,null,null,null,null,null,null,null,null,null,null,{"$f":"IF(RawData!A951<>\"\",ROW(RawData!A951),0)","v":0},{"$f":"IF(RawData!A951=\"\",\"blank\",\"\")","v":"blank"}]
[null,null,null,null,null,null,null,null,null,null,null,null,null,null,null,null,null,null,null,null,null,{"$f":"IF(RawData!A952<>\"\",ROW(RawData!A952),0)","v":0},{"$f":"IF(RawData!A952=\"\",\"blank\",\"\")","v":"blank"}]
[null,null,null,null,null,null,null,null,null,null,null,null,null,null,null,null,null,null,null,null,null,{"$f":"IF(RawData!A953<>\"\",ROW(RawData!A953),0)","v":0},{"$f":"IF(RawData!A953=\"\",\"blank\",\"\")","v":"blank"}]
[null,null,null,null,null,null,null,null,null,null,null,null,null,null,null,null,null,null,null,null,null,{"$f":"IF(RawData!A954<>\"\",ROW(RawData!A954),0)","v":0},{"$f":"IF(RawData!A954=\"\",\"blank\",\"\")","v":"blank"}]
[null,null,null,null,null,null,null,null,null,null,null,null,null,null,null,null,null,null,null,null,null,{"$f":"IF(RawData!A955<>\"\",ROW(RawData!A955),0)","v":0},{"$f":"IF(RawData!A955=\"\",\"blank\",\"\")","v":"blank"}]
[null,null,null,null,null,null,null,null,null,null,null,null,null,null,null,null,null,null,null,null,null,{"$f":"IF(RawData!A956<>\"\",ROW(RawData!A956),0)","v":0},{"$f":"IF(RawData!A956=\"\",\"blank\",\"\")","v":"blank"}]
[null,null,null,null,null,null,null,null,null,null,null,null,null,null,null,null,null,null,null,null,null,{"$f":"IF(RawData!A957<>\"\",ROW(RawData!A957),0)","v":0},{"$f":"IF(RawData!A957=\"\",\"blank\",\"\")","v":"blank"}]
[null,null,null,null,null,null,null,null,null,null,null,null,null,null,null,null,null,null,null,null,null,{"$f":"IF(RawData!A958<>\"\",ROW(RawData!A958),0)","v":0},{"$f":"IF(RawData!A958=\"\",\"blank\",\"\")","v":"blank"}]
[null,null,null,null,null,null,null,null,null,null,null,null,null,null,null,null,null,null,null,null,null,{"$f":"IF(RawData!A959<>\"\",ROW(RawData!A959),0)","v":0},{"$f":"IF(RawData!A959=\"\",\"blank\",\"\")","v":"blank"}]
[null,null,null,null,null,null,null,null,null,null,null,null,null,null,null,null,null,null,null,null,null,{"$f":"IF(RawData!A960<>\"\",ROW(RawData!A960),0)","v":0},{"$f":"IF(RawData!A960=\"\",\"blank\",\"\")","v":"blank"}]
[null,null,null,null,null,null,null,null,null,null,null,null,null,null,null,null,null,null,null,null,null,{"$f":"IF(RawData!A961<>\"\",ROW(RawData!A961),0)","v":0},{"$f":"IF(RawData!A961=\"\",\"blank\",\"\")","v":"blank"}]
[null,null,null,null,null,null,null,null,null,null,null,null,null,null,null,null,null,null,null,null,null,{"$f":"IF(RawData!A962<>\"\",ROW(RawData!A962),0)","v":0},{"$f":"IF(RawData!A962=\"\",\"blank\",\"\")","v":"blank"}]
[null,null,null,null,null,null,null,null,null,null,null,null,null,null,null,null,null,null,null,null,null,{"$f":"IF(RawData!A963<>\"\",ROW(RawData!A963),0)","v":0},{"$f":"IF(RawData!A963=\"\",\"blank\",\"\")","v":"blank"}]
[null,null,null,null,null,null,null,null,null,null,null,null,null,null,null,null,null,null,null,null,null,{"$f":"IF(RawData!A964<>\"\",ROW(RawData!A964),0)","v":0},{"$f":"IF(RawData!A964=\"\",\"blank\",\"\")","v":"blank"}]
[null,null,null,null,null,null,null,null,null,null,null,null,null,null,null,null,null,null,null,null,null,{"$f":"IF(RawData!A965<>\"\",ROW(RawData!A965),0)","v":0},{"$f":"IF(RawData!A965=\"\",\"blank\",\"\")","v":"blank"}]
[null,null,null,null,null,null,null,null,null,null,null,null,null,null,null,null,null,null,null,null,null,{"$f":"IF(RawData!A966<>\"\",ROW(RawData!A966),0)","v":0},{"$f":"IF(RawData!A966=\"\",\"blank\",\"\")","v":"blank"}]
[null,null,null,null,null,null,null,null,null,null,null,null,null,null,null,null,null,null,null,null,null,{"$f":"IF(RawData!A967<>\"\",ROW(RawData!A967),0)","v":0},{"$f":"IF(RawData!A967=\"\",\"blank\",\"\")","v":"blank"}]
[null,null,null,null,null,null,null,null,null,null,null,null,null,null,null,null,null,null,null,null,null,{"$f":"IF(RawData!A968<>\"\",ROW(RawData!A968),0)","v":0},{"$f":"IF(RawData!A968=\"\",\"blank\",\"\")","v":"blank"}]
[null,null,null,null,null,null,null,null,null,null,null,null,null,null,null,null,null,null,null,null,null,{"$f":"IF(RawData!A969<>\"\",ROW(RawData!A969),0)","v":0},{"$f":"IF(RawData!A969=\"\",\"blank\",\"\")","v":"blank"}]
[null,null,null,null,null,null,null,null,null,null,null,null,null,null,null,null,null,null,null,null,null,{"$f":"IF(RawData!A970<>\"\",ROW(RawData!A970),0)","v":0},{"$f":"IF(RawData!A970=\"\",\"blank\",\"\")","v":"blank"}]
[null,null,null,null,null,null,null,null,null,null,null,null,null,null,null,null,null,null,null,null,null,{"$f":"IF(RawData!A971<>\"\",ROW(RawData!A971),0)","v":0},{"$f":"IF(RawData!A971=\"\",\"blank\",\"\")","v":"blank"}]
[null,null,null,null,null,null,null,null,null,null,null,null,null,null,null,null,null,null,null,null,null,{"$f":"IF(RawData!A972<>\"\",ROW(RawData!A972),0)","v":0},{"$f":"IF(RawData!A972=\"\",\"blank\",\"\")","v":"blank"}]
[null,null,null,null,null,null,null,null,null,null,null,null,null,null,null,null,null,null,null,null,null,{"$f":"IF(RawData!A973<>\"\",ROW(RawData!A973),0)","v":0},{"$f":"IF(RawData!A973=\"\",\"blank\",\"\")","v":"blank"}]
[null,null,null,null,null,null,null,null,null,null,null,null,null,null,null,null,null,null,null,null,null,{"$f":"IF(RawData!A974<>\"\",ROW(RawData!A974),0)","v":0},{"$f":"IF(RawData!A974=\"\",\"blank\",\"\")","v":"blank"}]
[null,null,null,null,null,null,null,null,null,null,null,null,null,null,null,null,null,null,null,null,null,{"$f":"IF(RawData!A975<>\"\",ROW(RawData!A975),0)","v":0},{"$f":"IF(RawData!A975=\"\",\"blank\",\"\")","v":"blank"}]
[null,null,null,null,null,null,null,null,null,null,null,null,null,null,null,null,null,null,null,null,null,{"$f":"IF(RawData!A976<>\"\",ROW(RawData!A976),0)","v":0},{"$f":"IF(RawData!A976=\"\",\"blank\",\"\")","v":"blank"}]
[null,null,null,null,null,null,null,null,null,null,null,null,null,null,null,null,null,null,null,null,null,{"$f":"IF(RawData!A977<>\"\",ROW(RawData!A977),0)","v":0},{"$f":"IF(RawData!A977=\"\",\"blank\",\"\")","v":"blank"}]
[null,null,null,null,null,null,null,null,null,null,null,null,null,null,null,null,null,null,null,null,null,{"$f":"IF(RawData!A978<>\"\",ROW(RawData!A978),0)","v":0},{"$f":"IF(RawData!A978=\"\",\"blank\",\"\")","v":"blank"}]
[null,null,null,null,null,null,null,null,null,null,null,null,null,null,null,null,null,null,null,null,null,{"$f":"IF(RawData!A979<>\"\",ROW(RawData!A979),0)","v":0},{"$f":"IF(RawData!A979=\"\",\"blank\",\"\")","v":"blank"}]
[null,null,null,null,null,null,null,null,null,null,null,null,null,null,null,null,null,null,null,null,null,{"$f":"IF(RawData!A980<>\"\",ROW(RawData!A980),0)","v":0},{"$f":"IF(RawData!A980=\"\",\"blank\",\"\")","v":"blank"}]
[null,null,null,null,null,null,null,null,null,null,null,null,null,null,null,null,null,null,null,null,null,{"$f":"IF(RawData!A981<>\"\",ROW(RawData!A981),0)","v":0},{"$f":"IF(RawData!A981=\"\",\"blank\",\"\")","v":"blank"}]
[null,null,null,null,null,null,null,null,null,null,null,null,null,null,null,null,null,null,null,null,null,{"$f":"IF(RawData!A982<>\"\",ROW(RawData!A982),0)","v":0},{"$f":"IF(RawData!A982=\"\",\"blank\",\"\")","v":"blank"}]
[null,null,null,null,null,null,null,null,null,null,null,null,null,null,null,null,null,null,null,null,null,{"$f":"IF(RawData!A983<>\"\",ROW(RawData!A983),0)","v":0},{"$f":"IF(RawData!A983=\"\",\"blank\",\"\")","v":"blank"}]
[null,null,null,null,null,null,null,null,null,null,null,null,null,null,null,null,null,null,null,null,null,{"$f":"IF(RawData!A984<>\"\",ROW(RawData!A984),0)","v":0},{"$f":"IF(RawData!A984=\"\",\"blank\",\"\")","v":"blank"}]
[null,null,null,null,null,null,null,null,null,null,null,null,null,null,null,null,null,null,null,null,null,{"$f":"IF(RawData!A985<>\"\",ROW(RawData!A985),0)","v":0},{"$f":"IF(RawData!A985=\"\",\"blank\",\"\")","v":"blank"}]
[null,null,null,null,null,null,null,null,null,null,null,null,null,null,null,null,null,null,null,null,null,{"$f":"IF(RawData!A986<>\"\",ROW(RawData!A986),0)","v":0},{"$f":"IF(RawData!A986=\"\",\"blank\",\"\")","v":"blank"}]
[null,null,null,null,null,null,null,null,null,null,null,null,null,null,null,null,null,null,null,null,null,{"$f":"IF(RawData!A987<>\"\",ROW(RawData!A987),0)","v":0},{"$f":"IF(RawData!A987=\"\",\"blank\",\"\")","v":"blank"}]
[null,null,null,null,null,null,null,null,null,null,null,null,null,null,null,null,null,null,null,null,null,{"$f":"IF(RawData!A988<>\"\",ROW(RawData!A988),0)","v":0},{"$f":"IF(RawData!A988=\"\",\"blank\",\"\")","v":"blank"}]
[null,null,null,null,null,null,null,null,null,null,null,null,null,null,null,null,null,null,null,null,null,{"$f":"IF(RawData!A989<>\"\",ROW(RawData!A989),0)","v":0},{"$f":"IF(RawData!A989=\"\",\"blank\",\"\")","v":"blank"}]
[null,null,null,null,null,null,null,null,null,null,null,null,null,null,null,null,null,null,null,null,null,{"$f":"IF(RawData!A990<>\"\",ROW(RawData!A990),0)","v":0},{"$f":"IF(RawData!A990=\"\",\"blank\",\"\")","v":"blank"}]
[null,null,null,null,null,null,null,null,null,null,null,null,null,null,null,null,null,null,null,null,null,{"$f":"IF(RawData!A991<>\"\",ROW(RawData!A991),0)","v":0},{"$f":"IF(RawData!A991=\"\",\"blank\",\"\")","v":"blank"}]
[null,null,null,null,null,null,null,null,null,null,null,null,null,null,null,null,null,null,null,null,null,{"$f":"IF(RawData!A992<>\"\",ROW(RawData!A992),0)","v":0},{"$f":"IF(RawData!A992=\"\",\"blank\",\"\")","v":"blank"}]
[null,null,null,null,null,null,null,null,null,null,null,null,null,null,null,null,null,null,null,null,null,{"$f":"IF(RawData!A993<>\"\",ROW(RawData!A993),0)","v":0},{"$f":"IF(RawData!A993=\"\",\"blank\",\"\")","v":"blank"}]
[null,null,null,null,null,null,null,null,null,null,null,null,null,null,null,null,null,null,null,null,null,{"$f":"IF(RawData!A994<>\"\",ROW(RawData!A994),0)","v":0},{"$f":"IF(RawData!A994=\"\",\"blank\",\"\")","v":"blank"}]
[null,null,null,null,null,null,null,null,null,null,null,null,null,null,null,null,null,null,null,null,null,{"$f":"IF(RawData!A995<>\"\",ROW(RawData!A995),0)","v":0},{"$f":"IF(RawData!A995=\"\",\"blank\",\"\")","v":"blank"}]
[null,null,null,null,null,null,null,null,null,null,null,null,null,null,null,null,null,null,null,null,null,{"$f":"IF(RawData!A996<>\"\",ROW(RawData!A996),0)","v":0},{"$f":"IF(RawData!A996=\"\",\"blank\",\"\")","v":"blank"}]
[null,null,null,null,null,null,null,null,null,null,null,null,null,null,null,null,null,null,null,null,null,{"$f":"IF(RawData!A997<>\"\",ROW(RawData!A997),0)","v":0},{"$f":"IF(RawData!A997=\"\",\"blank\",\"\")","v":"blank"}]
[null,null,null,null,null,null,null,null,null,null,null,null,null,null,null,null,null,null,null,null,null,{"$f":"IF(RawData!A1055<>\"\",ROW(RawData!A1055),0)","v":0},{"$f":"IF(RawData!A1055=\"\",\"blank\",\"\")","v":"blank"}]
[null,null,null,null,null,null,null,null,null,null,null,null,null,null,null,null,null,null,null,null,null,{"$f":"IF(RawData!A1104<>\"\",ROW(RawData!A1104),0)","v":0},{"$f":"IF(RawData!A1104=\"\",\"blank\",\"\")","v":"blank"}]
[null,null,null,null,null,null,null,null,null,null,null,null,null,null,null,null,null,null,null,null,null,{"$f":"IF(RawData!A1153<>\"\",ROW(RawData!A1153),0)","v":0},{"$f":"IF(RawData!A1153=\"\",\"blank\",\"\")","v":"blank"}]
[null,null,null,null,null,null,null,null,null,null,null,null,null,null,null,null,null,null,null,null,null,{"$f":"IF(RawData!A1237<>\"\",ROW(RawData!A1237),0)","v":0},{"$f":"IF(RawData!A1237=\"\",\"blank\",\"\")","v":"blank"}]
[null,null,null,null,null,null,null,null,null,null,null,null,null,null,null,null,null,null,null,null,null,{"$f":"IF(RawData!A1316<>\"\",ROW(RawData!A1316),0)","v":0},{"$f":"IF(RawData!A1316=\"\",\"blank\",\"\")","v":"blank"}]
[null,null,null,null,null,null,null,null,null,null,null,null,null,null,null,null,null,null,null,null,null,{"$f":"IF(RawData!A1365<>\"\",ROW(RawData!A1365),0)","v":0},{"$f":"IF(RawData!A1365=\"\",\"blank\",\"\")","v":"blank"}]
[null,null,null,null,null,null,null,null,null,null,null,null,null,null,null,null,null,null,null,null,null,{"$f":"IF(RawData!A1421<>\"\",ROW(RawData!A1421),0)","v":0},{"$f":"IF(RawData!A1421=\"\",\"blank\",\"\")","v":"blank"}]
[null,null,null,null,null,null,null,null,null,null,null,null,null,null,null,null,null,null,null,null,null,{"$f":"IF(RawData!A1464<>\"\",ROW(RawData!A1464),0)","v":0},{"$f":"IF(RawData!A1464=\"\",\"blank\",\"\")","v":"blank"}]
[null,null,null,null,null,null,null,null,null,null,null,null,null,null,null,null,null,null,null,null,null,{"$f":"IF(RawData!A1513<>\"\",ROW(RawData!A1513),0)","v":0},{"$f":"IF(RawData!A1513=\"\",\"blank\",\"\")","v":"blank"}]
[null,null,null,null,null,null,null,null,null,null,null,null,null,null,null,null,null,null,null,null,null,{"$f":"IF(RawData!A1626<>\"\",ROW(RawData!A1626),0)","v":0},{"$f":"IF(RawData!A1626=\"\",\"blank\",\"\")","v":"blank"}]
[null,null,null,null,null,null,null,null,null,null,null,null,null,null,null,null,null,null,null,null,null,{"$f":"IF(RawData!A1689<>\"\",ROW(RawData!A1689),0)","v":0},{"$f":"IF(RawData!A1689=\"\",\"blank\",\"\")","v":"blank"}]
[null,null,null,null,null,null,null,null,null,null,null,null,null,null,null,null,null,null,null,null,null,{"$f":"IF(RawData!A1725<>\"\",ROW(RawData!A1725),0)","v":0},{"$f":"IF(RawData!A1725=\"\",\"blank\",\"\")","v":"blank"}]
[null,null,null,null,null,null,null,null,null,null,null,null,null,null,null,null,null,null,null,null,null,{"$f":"IF(RawData!A1774<>\"\",ROW(RawData!A1774),0)","v":0},{"$f":"IF(RawData!A1774=\"\",\"blank\",\"\")","v":"blank"}]
[null,null,null,null,null,null,null,null,null,null,null,null,null,null,null,null,null,null,null,null,null,{"$f":"IF(RawData!A1873<>\"\",ROW(RawData!A1873),0)","v":0},{"$f":"IF(RawData!A1873=\"\",\"blank\",\"\")","v":"blank"}]
[null,null,null,null,null,null,null,null,null,null,null,null,null,null,null,null,null,null,null,null,null,{"$f":"IF(RawData!A1937<>\"\",ROW(RawData!A1937),0)","v":0},{"$f":"IF(RawData!A1937=\"\",\"blank\",\"\")","v":"blank"}]
[null,null,null,null,null,null,null,null,null,null,null,null,null,null,null,null,null,null,null,null,null,{"$f":"IF(RawData!A1986<>\"\",ROW(RawData!A1986),0)","v":0},{"$f":"IF(RawData!A1986=\"\",\"blank\",\"\")","v":"blank"}]
[null,null,null,null,null,null,null,null,null,null,null,null,null,null,null,null,null,null,null,null,null,{"$f":"IF(RawData!A2035<>\"\",ROW(RawData!A2035),0)","v":0},{"$f":"IF(RawData!A2035=\"\",\"blank\",\"\")","v":"blank"}]
[null,null,null,null,null,null,null,null,null,null,null,null,null,null,null,null,null,null,null,null,null,{"$f":"IF(RawData!A2137<>\"\",ROW(RawData!A2137),0)","v":0},{"$f":"IF(RawData!A2137=\"\",\"blank\",\"\")","v":"blank"}]
[null,null,null,null,null,null,null,null,null,null,null,null,null,null,null,null,null,null,null,null,null,{"$f":"IF(RawData!A2198<>\"\",ROW(RawData!A2198),0)","v":0},{"$f":"IF(RawData!A2198=\"\",\"blank\",\"\")","v":"blank"}]
[null,null,null,null,null,null,null,null,null,null,null,null,null,null,null,null,null,null,null,null,null,{"$f":"IF(RawData!A2247<>\"\",ROW(RawData!A2247),0)","v":0},{"$f":"IF(RawData!A2247=\"\",\"blank\",\"\")","v":"blank"}]
[null,null,null,null,null,null,null,null,null,null,null,null,null,null,null,null,null,null,null,null,null,{"$f":"IF(RawData!A2321<>\"\",ROW(RawData!A2321),0)","v":0},{"$f":"IF(RawData!A2321=\"\",\"blank\",\"\")","v":"blank"}]
[null,null,null,null,null,null,null,null,null,null,null,null,null,null,null,null,null,null,null,null,null,{"$f":"IF(RawData!A2410<>\"\",ROW(RawData!A2410),0)","v":0},{"$f":"IF(RawData!A2410=\"\",\"blank\",\"\")","v":"blank"}]
[null,null,null,null,null,null,null,null,null,null,null,null,null,null,null,null,null,null,null,null,null,{"$f":"IF(RawData!A2459<>\"\",ROW(RawData!A2459),0)","v":0},{"$f":"IF(RawData!A2459=\"\",\"blank\",\"\")","v":"blank"}]
[null,null,null,null,null,null,null,null,null,null,null,null,null,null,null,null,null,null,null,null,null,{"$f":"IF(RawData!A2508<>\"\",ROW(RawData!A2508),0)","v":0},{"$f":"IF(RawData!A2508=\"\",\"blank\",\"\")","v":"blank"}]
[null,null,null,null,null,null,null,null,null,null,null,null,null,null,null,null,null,null,null,null,null,{"$f":"IF(RawData!A2585<>\"\",ROW(RawData!A2585),0)","v":0},{"$f":"IF(RawData!A2585=\"\",\"blank\",\"\")","v":"blank"}]
[null,null,null,null,null,null,null,null,null,null,null,null,null,null,null,null,null,null,null,null,null,{"$f":"IF(RawData!A2607<>\"\",ROW(RawData!A2607),0)","v":0},{"$f":"IF(RawData!A2607=\"\",\"blank\",\"\")","v":"blank"}]
[null,null,null,null,null,null,null,null,null,null,null,null,null,null,null,null,null,null,null,null,null,{"$f":"IF(RawData!A2720<>\"\",ROW(RawData!A2720),0)","v":0},{"$f":"IF(RawData!A2720=\"\",\"blank\",\"\")","v":"blank"}]
[null,null,null,null,null,null,null,null,null,null,null,null,null,null,null,null,null,null,null,null,null,{"$f":"IF(RawData!A2769<>\"\",ROW(RawData!A2769),0)","v":0},{"$f":"IF(RawData!A2769=\"\",\"blank\",\"\")","v":"blank"}]
[null,null,null,null,null,null,null,null,null,null,null,null,null,null,null,null,null,null,null,null,null,{"$f":"IF(RawData!A2819<>\"\",ROW(RawData!A2819),0)","v":0},{"$f":"IF(RawData!A2819=\"\",\"blank\",\"\")","v":"blank"}]
[null,null,null,null,null,null,null,null,null,null,null,null,null,null,null,null,null,null,null,null,null,{"$f":"IF(RawData!A2868<>\"\",ROW(RawData!A2868),0)","v":0},{"$f":"IF(RawData!A2868=\"\",\"blank\",\"\")","v":"blank"}]
[null,null,null,null,null,null,null,null,null,null,null,null,null,null,null,null,null,null,null,null,null,{"$f":"IF(RawData!A2981<>\"\",ROW(RawData!A2981),0)","v":0},{"$f":"IF(RawData!A2981=\"\",\"blank\",\"\")","v":"blank"}]
[null,null,null,null,null,null,null,null,null,null,null,null,null,null,null,null,null,null,null,null,null,{"$f":"IF(RawData!A3037<>\"\",ROW(RawData!A3037),0)","v":0},{"$f":"IF(RawData!A3037=\"\",\"blank\",\"\")","v":"blank"}]
[null,null,null,null,null,null,null,null,null,null,null,null,null,null,null,null,null,null,null,null,null,{"$f":"IF(RawData!A3080<>\"\",ROW(RawData!A3080),0)","v":0},{"$f":"IF(RawData!A3080=\"\",\"blank\",\"\")","v":"blank"}]
[null,null,null,null,null,null,null,null,null,null,null,null,null,null,null,null,null,null,null,null,null,{"$f":"IF(RawData!A3129<>\"\",ROW(RawData!A3129),0)","v":0},{"$f":"IF(RawData!A3129=\"\",\"blank\",\"\")","v":"blank"}]
[null,null,null,null,null,null,null,null,null,null,null,null,null,null,null,null,null,null,null,null,null,{"$f":"IF(RawData!A3221<>\"\",ROW(RawData!A3221),0)","v":0},{"$f":"IF(RawData!A3221=\"\",\"blank\",\"\")","v":"blank"}]
[null,null,null,null,null,null,null,null,null,null,null,null,null,null,null,null,null,null,null,null,null,{"$f":"IF(RawData!A3292<>\"\",ROW(RawData!A3292),0)","v":0},{"$f":"IF(RawData!A3292=\"\",\"blank\",\"\")","v":"blank"}]
[null,null,null,null,null,null,null,null,null,null,null,null,null,null,null,null,null,null,null,null,null,{"$f":"IF(RawData!A3341<>\"\",ROW(RawData!A3341),0)","v":0},{"$f":"IF(RawData!A3341=\"\",\"blank\",\"\")","v":"blank"}]
[null,null,null,null,null,null,null,null,null,null,null,null,null,null,null,null,null,null,null,null,null,{"$f":"IF(RawData!A3390<>\"\",ROW(RawData!A3390),0)","v":0},{"$f":"IF(RawData!A3390=\"\",\"blank\",\"\")","v":"blank"}]
[null,null,null,null,null,null,null,null,null,null,null,null,null,null,null,null,null,null,null,null,null,{"$f":"IF(RawData!A3485<>\"\",ROW(RawData!A3485),0)","v":0},{"$f":"IF(RawData!A3485=\"\",\"blank\",\"\")","v":"blank"}]
[null,null,null,null,null,null,null,null,null,null,null,null,null,null,null,null,null,null,null,null,null,{"$f":"IF(RawData!A3553<>\"\",ROW(RawData!A3553),0)","v":0},{"$f":"IF(RawData!A3553=\"\",\"blank\",\"\")","v":"blank"}]
[null,null,null,null,null,null,null,null,null,null,null,null,null,null,null,null,null,null,null,null,null,{"$f":"IF(RawData!A3602<>\"\",ROW(RawData!A3602),0)","v":0},{"$f":"IF(RawData!A3602=\"\",\"blank\",\"\")","v":"blank"}]
[null,null,null,null,null,null,null,null,null,null,null,null,null,null,null,null,null,null,null,null,null,{"$f":"IF(RawData!A3669<>\"\",ROW(RawData!A3669),0)","v":0},{"$f":"IF(RawData!A3669=\"\",\"blank\",\"\")","v":"blank"}]
[null,null,null,null,null,null,null,null,null,null,null,null,null,null,null,null,null,null,null,null,null,{"$f":"IF(RawData!A3701<>\"\",ROW(RawData!A3701),0)","v":0},{"$f":"IF(RawData!A3701=\"\",\"blank\",\"\")","v":"blank"}]
[null,null,null,null,null,null,null,null,null,null,null,null,null,null,null,null,null,null,null,null,null,{"$f":"IF(RawData!A3814<>\"\",ROW(RawData!A3814),0)","v":0},{"$f":"IF(RawData!A3814=\"\",\"blank\",\"\")","v":"blank"}]
[null,null,null,null,null,null,null,null,null,null,null,null,null,null,null,null,null,null,null,null,null,{"$f":"IF(RawData!A3863<>\"\",ROW(RawData!A3863),0)","v":0},{"$f":"IF(RawData!A3863=\"\",\"blank\",\"\")","v":"blank"}]
[null,null,null,null,null,null,null,null,null,null,null,null,null,null,null,null,null,null,null,null,null,{"$f":"IF(RawData!A3933<>\"\",ROW(RawData!A3933),0)","v":0},{"$f":"IF(RawData!A3933=\"\",\"blank\",\"\")","v":"blank"}]
[null,null,null,null,null,null,null,null,null,null,null,null,null,null,null,null,null,null,null,null,null,{"$f":"IF(RawData!A3962<>\"\",ROW(RawData!A3962),0)","v":0},{"$f":"IF(RawData!A3962=\"\",\"blank\",\"\")","v":"blank"}]
[null,null,null,null,null,null,null,null,null,null,null,null,null,null,null,null,null,null,null,null,null,{"$f":"IF(RawData!A4075<>\"\",ROW(RawData!A4075),0)","v":0},{"$f":"IF(RawData!A4075=\"\",\"blank\",\"\")","v":"blank"}]
[null,null,null,null,null,null,null,null,null,null,null,null,null,null,null,null,null,null,null,null,null,{"$f":"IF(RawData!A4117<>\"\",ROW(RawData!A4117),0)","v":0},{"$f":"IF(RawData!A4117=\"\",\"blank\",\"\")","v":"blank"}]
[null,null,null,null,null,null,null,null,null,null,null,null,null,null,null,null,null,null,null,null,null,{"$f":"IF(RawData!A4174<>\"\",ROW(RawData!A4174),0)","v":0},{"$f":"IF(RawData!A4174=\"\",\"blank\",\"\")","v":"blank"}]
[null,null,null,null,null,null,null,null,null,null,null,null,null,null,null,null,null,null,null,null,null,{"$f":"IF(RawData!A4223<>\"\",ROW(RawData!A4223),0)","v":0},{"$f":"IF(RawData!A4223=\"\",\"blank\",\"\")","v":"blank"}]
[null,null,null,null,null,null,null,null,null,null,null,null,null,null,null,null,null,null,null,null,null,{"$f":"IF(RawData!A4336<>\"\",ROW(RawData!A4336),0)","v":0},{"$f":"IF(RawData!A4336=\"\",\"blank\",\"\")","v":"blank"}]
[null,null,null,null,null,null,null,null,null,null,null,null,null,null,null,null,null,null,null,null,null,{"$f":"IF(RawData!A4385<>\"\",ROW(RawData!A4385),0)","v":0},{"$f":"IF(RawData!A4385=\"\",\"blank\",\"\")","v":"blank"}]
[null,null,null,null,null,null,null,null,null,null,null,null,null,null,null,null,null,null,null,null,null,{"$f":"IF(RawData!A4435<>\"\",ROW(RawData!A4435),0)","v":0},{"$f":"IF(RawData!A4435=\"\",\"blank\",\"\")","v":"blank"}]
[null,null,null,null,null,null,null,null,null,null,null,null,null,null,null,null,null,null,null,null,null,{"$f":"IF(RawData!A4484<>\"\",ROW(RawData!A4484),0)","v":0},{"$f":"IF(RawData!A4484=\"\",\"blank\",\"\")","v":"blank"}]
[null,null,null,null,null,null,null,null,null,null,null,null,null,null,null,null,null,null,null,null,null,{"$f":"IF(RawData!A4565<>\"\",ROW(RawData!A4565),0)","v":0},{"$f":"IF(RawData!A4565=\"\",\"blank\",\"\")","v":"blank"}]
[null,null,null,null,null,null,null,null,null,null,null,null,null,null,null,null,null,null,null,null,null,{"$f":"IF(RawData!A4647<>\"\",ROW(RawData!A4647),0)","v":0},{"$f":"IF(RawData!A4647=\"\",\"blank\",\"\")","v":"blank"}]
[null,null,null,null,null,null,null,null,null,null,null,null,null,null,null,null,null,null,null,null,null,{"$f":"IF(RawData!A4696<>\"\",ROW(RawData!A4696),0)","v":0},{"$f":"IF(RawData!A4696=\"\",\"blank\",\"\")","v":"blank"}]
[null,null,null,null,null,null,null,null,null,null,null,null,null,null,null,null,null,null,null,null,null,{"$f":"IF(RawData!A4745<>\"\",ROW(RawData!A4745),0)","v":0},{"$f":"IF(RawData!A4745=\"\",\"blank\",\"\")","v":"blank"}]
[null,null,null,null,null,null,null,null,null,null,null,null,null,null,null,null,null,null,null,null,null,{"$f":"IF(RawData!A4833<>\"\",ROW(RawData!A4833),0)","v":0},{"$f":"IF(RawData!A4833=\"\",\"blank\",\"\")","v":"blank"}]
[null,null,null,null,null,null,null,null,null,null,null,null,null,null,null,null,null,null,null,null,null,{"$f":"IF(RawData!A4908<>\"\",ROW(RawData!A4908),0)","v":0},{"$f":"IF(RawData!A4908=\"\",\"blank\",\"\")","v":"blank"}]
[null,null,null,null,null,null,null,null,null,null,null,null,null,null,null,null,null,null,null,null,null,{"$f":"IF(RawData!A4957<>\"\",ROW(RawData!A4957),0)","v":0},{"$f":"IF(RawData!A4957=\"\",\"blank\",\"\")","v":"blank"}]
[null,null,null,null,null,null,null,null,null,null,null,null,null,null,null,null,null,null,null,null,null,{"$f":"IF(RawData!A5017<>\"\",ROW(RawData!A5017),0)","v":0},{"$f":"IF(RawData!A5017=\"\",\"blank\",\"\")","v":"blank"}]
[null,null,null,null,null,null,null,null,null,null,null,null,null,null,null,null,null,null,null,null,null,{"$f":"IF(RawData!A5056<>\"\",ROW(RawData!A5056),0)","v":0},{"$f":"IF(RawData!A5056=\"\",\"blank\",\"\")","v":"blank"}]
[null,null,null,null,null,null,null,null,null,null,null,null,null,null,null,null,null,null,null,null,null,{"$f":"IF(RawData!A5169<>\"\",ROW(RawData!A5169),0)","v":0},{"$f":"IF(RawData!A5169=\"\",\"blank\",\"\")","v":"blank"}]
[null,null,null,null,null,null,null,null,null,null,null,null,null,null,null,null,null,null,null,null,null,{"$f":"IF(RawData!A5201<>\"\",ROW(RawData!A5201),0)","v":0},{"$f":"IF(RawData!A5201=\"\",\"blank\",\"\")","v":"blank"}]
[null,null,null,null,null,null,null,null,null,null,null,null,null,null,null,null,null,null,null,null,null,{"$f":"IF(RawData!A5268<>\"\",ROW(RawData!A5268),0)","v":0},{"$f":"IF(RawData!A5268=\"\",\"blank\",\"\")","v":"blank"}]
[null,null,null,null,null,null,null,null,null,null,null,null,null,null,null,null,null,null,null,null,null,{"$f":"IF(RawData!A5317<>\"\",ROW(RawData!A5317),0)","v":0},{"$f":"IF(RawData!A5317=\"\",\"blank\",\"\")","v":"blank"}]
[null,null,null,null,null,null,null,null,null,null,null,null,null,null,null,null,null,null,null,null,null,{"$f":"IF(RawData!A5430<>\"\",ROW(RawData!A5430),0)","v":0},{"$f":"IF(RawData!A5430=\"\",\"blank\",\"\")","v":"blank"}]
[null,null,null,null,null,null,null,null,null,null,null,null,null,null,null,null,null,null,null,null,null,{"$f":"IF(RawData!A5465<>\"\",ROW(RawData!A5465),0)","v":0},{"$f":"IF(RawData!A5465=\"\",\"blank\",\"\")","v":"blank"}]
[null,null,null,null,null,null,null,null,null,null,null,null,null,null,null,null,null,null,null,null,null,{"$f":"IF(RawData!A5529<>\"\",ROW(RawData!A5529),0)","v":0},{"$f":"IF(RawData!A5529=\"\",\"blank\",\"\")","v":"blank"}]
[null,null,null,null,null,null,null,null,null,null,null,null,null,null,null,null,null,null,null,null,null,{"$f":"IF(RawData!A5578<>\"\",ROW(RawData!A5578),0)","v":0},{"$f":"IF(RawData!A5578=\"\",\"blank\",\"\")","v":"blank"}]
[null,null,null,null,null,null,null,null,null,null,null,null,null,null,null,null,null,null,null,null,null,{"$f":"IF(RawData!A5649<>\"\",ROW(RawData!A5649),0)","v":0},{"$f":"IF(RawData!A5649=\"\",\"blank\",\"\")","v":"blank"}]
[null,null,null,null,null,null,null,null,null,null,null,null,null,null,null,null,null,null,null,null,null,{"$f":"IF(RawData!A5741<>\"\",ROW(RawData!A5741),0)","v":0},{"$f":"IF(RawData!A5741=\"\",\"blank\",\"\")","v":"blank"}]
[null,null,null,null,null,null,null,null,null,null,null,null,null,null,null,null,null,null,null,null,null,{"$f":"IF(RawData!A5790<>\"\",ROW(RawData!A5790),0)","v":0},{"$f":"IF(RawData!A5790=\"\",\"blank\",\"\")","v":"blank"}]
[null,null,null,null,null,null,null,null,null,null,null,null,null,null,null,null,null,null,null,null,null,{"$f":"IF(RawData!A5839<>\"\",ROW(RawData!A5839),0)","v":0},{"$f":"IF(RawData!A5839=\"\",\"blank\",\"\")","v":"blank"}]
[null,null,null,null,null,null,null,null,null,null,null,null,null,null,null,null,null,null,null,null,null,{"$f":"IF(RawData!A5913<>\"\",ROW(RawData!A5913),0)","v":0},{"$f":"IF(RawData!A5913=\"\",\"blank\",\"\")","v":"blank"}]
[null,null,null,null,null,null,null,null,null,null,null,null,null,null,null,null,null,null,null,null,null,{"$f":"IF(RawData!A6002<>\"\",ROW(RawData!A6002),0)","v":0},{"$f":"IF(RawData!A6002=\"\",\"blank\",\"\")","v":"blank"}]
[null,null,null,null,null,null,null,null,null,null,null,null,null,null,null,null,null,null,null,null,null,{"$f":"IF(RawData!A6051<>\"\",ROW(RawData!A6051),0)","v":0},{"$f":"IF(RawData!A6051=\"\",\"blank\",\"\")","v":"blank"}]
[null,null,null,null,null,null,null,null,null,null,null,null,null,null,null,null,null,null,null,null,null,{"$f":"IF(RawData!A6097<>\"\",ROW(RawData!A6097),0)","v":0},{"$f":"IF(RawData!A6097=\"\",\"blank\",\"\")","v":"blank"}]
[null,null,null,null,null,null,null,null,null,null,null,null,null,null,null,null,null,null,null,null,null,{"$f":"IF(RawData!A6150<>\"\",ROW(RawData!A6150),0)","v":0},{"$f":"IF(RawData!A6150=\"\",\"blank\",\"\")","v":"blank"}]
[null,null,null,null,null,null,null,null,null,null,null,null,null,null,null,null,null,null,null,null,null,{"$f":"IF(RawData!A6263<>\"\",ROW(RawData!A6263),0)","v":0},{"$f":"IF(RawData!A6263=\"\",\"blank\",\"\")","v":"blank"}]
[null,null,null,null,null,null,null,null,null,null,null,null,null,null,null,null,null,null,null,null,null,{"$f":"IF(RawData!A6312<>\"\",ROW(RawData!A6312),0)","v":0},{"$f":"IF(RawData!A6312=\"\",\"blank\",\"\")","v":"blank"}]
[null,null,null,null,null,null,null,null,null,null,null,null,null,null,null,null,null,null,null,null,null,{"$f":"IF(RawData!A6365<>\"\",ROW(RawData!A6365),0)","v":0},{"$f":"IF(RawData!A6365=\"\",\"blank\",\"\")","v":"blank"}]
[null,null,null,null,null,null,null,null,null,null,null,null,null,null,null,null,null,null,null,null,null,{"$f":"IF(RawData!A6411<>\"\",ROW(RawData!A6411),0)","v":0},{"$f":"IF(RawData!A6411=\"\",\"blank\",\"\")","v":"blank"}]
[null,null,null,null,null,null,null,null,null,null,null,null,null,null,null,null,null,null,null,null,null,{"$f":"IF(RawData!A6524<>\"\",ROW(RawData!A6524),0)","v":0},{"$f":"IF(RawData!A6524=\"\",\"blank\",\"\")","v":"blank"}]
[null,null,null,null,null,null,null,null,null,null,null,null,null,null,null,null,null,null,null,null,null,{"$f":"IF(RawData!A6549<>\"\",ROW(RawData!A6549),0)","v":0},{"$f":"IF(RawData!A6549=\"\",\"blank\",\"\")","v":"blank"}]
[null,null,null,null,null,null,null,null,null,null,null,null,null,null,null,null,null,null,null,null,null,{"$f":"IF(RawData!A6623<>\"\",ROW(RawData!A6623),0)","v":0},{"$f":"IF(RawData!A6623=\"\",\"blank\",\"\")","v":"blank"}]
[null,null,null,null,null,null,null,null,null,null,null,null,null,null,null,null,null,null,null,null,null,{"$f":"IF(RawData!A6672<>\"\",ROW(RawData!A6672),0)","v":0},{"$f":"IF(RawData!A6672=\"\",\"blank\",\"\")","v":"blank"}]
[null,null,null,null,null,null,null,null,null,null,null,null,null,null,null,null,null,null,null,null,null,{"$f":"IF(RawData!A6721<>\"\",ROW(RawData!A6721),0)","v":0},{"$f":"IF(RawData!A6721=\"\",\"blank\",\"\")","v":"blank"}]
[null,null,null,null,null,null,null,null,null,null,null,null,null,null,null,null,null,null,null,null,null,{"$f":"IF(RawData!A6813<>\"\",ROW(RawData!A6813),0)","v":0},{"$f":"IF(RawData!A6813=\"\",\"blank\",\"\")","v":"blank"}]
[null,null,null,null,null,null,null,null,null,null,null,null,null,null,null,null,null,null,null,null,null,{"$f":"IF(RawData!A6884<>\"\",ROW(RawData!A6884),0)","v":0},{"$f":"IF(RawData!A6884=\"\",\"blank\",\"\")","v":"blank"}]
[null,null,null,null,null,null,null,null,null,null,null,null,null,null,null,null,null,null,null,null,null,{"$f":"IF(RawData!A6933<>\"\",ROW(RawData!A6933),0)","v":0},{"$f":"IF(RawData!A6933=\"\",\"blank\",\"\")","v":"blank"}]
[null,null,null,null,null,null,null,null,null,null,null,null,null,null,null,null,null,null,null,null,null,{"$f":"IF(RawData!A6997<>\"\",ROW(RawData!A6997),0)","v":0},{"$f":"IF(RawData!A6997=\"\",\"blank\",\"\")","v":"blank"}]
[null,null,null,null,null,null,null,null,null,null,null,null,null,null,null,null,null,null,null,null,null,{"$f":"IF(RawData!A7096<>\"\",ROW(RawData!A7096),0)","v":0},{"$f":"IF(RawData!A7096=\"\",\"blank\",\"\")","v":"blank"}]
[null,null,null,null,null,null,null,null,null,null,null,null,null,null,null,null,null,null,null,null,null,{"$f":"IF(RawData!A7145<>\"\",ROW(RawData!A7145),0)","v":0},{"$f":"IF(RawData!A7145=\"\",\"blank\",\"\")","v":"blank"}]
[null,null,null,null,null,null,null,null,null,null,null,null,null,null,null,null,null,null,null,null,null,{"$f":"IF(RawData!A7194<>\"\",ROW(RawData!A7194),0)","v":0},{"$f":"IF(RawData!A7194=\"\",\"blank\",\"\")","v":"blank"}]
[null,null,null,null,null,null,null,null,null,null,null,null,null,null,null,null,null,null,null,null,null,{"$f":"IF(RawData!A7261<>\"\",ROW(RawData!A7261),0)","v":0},{"$f":"IF(RawData!A7261=\"\",\"blank\",\"\")","v":"blank"}]
[null,null,null,null,null,null,null,null,null,null,null,null,null,null,null,null,null,null,null,null,null,{"$f":"IF(RawData!A7357<>\"\",ROW(RawData!A7357),0)","v":0},{"$f":"IF(RawData!A7357=\"\",\"blank\",\"\")","v":"blank"}]
[null,null,null,null,null,null,null,null,null,null,null,null,null,null,null,null,null,null,null,null,null,{"$f":"IF(RawData!A7406<>\"\",ROW(RawData!A7406),0)","v":0},{"$f":"IF(RawData!A7406=\"\",\"blank\",\"\")","v":"blank"}]
[null,null,null,null,null,null,null,null,null,null,null,null,null,null,null,null,null,null,null,null,null,{"$f":"IF(RawData!A7445<>\"\",ROW(RawData!A7445),0)","v":0},{"$f":"IF(RawData!A7445=\"\",\"blank\",\"\")","v":"blank"}]
[null,null,null,null,null,null,null,null,null,null,null,null,null,null,null,null,null,null,null,null,null,{"$f":"IF(RawData!A7505<>\"\",ROW(RawData!A7505),0)","v":0},{"$f":"IF(RawData!A7505=\"\",\"blank\",\"\")","v":"blank"}]
[null,null,null,null,null,null,null,null,null,null,null,null,null,null,null,null,null,null,null,null,null,{"$f":"IF(RawData!A7618<>\"\",ROW(RawData!A7618),0)","v":0},{"$f":"IF(RawData!A7618=\"\",\"blank\",\"\")","v":"blank"}]
[null,null,null,null,null,null,null,null,null,null,null,null,null,null,null,null,null,null,null,null,null,{"$f":"IF(RawData!A7667<>\"\",ROW(RawData!A7667),0)","v":0},{"$f":"IF(RawData!A7667=\"\",\"blank\",\"\")","v":"blank"}]
[null,null,null,null,null,null,null,null,null,null,null,null,null,null,null,null,null,null,null,null,null,{"$f":"IF(RawData!A7713<>\"\",ROW(RawData!A7713),0)","v":0},{"$f":"IF(RawData!A7713=\"\",\"blank\",\"\")","v":"blank"}]
[null,null,null,null,null,null,null,null,null,null,null,null,null,null,null,null,null,null,null,null,null,{"$f":"IF(RawData!A7766<>\"\",ROW(RawData!A7766),0)","v":0},{"$f":"IF(RawData!A7766=\"\",\"blank\",\"\")","v":"blank"}]
[null,null,null,null,null,null,null,null,null,null,null,null,null,null,null,null,null,null,null,null,null,{"$f":"IF(RawData!A7815<>\"\",ROW(RawData!A7815),0)","v":0},{"$f":"IF(RawData!A7815=\"\",\"blank\",\"\")","v":"blank"}]
[null,null,null,null,null,null,null,null,null,null,null,null,null,null,null,null,null,null,null,null,null,{"$f":"IF(RawData!A7897<>\"\",ROW(RawData!A7897),0)","v":0},{"$f":"IF(RawData!A7897=\"\",\"blank\",\"\")","v":"blank"}]
[null,null,null,null,null,null,null,null,null,null,null,null,null,null,null,null,null,null,null,null,null,{"$f":"IF(RawData!A7978<>\"\",ROW(RawData!A7978),0)","v":0},{"$f":"IF(RawData!A7978=\"\",\"blank\",\"\")","v":"blank"}]
[null,null,null,null,null,null,null,null,null,null,null,null,null,null,null,null,null,null,null,null,null,{"$f":"IF(RawData!A8027<>\"\",ROW(RawData!A8027),0)","v":0},{"$f":"IF(RawData!A8027=\"\",\"blank\",\"\")","v":"blank"}]
[null,null,null,null,null,null,null,null,null,null,null,null,null,null,null,null,null,null,null,null,null,{"$f":"IF(RawData!A8076<>\"\",ROW(RawData!A8076),0)","v":0},{"$f":"IF(RawData!A8076=\"\",\"blank\",\"\")","v":"blank"}]
[null,null,null,null,null,null,null,null,null,null,null,null,null,null,null,null,null,null,null,null,null,{"$f":"IF(RawData!A8161<>\"\",ROW(RawData!A8161),0)","v":0},{"$f":"IF(RawData!A8161=\"\",\"blank\",\"\")","v":"blank"}]
[null,null,null,null,null,null,null,null,null,null,null,null,null,null,null,null,null,null,null,null,null,{"$f":"IF(RawData!A8239<>\"\",ROW(RawData!A8239),0)","v":0},{"$f":"IF(RawData!A8239=\"\",\"blank\",\"\")","v":"blank"}]
[null,null,null,null,null,null,null,null,null,null,null,null,null,null,null,null,null,null,null,null,null,{"$f":"IF(RawData!A8288<>\"\",ROW(RawData!A8288),0)","v":0},{"$f":"IF(RawData!A8288=\"\",\"blank\",\"\")","v":"blank"}]
[null,null,null,null,null,null,null,null,null,null,null,null,null,null,null,null,null,null,null,null,null,{"$f":"IF(RawData!A8345<>\"\",ROW(RawData!A8345),0)","v":0},{"$f":"IF(RawData!A8345=\"\",\"blank\",\"\")","v":"blank"}]
[null,null,null,null,null,null,null,null,null,null,null,null,null,null,null,null,null,null,null,null,null,{"$f":"IF(RawData!A8451<>\"\",ROW(RawData!A8451),0)","v":0},{"$f":"IF(RawData!A8451=\"\",\"blank\",\"\")","v":"blank"}]
[null,null,null,null,null,null,null,null,null,null,null,null,null,null,null,null,null,null,null,null,null,{"$f":"IF(RawData!A8500<>\"\",ROW(RawData!A8500),0)","v":0},{"$f":"IF(RawData!A8500=\"\",\"blank\",\"\")","v":"blank"}]
[null,null,null,null,null,null,null,null,null,null,null,null,null,null,null,null,null,null,null,null,null,{"$f":"IF(RawData!A8549<>\"\",ROW(RawData!A8549),0)","v":0},{"$f":"IF(RawData!A8549=\"\",\"blank\",\"\")","v":"blank"}]
[null,null,null,null,null,null,null,null,null,null,null,null,null,null,null,null,null,null,null,null,null,{"$f":"IF(RawData!A8609<>\"\",ROW(RawData!A8609),0)","v":0},{"$f":"IF(RawData!A8609=\"\",\"blank\",\"\")","v":"blank"}]
[null,null,null,null,null,null,null,null,null,null,null,null,null,null,null,null,null,null,null,null,null,{"$f":"IF(RawData!A8648<>\"\",ROW(RawData!A8648),0)","v":0},{"$f":"IF(RawData!A8648=\"\",\"blank\",\"\")","v":"blank"}]
[null,null,null,null,null,null,null,null,null,null,null,null,null,null,null,null,null,null,null,null,null,{"$f":"IF(RawData!A8761<>\"\",ROW(RawData!A8761),0)","v":0},{"$f":"IF(RawData!A8761=\"\",\"blank\",\"\")","v":"blank"}]
[null,null,null,null,null,null,null,null,null,null,null,null,null,null,null,null,null,null,null,null,null,{"$f":"IF(RawData!A8793<>\"\",ROW(RawData!A8793),0)","v":0},{"$f":"IF(RawData!A8793=\"\",\"blank\",\"\")","v":"blank"}]
[null,null,null,null,null,null,null,null,null,null,null,null,null,null,null,null,null,null,null,null,null,{"$f":"IF(RawData!A8860<>\"\",ROW(RawData!A8860),0)","v":0},{"$f":"IF(RawData!A8860=\"\",\"blank\",\"\")","v":"blank"}]
[null,null,null,null,null,null,null,null,null,null,null,null,null,null,null,null,null,null,null,null,null,{"$f":"IF(RawData!A8909<>\"\",ROW(RawData!A8909),0)","v":0},{"$f":"IF(RawData!A8909=\"\",\"blank\",\"\")","v":"blank"}]
[null,null,null,null,null,null,null,null,null,null,null,null,null,null,null,null,null,null,null,null,null,{"$f":"IF(RawData!A8977<>\"\",ROW(RawData!A8977),0)","v":0},{"$f":"IF(RawData!A8977=\"\",\"blank\",\"\")","v":"blank"}]
[null,null,null,null,null,null,null,null,null,null,null,null,null,null,null,null,null,null,null,null,null,{"$f":"IF(RawData!A9072<>\"\",ROW(RawData!A9072),0)","v":0},{"$f":"IF(RawData!A9072=\"\",\"blank\",\"\")","v":"blank"}]
[null,null,null,null,null,null,null,null,null,null,null,null,null,null,null,null,null,null,null,null,null,{"$f":"IF(RawData!A9121<>\"\",ROW(RawData!A9121),0)","v":0},{"$f":"IF(RawData!A9121=\"\",\"blank\",\"\")","v":"blank"}]
[null,null,null,null,null,null,null,null,null,null,null,null,null,null,null,null,null,null,null,null,null,{"$f":"IF(RawData!A9170<>\"\",ROW(RawData!A9170),0)","v":0},{"$f":"IF(RawData!A9170=\"\",\"blank\",\"\")","v":"blank"}]
[null,null,null,null,null,null,null,null,null,null,null,null,null,null,null,null,null,null,null,null,null,{"$f":"IF(RawData!A9245<>\"\",ROW(RawData!A9245),0)","v":0},{"$f":"IF(RawData!A9245=\"\",\"blank\",\"\")","v":"blank"}]
[null,null,null,null,null,null,null,null,null,null,null,null,null,null,null,null,null,null,null,null,null,{"$f":"IF(RawData!A9333<>\"\",ROW(RawData!A9333),0)","v":0},{"$f":"IF(RawData!A9333=\"\",\"blank\",\"\")","v":"blank"}]
[null,null,null,null,null,null,null,null,null,null,null,null,null,null,null,null,null,null,null,null,null,{"$f":"IF(RawData!A9382<>\"\",ROW(RawData!A9382),0)","v":0},{"$f":"IF(RawData!A9382=\"\",\"blank\",\"\")","v":"blank"}]
[null,null,null,null,null,null,null,null,null,null,null,null,null,null,null,null,null,null,null,null,null,{"$f":"IF(RawData!A9425<>\"\",ROW(RawData!A9425),0)","v":0},{"$f":"IF(RawData!A9425=\"\",\"blank\",\"\")","v":"blank"}]
[null,null,null,null,null,null,null,null,null,null,null,null,null,null,null,null,null,null,null,null,null,{"$f":"IF(RawData!A9545<>\"\",ROW(RawData!A9545),0)","v":0},{"$f":"IF(RawData!A9545=\"\",\"blank\",\"\")","v":"blank"}]
[null,null,null,null,null,null,null,null,null,null,null,null,null,null,null,null,null,null,null,null,null,{"$f":"IF(RawData!A9594<>\"\",ROW(RawData!A9594),0)","v":0},{"$f":"IF(RawData!A9594=\"\",\"blank\",\"\")","v":"blank"}]
[null,null,null,null,null,null,null,null,null,null,null,null,null,null,null,null,null,null,null,null,null,{"$f":"IF(RawData!A9643<>\"\",ROW(RawData!A9643),0)","v":0},{"$f":"IF(RawData!A9643=\"\",\"blank\",\"\")","v":"blank"}]
[null,null,null,null,null,null,null,null,null,null,null,null,null,null,null,null,null,null,null,null,null,{"$f":"IF(RawData!A9693<>\"\",ROW(RawData!A9693),0)","v":0},{"$f":"IF(RawData!A9693=\"\",\"blank\",\"\")","v":"blank"}]
[null,null,null,null,null,null,null,null,null,null,null,null,null,null,null,null,null,null,null,null,null,{"$f":"IF(RawData!A9742<>\"\",ROW(RawData!A9742),0)","v":0},{"$f":"IF(RawData!A9742=\"\",\"blank\",\"\")","v":"blank"}]
[null,null,null,null,null,null,null,null,null,null,null,null,null,null,null,null,null,null,null,null,null,{"$f":"IF(RawData!A9855<>\"\",ROW(RawData!A9855),0)","v":0},{"$f":"IF(RawData!A9855=\"\",\"blank\",\"\")","v":"blank"}]
[null,null,null,null,null,null,null,null,null,null,null,null,null,null,null,null,null,null,null,null,null,{"$f":"IF(RawData!A9877<>\"\",ROW(RawData!A9877),0)","v":0},{"$f":"IF(RawData!A9877=\"\",\"blank\",\"\")","v":"blank"}]
[null,null,null,null,null,null,null,null,null,null,null,null,null,null,null,null,null,null,null,null,null,{"$f":"IF(RawData!A9954<>\"\",ROW(RawData!A9954),0)","v":0},{"$f":"IF(RawData!A9954=\"\",\"blank\",\"\")","v":"blank"}]
[null,null,null,null,null,null,null,null,null,null,null,null,null,null,null,null,null,null,null,null,null,{"$f":"IF(RawData!A10003<>\"\",ROW(RawData!A10003),0)","v":0},{"$f":"IF(RawData!A10003=\"\",\"blank\",\"\")","v":"blank"}]
[null,null,null,null,null,null,null,null,null,null,null,null,null,null,null,null,null,null,null,null,null,{"$f":"IF(RawData!A10116<>\"\",ROW(RawData!A10116),0)","v":0},{"$f":"IF(RawData!A10116=\"\",\"blank\",\"\")","v":"blank"}]
[null,null,null,null,null,null,null,null,null,null,null,null,null,null,null,null,null,null,null,null,null,{"$f":"IF(RawData!A10141<>\"\",ROW(RawData!A10141),0)","v":0},{"$f":"IF(RawData!A10141=\"\",\"blank\",\"\")","v":"blank"}]
[null,null,null,null,null,null,null,null,null,null,null,null,null,null,null,null,null,null,null,null,null,{"$f":"IF(RawData!A10215<>\"\",ROW(RawData!A10215),0)","v":0},{"$f":"IF(RawData!A10215=\"\",\"blank\",\"\")","v":"blank"}]
[null,null,null,null,null,null,null,null,null,null,null,null,null,null,null,null,null,null,null,null,null,{"$f":"IF(RawData!A10264<>\"\",ROW(RawData!A10264),0)","v":0},{"$f":"IF(RawData!A10264=\"\",\"blank\",\"\")","v":"blank"}]
[null,null,null,null,null,null,null,null,null,null,null,null,null,null,null,null,null,null,null,null,null,{"$f":"IF(RawData!A10325<>\"\",ROW(RawData!A10325),0)","v":0},{"$f":"IF(RawData!A10325=\"\",\"blank\",\"\")","v":"blank"}]
[null,null,null,null,null,null,null,null,null,null,null,null,null,null,null,null,null,null,null,null,null,{"$f":"IF(RawData!A10427<>\"\",ROW(RawData!A10427),0)","v":0},{"$f":"IF(RawData!A10427=\"\",\"blank\",\"\")","v":"blank"}]
[null,null,null,null,null,null,null,null,null,null,null,null,null,null,null,null,null,null,null,null,null,{"$f":"IF(RawData!A10476<>\"\",ROW(RawData!A10476),0)","v":0},{"$f":"IF(RawData!A10476=\"\",\"blank\",\"\")","v":"blank"}]
[null,null,null,null,null,null,null,null,null,null,null,null,null,null,null,null,null,null,null,null,null,{"$f":"IF(RawData!A10525<>\"\",ROW(RawData!A10525),0)","v":0},{"$f":"IF(RawData!A10525=\"\",\"blank\",\"\")","v":"blank"}]
[null,null,null,null,null,null,null,null,null,null,null,null,null,null,null,null,null,null,null,null,null,{"$f":"IF(RawData!A10593<>\"\",ROW(RawData!A10593),0)","v":0},{"$f":"IF(RawData!A10593=\"\",\"blank\",\"\")","v":"blank"}]
[null,null,null,null,null,null,null,null,null,null,null,null,null,null,null,null,null,null,null,null,null,{"$f":"IF(RawData!A10688<>\"\",ROW(RawData!A10688),0)","v":0},{"$f":"IF(RawData!A10688=\"\",\"blank\",\"\")","v":"blank"}]
[null,null,null,null,null,null,null,null,null,null,null,null,null,null,null,null,null,null,null,null,null,{"$f":"IF(RawData!A10737<>\"\",ROW(RawData!A10737),0)","v":0},{"$f":"IF(RawData!A10737=\"\",\"blank\",\"\")","v":"blank"}]
[null,null,null,null,null,null,null,null,null,null,null,null,null,null,null,null,null,null,null,null,null,{"$f":"IF(RawData!A10773<>\"\",ROW(RawData!A10773),0)","v":0},{"$f":"IF(RawData!A10773=\"\",\"blank\",\"\")","v":"blank"}]
[null,null,null,null,null,null,null,null,null,null,null,null,null,null,null,null,null,null,null,null,null,{"$f":"IF(RawData!A10836<>\"\",ROW(RawData!A10836),0)","v":0},{"$f":"IF(RawData!A10836=\"\",\"blank\",\"\")","v":"blank"}]
[null,null,null,null,null,null,null,null,null,null,null,null,null,null,null,null,null,null,null,null,null,{"$f":"IF(RawData!A10949<>\"\",ROW(RawData!A10949),0)","v":0},{"$f":"IF(RawData!A10949=\"\",\"blank\",\"\")","v":"blank"}]
[null,null,null,null,null,null,null,null,null,null,null,null,null,null,null,null,null,null,null,null,null,{"$f":"IF(RawData!A10998<>\"\",ROW(RawData!A10998),0)","v":0},{"$f":"IF(RawData!A10998=\"\",\"blank\",\"\")","v":"blank"}]
[null,null,null,null,null,null,null,null,null,null,null,null,null,null,null,null,null,null,null,null,null,{"$f":"IF(RawData!A11041<>\"\",ROW(RawData!A11041),0)","v":0},{"$f":"IF(RawData!A11041=\"\",\"blank\",\"\")","v":"blank"}]
[null,null,null,null,null,null,null,null,null,null,null,null,null,null,null,null,null,null,null,null,null,{"$f":"IF(RawData!A11097<>\"\",ROW(RawData!A11097),0)","v":0},{"$f":"IF(RawData!A11097=\"\",\"blank\",\"\")","v":"blank"}]
[null,null,null,null,null,null,null,null,null,null,null,null,null,null,null,null,null,null,null,null,null,{"$f":"IF(RawData!A11210<>\"\",ROW(RawData!A11210),0)","v":0},{"$f":"IF(RawData!A11210=\"\",\"blank\",\"\")","v":"blank"}]
[null,null,null,null,null,null,null,null,null,null,null,null,null,null,null,null,null,null,null,null,null,{"$f":"IF(RawData!A11225<>\"\",ROW(RawData!A11225),0)","v":0},{"$f":"IF(RawData!A11225=\"\",\"blank\",\"\")","v":"blank"}]
[null,null,null,null,null,null,null,null,null,null,null,null,null,null,null,null,null,null,null,null,null,{"$f":"IF(RawData!A11309<>\"\",ROW(RawData!A11309),0)","v":0},{"$f":"IF(RawData!A11309=\"\",\"blank\",\"\")","v":"blank"}]
[null,null,null,null,null,null,null,null,null,null,null,null,null,null,null,null,null,null,null,null,null,{"$f":"IF(RawData!A11358<>\"\",ROW(RawData!A11358),0)","v":0},{"$f":"IF(RawData!A11358=\"\",\"blank\",\"\")","v":"blank"}]
[null,null,null,null,null,null,null,null,null,null,null,null,null,null,null,null,null,null,null,null,null,{"$f":"IF(RawData!A11471<>\"\",ROW(RawData!A11471),0)","v":0},{"$f":"IF(RawData!A11471=\"\",\"blank\",\"\")","v":"blank"}]
[null,null,null,null,null,null,null,null,null,null,null,null,null,null,null,null,null,null,null,null,null,{"$f":"IF(RawData!A11489<>\"\",ROW(RawData!A11489),0)","v":0},{"$f":"IF(RawData!A11489=\"\",\"blank\",\"\")","v":"blank"}]
[null,null,null,null,null,null,null,null,null,null,null,null,null,null,null,null,null,null,null,null,null,{"$f":"IF(RawData!A11570<>\"\",ROW(RawData!A11570),0)","v":0},{"$f":"IF(RawData!A11570=\"\",\"blank\",\"\")","v":"blank"}]
[null,null,null,null,null,null,null,null,null,null,null,null,null,null,null,null,null,null,null,null,null,{"$f":"IF(RawData!A11619<>\"\",ROW(RawData!A11619),0)","v":0},{"$f":"IF(RawData!A11619=\"\",\"blank\",\"\")","v":"blank"}]
[null,null,null,null,null,null,null,null,null,null,null,null,null,null,null,null,null,null,null,null,null,{"$f":"IF(RawData!A11673<>\"\",ROW(RawData!A11673),0)","v":0},{"$f":"IF(RawData!A11673=\"\",\"blank\",\"\")","v":"blank"}]
[null,null,null,null,null,null,null,null,null,null,null,null,null,null,null,null,null,null,null,null,null,{"$f":"IF(RawData!A11782<>\"\",ROW(RawData!A11782),0)","v":0},{"$f":"IF(RawData!A11782=\"\",\"blank\",\"\")","v":"blank"}]
[null,null,null,null,null,null,null,null,null,null,null,null,null,null,null,null,null,null,null,null,null,{"$f":"IF(RawData!A11831<>\"\",ROW(RawData!A11831),0)","v":0},{"$f":"IF(RawData!A11831=\"\",\"blank\",\"\")","v":"blank"}]
[null,null,null,null,null,null,null,null,null,null,null,null,null,null,null,null,null,null,null,null,null,{"$f":"IF(RawData!A11880<>\"\",ROW(RawData!A11880),0)","v":0},{"$f":"IF(RawData!A11880=\"\",\"blank\",\"\")","v":"blank"}]
[null,null,null,null,null,null,null,null,null,null,null,null,null,null,null,null,null,null,null,null,null,{"$f":"IF(RawData!A11941<>\"\",ROW(RawData!A11941),0)","v":0},{"$f":"IF(RawData!A11941=\"\",\"blank\",\"\")","v":"blank"}]
[null,null,null,null,null,null,null,null,null,null,null,null,null,null,null,null,null,null,null,null,null,{"$f":"IF(RawData!A12043<>\"\",ROW(RawData!A12043),0)","v":0},{"$f":"IF(RawData!A12043=\"\",\"blank\",\"\")","v":"blank"}]
[null,null,null,null,null,null,null,null,null,null,null,null,null,null,null,null,null,null,null,null,null,{"$f":"IF(RawData!A12092<>\"\",ROW(RawData!A12092),0)","v":0},{"$f":"IF(RawData!A12092=\"\",\"blank\",\"\")","v":"blank"}]
[null,null,null,null,null,null,null,null,null,null,null,null,null,null,null,null,null,null,null,null,null,{"$f":"IF(RawData!A12121<>\"\",ROW(RawData!A12121),0)","v":0},{"$f":"IF(RawData!A12121=\"\",\"blank\",\"\")","v":"blank"}]
[null,null,null,null,null,null,null,null,null,null,null,null,null,null,null,null,null,null,null,null,null,{"$f":"IF(RawData!A12191<>\"\",ROW(RawData!A12191),0)","v":0},{"$f":"IF(RawData!A12191=\"\",\"blank\",\"\")","v":"blank"}]
[null,null,null,null,null,null,null,null,null,null,null,null,null,null,null,null,null,null,null,null,null,{"$f":"IF(RawData!A12304<>\"\",ROW(RawData!A12304),0)","v":0},{"$f":"IF(RawData!A12304=\"\",\"blank\",\"\")","v":"blank"}]
[null,null,null,null,null,null,null,null,null,null,null,null,null,null,null,null,null,null,null,null,null,{"$f":"IF(RawData!A12353<>\"\",ROW(RawData!A12353),0)","v":0},{"$f":"IF(RawData!A12353=\"\",\"blank\",\"\")","v":"blank"}]
[null,null,null,null,null,null,null,null,null,null,null,null,null,null,null,null,null,null,null,null,null,{"$f":"IF(RawData!A12389<>\"\",ROW(RawData!A12389),0)","v":0},{"$f":"IF(RawData!A12389=\"\",\"blank\",\"\")","v":"blank"}]
[null,null,null,null,null,null,null,null,null,null,null,null,null,null,null,null,null,null,null,null,null,{"$f":"IF(RawData!A12452<>\"\",ROW(RawData!A12452),0)","v":0},{"$f":"IF(RawData!A12452=\"\",\"blank\",\"\")","v":"blank"}]
[null,null,null,null,null,null,null,null,null,null,null,null,null,null,null,null,null,null,null,null,null,{"$f":"IF(RawData!A12565<>\"\",ROW(RawData!A12565),0)","v":0},{"$f":"IF(RawData!A12565=\"\",\"blank\",\"\")","v":"blank"}]
[null,null,null,null,null,null,null,null,null,null,null,null,null,null,null,null,null,null,null,null,null,{"$f":"IF(RawData!A12573<>\"\",ROW(RawData!A12573),0)","v":0},{"$f":"IF(RawData!A12573=\"\",\"blank\",\"\")","v":"blank"}]
[null,null,null,null,null,null,null,null,null,null,null,null,null,null,null,null,null,null,null,null,null,{"$f":"IF(RawData!A12664<>\"\",ROW(RawData!A12664),0)","v":0},{"$f":"IF(RawData!A12664=\"\",\"blank\",\"\")","v":"blank"}]
[null,null,null,null,null,null,null,null,null,null,null,null,null,null,null,null,null,null,null,null,null,{"$f":"IF(RawData!A12713<>\"\",ROW(RawData!A12713),0)","v":0},{"$f":"IF(RawData!A12713=\"\",\"blank\",\"\")","v":"blank"}]
[null,null,null,null,null,null,null,null,null,null,null,null,null,null,null,null,null,null,null,null,null,{"$f":"IF(RawData!A12762<>\"\",ROW(RawData!A12762),0)","v":0},{"$f":"IF(RawData!A12762=\"\",\"blank\",\"\")","v":"blank"}]
[null,null,null,null,null,null,null,null,null,null,null,null,null,null,null,null,null,null,null,null,null,{"$f":"IF(RawData!A12837<>\"\",ROW(RawData!A12837),0)","v":0},{"$f":"IF(RawData!A12837=\"\",\"blank\",\"\")","v":"blank"}]
[null,null,null,null,null,null,null,null,null,null,null,null,null,null,null,null,null,null,null,null,null,{"$f":"IF(RawData!A12925<>\"\",ROW(RawData!A12925),0)","v":0},{"$f":"IF(RawData!A12925=\"\",\"blank\",\"\")","v":"blank"}]
[null,null,null,null,null,null,null,null,null,null,null,null,null,null,null,null,null,null,null,null,null,{"$f":"IF(RawData!A12974<>\"\",ROW(RawData!A12974),0)","v":0},{"$f":"IF(RawData!A12974=\"\",\"blank\",\"\")","v":"blank"}]
[null,null,null,null,null,null,null,null,null,null,null,null,null,null,null,null,null,null,null,null,null,{"$f":"IF(RawData!A13021<>\"\",ROW(RawData!A13021),0)","v":0},{"$f":"IF(RawData!A13021=\"\",\"blank\",\"\")","v":"blank"}]
[null,null,null,null,null,null,null,null,null,null,null,null,null,null,null,null,null,null,null,null,null,{"$f":"IF(RawData!A13137<>\"\",ROW(RawData!A13137),0)","v":0},{"$f":"IF(RawData!A13137=\"\",\"blank\",\"\")","v":"blank"}]
[null,null,null,null,null,null,null,null,null,null,null,null,null,null,null,null,null,null,null,null,null,{"$f":"IF(RawData!A13186<>\"\",ROW(RawData!A13186),0)","v":0},{"$f":"IF(RawData!A13186=\"\",\"blank\",\"\")","v":"blank"}]
[null,null,null,null,null,null,null,null,null,null,null,null,null,null,null,null,null,null,null,null,null,{"$f":"IF(RawData!A13270<>\"\",ROW(RawData!A13270),0)","v":0},{"$f":"IF(RawData!A13270=\"\",\"blank\",\"\")","v":"blank"}]
[null,null,null,null,null,null,null,null,null,null,null,null,null,null,null,null,null,null,null,null,null,{"$f":"IF(RawData!A13285<>\"\",ROW(RawData!A13285),0)","v":0},{"$f":"IF(RawData!A13285=\"\",\"blank\",\"\")","v":"blank"}]
[null,null,null,null,null,null,null,null,null,null,null,null,null,null,null,null,null,null,null,null,null,{"$f":"IF(RawData!A13398<>\"\",ROW(RawData!A13398),0)","v":0},{"$f":"IF(RawData!A13398=\"\",\"blank\",\"\")","v":"blank"}]
[null,null,null,null,null,null,null,null,null,null,null,null,null,null,null,null,null,null,null,null,null,{"$f":"IF(RawData!A13447<>\"\",ROW(RawData!A13447),0)","v":0},{"$f":"IF(RawData!A13447=\"\",\"blank\",\"\")","v":"blank"}]
[null,null,null,null,null,null,null,null,null,null,null,null,null,null,null,null,null,null,null,null,null,{"$f":"IF(RawData!A13469<>\"\",ROW(RawData!A13469),0)","v":0},{"$f":"IF(RawData!A13469=\"\",\"blank\",\"\")","v":"blank"}]
[null,null,null,null,null,null,null,null,null,null,null,null,null,null,null,null,null,null,null,null,null,{"$f":"IF(RawData!A13546<>\"\",ROW(RawData!A13546),0)","v":0},{"$f":"IF(RawData!A13546=\"\",\"blank\",\"\")","v":"blank"}]
[null,null,null,null,null,null,null,null,null,null,null,null,null,null,null,null,null,null,null,null,null,{"$f":"IF(RawData!A13659<>\"\",ROW(RawData!A13659),0)","v":0},{"$f":"IF(RawData!A13659=\"\",\"blank\",\"\")","v":"blank"}]
[null,null,null,null,null,null,null,null,null,null,null,null,null,null,null,null,null,null,null,null,null,{"$f":"IF(RawData!A13718<>\"\",ROW(RawData!A13718),0)","v":0},{"$f":"IF(RawData!A13718=\"\",\"blank\",\"\")","v":"blank"}]
[null,null,null,null,null,null,null,null,null,null,null,null,null,null,null,null,null,null,null,null,null,{"$f":"IF(RawData!A13758<>\"\",ROW(RawData!A13758),0)","v":0},{"$f":"IF(RawData!A13758=\"\",\"blank\",\"\")","v":"blank"}]
[null,null,null,null,null,null,null,null,null,null,null,null,null,null,null,null,null,null,null,null,null,{"$f":"IF(RawData!A13807<>\"\",ROW(RawData!A13807),0)","v":0},{"$f":"IF(RawData!A13807=\"\",\"blank\",\"\")","v":"blank"}]
[null,null,null,null,null,null,null,null,null,null,null,null,null,null,null,null,null,null,null,null,null,{"$f":"IF(RawData!A13856<>\"\",ROW(RawData!A13856),0)","v":0},{"$f":"IF(RawData!A13856=\"\",\"blank\",\"\")","v":"blank"}]
[null,null,null,null,null,null,null,null,null,null,null,null,null,null,null,null,null,null,null,null,null,{"$f":"IF(RawData!A13921<>\"\",ROW(RawData!A13921),0)","v":0},{"$f":"IF(RawData!A13921=\"\",\"blank\",\"\")","v":"blank"}]
[null,null,null,null,null,null,null,null,null,null,null,null,null,null,null,null,null,null,null,null,null,{"$f":"IF(RawData!A14019<>\"\",ROW(RawData!A14019),0)","v":0},{"$f":"IF(RawData!A14019=\"\",\"blank\",\"\")","v":"blank"}]
[null,null,null,null,null,null,null,null,null,null,null,null,null,null,null,null,null,null,null,null,null,{"$f":"IF(RawData!A14068<>\"\",ROW(RawData!A14068),0)","v":0},{"$f":"IF(RawData!A14068=\"\",\"blank\",\"\")","v":"blank"}]
[null,null,null,null,null,null,null,null,null,null,null,null,null,null,null,null,null,null,null,null,null,{"$f":"IF(RawData!A14170<>\"\",ROW(RawData!A14170),0)","v":0},{"$f":"IF(RawData!A14170=\"\",\"blank\",\"\")","v":"blank"}]
[null,null,null,null,null,null,null,null,null,null,null,null,null,null,null,null,null,null,null,null,null,{"$f":"IF(RawData!A14231<>\"\",ROW(RawData!A14231),0)","v":0},{"$f":"IF(RawData!A14231=\"\",\"blank\",\"\")","v":"blank"}]
[null,null,null,null,null,null,null,null,null,null,null,null,null,null,null,null,null,null,null,null,null,{"$f":"IF(RawData!A14280<>\"\",ROW(RawData!A14280),0)","v":0},{"$f":"IF(RawData!A14280=\"\",\"blank\",\"\")","v":"blank"}]
[null,null,null,null,null,null,null,null,null,null,null,null,null,null,null,null,null,null,null,null,null,{"$f":"IF(RawData!A14329<>\"\",ROW(RawData!A14329),0)","v":0},{"$f":"IF(RawData!A14329=\"\",\"blank\",\"\")","v":"blank"}]
[null,null,null,null,null,null,null,null,null,null,null,null,null,null,null,null,null,null,null,null,null,{"$f":"IF(RawData!A14369<>\"\",ROW(RawData!A14369),0)","v":0},{"$f":"IF(RawData!A14369=\"\",\"blank\",\"\")","v":"blank"}]
[null,null,null,null,null,null,null,null,null,null,null,null,null,null,null,null,null,null,null,null,null,{"$f":"IF(RawData!A14492<>\"\",ROW(RawData!A14492),0)","v":0},{"$f":"IF(RawData!A14492=\"\",\"blank\",\"\")","v":"blank"}]
[null,null,null,null,null,null,null,null,null,null,null,null,null,null,null,null,null,null,null,null,null,{"$f":"IF(RawData!A14541<>\"\",ROW(RawData!A14541),0)","v":0},{"$f":"IF(RawData!A14541=\"\",\"blank\",\"\")","v":"blank"}]
[null,null,null,null,null,null,null,null,null,null,null,null,null,null,null,null,null,null,null,null,null,{"$f":"IF(RawData!A14618<>\"\",ROW(RawData!A14618),0)","v":0},{"$f":"IF(RawData!A14618=\"\",\"blank\",\"\")","v":"blank"}]
[null,null,null,null,null,null,null,null,null,null,null,null,null,null,null,null,null,null,null,null,null,{"$f":"IF(RawData!A14640<>\"\",ROW(RawData!A14640),0)","v":0},{"$f":"IF(RawData!A14640=\"\",\"blank\",\"\")","v":"blank"}]
[null,null,null,null,null,null,null,null,null,null,null,null,null,null,null,null,null,null,null,null,null,{"$f":"IF(RawData!A14753<>\"\",ROW(RawData!A14753),0)","v":0},{"$f":"IF(RawData!A14753=\"\",\"blank\",\"\")","v":"blank"}]
[null,null,null,null,null,null,null,null,null,null,null,null,null,null,null,null,null,null,null,null,null,{"$f":"IF(RawData!A14802<>\"\",ROW(RawData!A14802),0)","v":0},{"$f":"IF(RawData!A14802=\"\",\"blank\",\"\")","v":"blank"}]
[null,null,null,null,null,null,null,null,null,null,null,null,null,null,null,null,null,null,null,null,null,{"$f":"IF(RawData!A14882<>\"\",ROW(RawData!A14882),0)","v":0},{"$f":"IF(RawData!A14882=\"\",\"blank\",\"\")","v":"blank"}]
[null,null,null,null,null,null,null,null,null,null,null,null,null,null,null,null,null,null,null,null,null,{"$f":"IF(RawData!A14901<>\"\",ROW(RawData!A14901),0)","v":0},{"$f":"IF(RawData!A14901=\"\",\"blank\",\"\")","v":"blank"}]
[null,null,null,null,null,null,null,null,null,null,null,null,null,null,null,null,null,null,null,null,null,{"$f":"IF(RawData!A14950<>\"\",ROW(RawData!A14950),0)","v":0},{"$f":"IF(RawData!A14950=\"\",\"blank\",\"\")","v":"blank"}]
[null,null,null,null,null,null,null,null,null,null,null,null,null,null,null,null,null,null,null,null,null,{"$f":"IF(RawData!A15066<>\"\",ROW(RawData!A15066),0)","v":0},{"$f":"IF(RawData!A15066=\"\",\"blank\",\"\")","v":"blank"}]
[null,null,null,null,null,null,null,null,null,null,null,null,null,null,null,null,null,null,null,null,null,{"$f":"IF(RawData!A15113<>\"\",ROW(RawData!A15113),0)","v":0},{"$f":"IF(RawData!A15113=\"\",\"blank\",\"\")","v":"blank"}]
[null,null,null,null,null,null,null,null,null,null,null,null,null,null,null,null,null,null,null,null,null,{"$f":"IF(RawData!A15162<>\"\",ROW(RawData!A15162),0)","v":0},{"$f":"IF(RawData!A15162=\"\",\"blank\",\"\")","v":"blank"}]
[null,null,null,null,null,null,null,null,null,null,null,null,null,null,null,null,null,null,null,null,null,{"$f":"IF(RawData!A15211<>\"\",ROW(RawData!A15211),0)","v":0},{"$f":"IF(RawData!A15211=\"\",\"blank\",\"\")","v":"blank"}]
[null,null,null,null,null,null,null,null,null,null,null,null,null,null,null,null,null,null,null,null,null,{"$f":"IF(RawData!A15269<>\"\",ROW(RawData!A15269),0)","v":0},{"$f":"IF(RawData!A15269=\"\",\"blank\",\"\")","v":"blank"}]
[null,null,null,null,null,null,null,null,null,null,null,null,null,null,null,null,null,null,null,null,null,{"$f":"IF(RawData!A15374<>\"\",ROW(RawData!A15374),0)","v":0},{"$f":"IF(RawData!A15374=\"\",\"blank\",\"\")","v":"blank"}]
[null,null,null,null,null,null,null,null,null,null,null,null,null,null,null,null,null,null,null,null,null,{"$f":"IF(RawData!A15423<>\"\",ROW(RawData!A15423),0)","v":0},{"$f":"IF(RawData!A15423=\"\",\"blank\",\"\")","v":"blank"}]
[null,null,null,null,null,null,null,null,null,null,null,null,null,null,null,null,null,null,null,null,null,{"$f":"IF(RawData!A15518<>\"\",ROW(RawData!A15518),0)","v":0},{"$f":"IF(RawData!A15518=\"\",\"blank\",\"\")","v":"blank"}]
[null,null,null,null,null,null,null,null,null,null,null,null,null,null,null,null,null,null,null,null,null,{"$f":"IF(RawData!A15586<>\"\",ROW(RawData!A15586),0)","v":0},{"$f":"IF(RawData!A15586=\"\",\"blank\",\"\")","v":"blank"}]
[null,null,null,null,null,null,null,null,null,null,null,null,null,null,null,null,null,null,null,null,null,{"$f":"IF(RawData!A15635<>\"\",ROW(RawData!A15635),0)","v":0},{"$f":"IF(RawData!A15635=\"\",\"blank\",\"\")","v":"blank"}]
[null,null,null,null,null,null,null,null,null,null,null,null,null,null,null,null,null,null,null,null,null,{"$f":"IF(RawData!A15684<>\"\",ROW(RawData!A15684),0)","v":0},{"$f":"IF(RawData!A15684=\"\",\"blank\",\"\")","v":"blank"}]
[null,null,null,null,null,null,null,null,null,null,null,null,null,null,null,null,null,null,null,null,null,{"$f":"IF(RawData!A15782<>\"\",ROW(RawData!A15782),0)","v":0},{"$f":"IF(RawData!A15782=\"\",\"blank\",\"\")","v":"blank"}]
[null,null,null,null,null,null,null,null,null,null,null,null,null,null,null,null,null,null,null,null,null,{"$f":"IF(RawData!A15847<>\"\",ROW(RawData!A15847),0)","v":0},{"$f":"IF(RawData!A15847=\"\",\"blank\",\"\")","v":"blank"}]
[null,null,null,null,null,null,null,null,null,null,null,null,null,null,null,null,null,null,null,null,null,{"$f":"IF(RawData!A15896<>\"\",ROW(RawData!A15896),0)","v":0},{"$f":"IF(RawData!A15896=\"\",\"blank\",\"\")","v":"blank"}]
[null,null,null,null,null,null,null,null,null,null,null,null,null,null,null,null,null,null,null,null,null,{"$f":"IF(RawData!A15966<>\"\",ROW(RawData!A15966),0)","v":0},{"$f":"IF(RawData!A15966=\"\",\"blank\",\"\")","v":"blank"}]
[null,null,null,null,null,null,null,null,null,null,null,null,null,null,null,null,null,null,null,null,null,{"$f":"IF(RawData!A15995<>\"\",ROW(RawData!A15995),0)","v":0},{"$f":"IF(RawData!A15995=\"\",\"blank\",\"\")","v":"blank"}]
[null,null,null,null,null,null,null,null,null,null,null,null,null,null,null,null,null,null,null,null,null,{"$f":"IF(RawData!A16044<>\"\",ROW(RawData!A16044),0)","v":0},{"$f":"IF(RawData!A16044=\"\",\"blank\",\"\")","v":"blank"}]
[null,null,null,null,null,null,null,null,null,null,null,null,null,null,null,null,null,null,null,null,null,{"$f":"IF(RawData!A16157<>\"\",ROW(RawData!A16157),0)","v":0},{"$f":"IF(RawData!A16157=\"\",\"blank\",\"\")","v":"blank"}]
[null,null,null,null,null,null,null,null,null,null,null,null,null,null,null,null,null,null,null,null,null,{"$f":"IF(RawData!A16230<>\"\",ROW(RawData!A16230),0)","v":0},{"$f":"IF(RawData!A16230=\"\",\"blank\",\"\")","v":"blank"}]
[null,null,null,null,null,null,null,null,null,null,null,null,null,null,null,null,null,null,null,null,null,{"$f":"IF(RawData!A16256<>\"\",ROW(RawData!A16256),0)","v":0},{"$f":"IF(RawData!A16256=\"\",\"blank\",\"\")","v":"blank"}]
[null,null,null,null,null,null,null,null,null,null,null,null,null,null,null,null,null,null,null,null,null,{"$f":"IF(RawData!A16305<>\"\",ROW(RawData!A16305),0)","v":0},{"$f":"IF(RawData!A16305=\"\",\"blank\",\"\")","v":"blank"}]
[null,null,null,null,null,null,null,null,null,null,null,null,null,null,null,null,null,null,null,null,null,{"$f":"IF(RawData!A16414<>\"\",ROW(RawData!A16414),0)","v":0},{"$f":"IF(RawData!A16414=\"\",\"blank\",\"\")","v":"blank"}]
[null,null,null,null,null,null,null,null,null,null,null,null,null,null,null,null,null,null,null,null,null,{"$f":"IF(RawData!A16468<>\"\",ROW(RawData!A16468),0)","v":0},{"$f":"IF(RawData!A16468=\"\",\"blank\",\"\")","v":"blank"}]
[null,null,null,null,null,null,null,null,null,null,null,null,null,null,null,null,null,null,null,null,null,{"$f":"IF(RawData!A16517<>\"\",ROW(RawData!A16517),0)","v":0},{"$f":"IF(RawData!A16517=\"\",\"blank\",\"\")","v":"blank"}]
[null,null,null,null,null,null,null,null,null,null,null,null,null,null,null,null,null,null,null,null,null,{"$f":"IF(RawData!A16566<>\"\",ROW(RawData!A16566),0)","v":0},{"$f":"IF(RawData!A16566=\"\",\"blank\",\"\")","v":"blank"}]
[null,null,null,null,null,null,null,null,null,null,null,null,null,null,null,null,null,null,null,null,null,{"$f":"IF(RawData!A16682<>\"\",ROW(RawData!A16682),0)","v":0},{"$f":"IF(RawData!A16682=\"\",\"blank\",\"\")","v":"blank"}]
[null,null,null,null,null,null,null,null,null,null,null,null,null,null,null,null,null,null,null,null,null,{"$f":"IF(RawData!A16729<>\"\",ROW(RawData!A16729),0)","v":0},{"$f":"IF(RawData!A16729=\"\",\"blank\",\"\")","v":"blank"}]
[null,null,null,null,null,null,null,null,null,null,null,null,null,null,null,null,null,null,null,null,null,{"$f":"IF(RawData!A16778<>\"\",ROW(RawData!A16778),0)","v":0},{"$f":"IF(RawData!A16778=\"\",\"blank\",\"\")","v":"blank"}]
[null,null,null,null,null,null,null,null,null,null,null,null,null,null,null,null,null,null,null,null,null,{"$f":"IF(RawData!A16866<>\"\",ROW(RawData!A16866),0)","v":0},{"$f":"IF(RawData!A16866=\"\",\"blank\",\"\")","v":"blank"}]
[null,null,null,null,null,null,null,null,null,null,null,null,null,null,null,null,null,null,null,null,null,{"$f":"IF(RawData!A16877<>\"\",ROW(RawData!A16877),0)","v":0},{"$f":"IF(RawData!A16877=\"\",\"blank\",\"\")","v":"blank"}]
[null,null,null,null,null,null,null,null,null,null,null,null,null,null,null,null,null,null,null,null,null,{"$f":"IF(RawData!A16990<>\"\",ROW(RawData!A16990),0)","v":0},{"$f":"IF(RawData!A16990=\"\",\"blank\",\"\")","v":"blank"}]
[null,null,null,null,null,null,null,null,null,null,null,null,null,null,null,null,null,null,null,null,null,{"$f":"IF(RawData!A17046<>\"\",ROW(RawData!A17046),0)","v":0},{"$f":"IF(RawData!A17046=\"\",\"blank\",\"\")","v":"blank"}]
[null,null,null,null,null,null,null,null,null,null,null,null,null,null,null,null,null,null,null,null,null,{"$f":"IF(RawData!A17089<>\"\",ROW(RawData!A17089),0)","v":0},{"$f":"IF(RawData!A17089=\"\",\"blank\",\"\")","v":"blank"}]
[null,null,null,null,null,null,null,null,null,null,null,null,null,null,null,null,null,null,null,null,null,{"$f":"IF(RawData!A17138<>\"\",ROW(RawData!A17138),0)","v":0},{"$f":"IF(RawData!A17138=\"\",\"blank\",\"\")","v":"blank"}]
[null,null,null,null,null,null,null,null,null,null,null,null,null,null,null,null,null,null,null,null,null,{"$f":"IF(RawData!A17251<>\"\",ROW(RawData!A17251),0)","v":0},{"$f":"IF(RawData!A17251=\"\",\"blank\",\"\")","v":"blank"}]
[null,null,null,null,null,null,null,null,null,null,null,null,null,null,null,null,null,null,null,null,null,{"$f":"IF(RawData!A17314<>\"\",ROW(RawData!A17314),0)","v":0},{"$f":"IF(RawData!A17314=\"\",\"blank\",\"\")","v":"blank"}]
[null,null,null,null,null,null,null,null,null,null,null,null,null,null,null,null,null,null,null,null,null,{"$f":"IF(RawData!A17350<>\"\",ROW(RawData!A17350),0)","v":0},{"$f":"IF(RawData!A17350=\"\",\"blank\",\"\")","v":"blank"}]
[null,null,null,null,null,null,null,null,null,null,null,null,null,null,null,null,null,null,null,null,null,{"$f":"IF(RawData!A17399<>\"\",ROW(RawData!A17399),0)","v":0},{"$f":"IF(RawData!A17399=\"\",\"blank\",\"\")","v":"blank"}]
[null,null,null,null,null,null,null,null,null,null,null,null,null,null,null,null,null,null,null,null,null,{"$f":"IF(RawData!A17498<>\"\",ROW(RawData!A17498),0)","v":0},{"$f":"IF(RawData!A17498=\"\",\"blank\",\"\")","v":"blank"}]
[null,null,null,null,null,null,null,null,null,null,null,null,null,null,null,null,null,null,null,null,null,{"$f":"IF(RawData!A17562<>\"\",ROW(RawData!A17562),0)","v":0},{"$f":"IF(RawData!A17562=\"\",\"blank\",\"\")","v":"blank"}]
[null,null,null,null,null,null,null,null,null,null,null,null,null,null,null,null,null,null,null,null,null,{"$f":"IF(RawData!A17611<>\"\",ROW(RawData!A17611),0)","v":0},{"$f":"IF(RawData!A17611=\"\",\"blank\",\"\")","v":"blank"}]
[null,null,null,null,null,null,null,null,null,null,null,null,null,null,null,null,null,null,null,null,null,{"$f":"IF(RawData!A17660<>\"\",ROW(RawData!A17660),0)","v":0},{"$f":"IF(RawData!A17660=\"\",\"blank\",\"\")","v":"blank"}]
[null,null,null,null,null,null,null,null,null,null,null,null,null,null,null,null,null,null,null,null,null,{"$f":"IF(RawData!A17762<>\"\",ROW(RawData!A17762),0)","v":0},{"$f":"IF(RawData!A17762=\"\",\"blank\",\"\")","v":"blank"}]
[null,null,null,null,null,null,null,null,null,null,null,null,null,null,null,null,null,null,null,null,null,{"$f":"IF(RawData!A17823<>\"\",ROW(RawData!A17823),0)","v":0},{"$f":"IF(RawData!A17823=\"\",\"blank\",\"\")","v":"blank"}]
[null,null,null,null,null,null,null,null,null,null,null,null,null,null,null,null,null,null,null,null,null,{"$f":"IF(RawData!A17872<>\"\",ROW(RawData!A17872),0)","v":0},{"$f":"IF(RawData!A17872=\"\",\"blank\",\"\")","v":"blank"}]
[null,null,null,null,null,null,null,null,null,null,null,null,null,null,null,null,null,null,null,null,null,{"$f":"IF(RawData!A17946<>\"\",ROW(RawData!A17946),0)","v":0},{"$f":"IF(RawData!A17946=\"\",\"blank\",\"\")","v":"blank"}]
[null,null,null,null,null,null,null,null,null,null,null,null,null,null,null,null,null,null,null,null,null,{"$f":"IF(RawData!A17971<>\"\",ROW(RawData!A17971),0)","v":0},{"$f":"IF(RawData!A17971=\"\",\"blank\",\"\")","v":"blank"}]
[null,null,null,null,null,null,null,null,null,null,null,null,null,null,null,null,null,null,null,null,null,{"$f":"IF(RawData!A18084<>\"\",ROW(RawData!A18084),0)","v":0},{"$f":"IF(RawData!A18084=\"\",\"blank\",\"\")","v":"blank"}]
[null,null,null,null,null,null,null,null,null,null,null,null,null,null,null,null,null,null,null,null,null,{"$f":"IF(RawData!A18133<>\"\",ROW(RawData!A18133),0)","v":0},{"$f":"IF(RawData!A18133=\"\",\"blank\",\"\")","v":"blank"}]
[null,null,null,null,null,null,null,null,null,null,null,null,null,null,null,null,null,null,null,null,null,{"$f":"IF(RawData!A18214<>\"\",ROW(RawData!A18214),0)","v":0},{"$f":"IF(RawData!A18214=\"\",\"blank\",\"\")","v":"blank"}]
[null,null,null,null,null,null,null,null,null,null,null,null,null,null,null,null,null,null,null,null,null,{"$f":"IF(RawData!A18232<>\"\",ROW(RawData!A18232),0)","v":0},{"$f":"IF(RawData!A18232=\"\",\"blank\",\"\")","v":"blank"}]
[null,null,null,null,null,null,null,null,null,null,null,null,null,null,null,null,null,null,null,null,null,{"$f":"IF(RawData!A18345<>\"\",ROW(RawData!A18345),0)","v":0},{"$f":"IF(RawData!A18345=\"\",\"blank\",\"\")","v":"blank"}]
[null,null,null,null,null,null,null,null,null,null,null,null,null,null,null,null,null,null,null,null,null,{"$f":"IF(RawData!A18394<>\"\",ROW(RawData!A18394),0)","v":0},{"$f":"IF(RawData!A18394=\"\",\"blank\",\"\")","v":"blank"}]
[null,null,null,null,null,null,null,null,null,null,null,null,null,null,null,null,null,null,null,null,null,{"$f":"IF(RawData!A18444<>\"\",ROW(RawData!A18444),0)","v":0},{"$f":"IF(RawData!A18444=\"\",\"blank\",\"\")","v":"blank"}]
[null,null,null,null,null,null,null,null,null,null,null,null,null,null,null,null,null,null,null,null,null,{"$f":"IF(RawData!A18493<>\"\",ROW(RawData!A18493),0)","v":0},{"$f":"IF(RawData!A18493=\"\",\"blank\",\"\")","v":"blank"}]
[null,null,null,null,null,null,null,null,null,null,null,null,null,null,null,null,null,null,null,null,null,{"$f":"IF(RawData!A18606<>\"\",ROW(RawData!A18606),0)","v":0},{"$f":"IF(RawData!A18606=\"\",\"blank\",\"\")","v":"blank"}]
[null,null,null,null,null,null,null,null,null,null,null,null,null,null,null,null,null,null,null,null,null,{"$f":"IF(RawData!A18662<>\"\",ROW(RawData!A18662),0)","v":0},{"$f":"IF(RawData!A18662=\"\",\"blank\",\"\")","v":"blank"}]
[null,null,null,null,null,null,null,null,null,null,null,null,null,null,null,null,null,null,null,null,null,{"$f":"IF(RawData!A18705<>\"\",ROW(RawData!A18705),0)","v":0},{"$f":"IF(RawData!A18705=\"\",\"blank\",\"\")","v":"blank"}]
[null,null,null,null,null,null,null,null,null,null,null,null,null,null,null,null,null,null,null,null,null,{"$f":"IF(RawData!A18754<>\"\",ROW(RawData!A18754),0)","v":0},{"$f":"IF(RawData!A18754=\"\",\"blank\",\"\")","v":"blank"}]
[null,null,null,null,null,null,null,null,null,null,null,null,null,null,null,null,null,null,null,null,null,{"$f":"IF(RawData!A18846<>\"\",ROW(RawData!A18846),0)","v":0},{"$f":"IF(RawData!A18846=\"\",\"blank\",\"\")","v":"blank"}]
[null,null,null,null,null,null,null,null,null,null,null,null,null,null,null,null,null,null,null,null,null,{"$f":"IF(RawData!A18917<>\"\",ROW(RawData!A18917),0)","v":0},{"$f":"IF(RawData!A18917=\"\",\"blank\",\"\")","v":"blank"}]
[null,null,null,null,null,null,null,null,null,null,null,null,null,null,null,null,null,null,null,null,null,{"$f":"IF(RawData!A18966<>\"\",ROW(RawData!A18966),0)","v":0},{"$f":"IF(RawData!A18966=\"\",\"blank\",\"\")","v":"blank"}]
[null,null,null,null,null,null,null,null,null,null,null,null,null,null,null,null,null,null,null,null,null,{"$f":"IF(RawData!A19015<>\"\",ROW(RawData!A19015),0)","v":0},{"$f":"IF(RawData!A19015=\"\",\"blank\",\"\")","v":"blank"}]
[null,null,null,null,null,null,null,null,null,null,null,null,null,null,null,null,null,null,null,null,null,{"$f":"IF(RawData!A19110<>\"\",ROW(RawData!A19110),0)","v":0},{"$f":"IF(RawData!A19110=\"\",\"blank\",\"\")","v":"blank"}]
[null,null,null,null,null,null,null,null,null,null,null,null,null,null,null,null,null,null,null,null,null,{"$f":"IF(RawData!A19178<>\"\",ROW(RawData!A19178),0)","v":0},{"$f":"IF(RawData!A19178=\"\",\"blank\",\"\")","v":"blank"}]
[null,null,null,null,null,null,null,null,null,null,null,null,null,null,null,null,null,null,null,null,null,{"$f":"IF(RawData!A19227<>\"\",ROW(RawData!A19227),0)","v":0},{"$f":"IF(RawData!A19227=\"\",\"blank\",\"\")","v":"blank"}]
[null,null,null,null,null,null,null,null,null,null,null,null,null,null,null,null,null,null,null,null,null,{"$f":"IF(RawData!A19294<>\"\",ROW(RawData!A19294),0)","v":0},{"$f":"IF(RawData!A19294=\"\",\"blank\",\"\")","v":"blank"}]
[null,null,null,null,null,null,null,null,null,null,null,null,null,null,null,null,null,null,null,null,null,{"$f":"IF(RawData!A19326<>\"\",ROW(RawData!A19326),0)","v":0},{"$f":"IF(RawData!A19326=\"\",\"blank\",\"\")","v":"blank"}]
[null,null,null,null,null,null,null,null,null,null,null,null,null,null,null,null,null,null,null,null,null,{"$f":"IF(RawData!A19439<>\"\",ROW(RawData!A19439),0)","v":0},{"$f":"IF(RawData!A19439=\"\",\"blank\",\"\")","v":"blank"}]
[null,null,null,null,null,null,null,null,null,null,null,null,null,null,null,null,null,null,null,null,null,{"$f":"IF(RawData!A19488<>\"\",ROW(RawData!A19488),0)","v":0},{"$f":"IF(RawData!A19488=\"\",\"blank\",\"\")","v":"blank"}]
[null,null,null,null,null,null,null,null,null,null,null,null,null,null,null,null,null,null,null,null,null,{"$f":"IF(RawData!A19558<>\"\",ROW(RawData!A19558),0)","v":0},{"$f":"IF(RawData!A19558=\"\",\"blank\",\"\")","v":"blank"}]
[null,null,null,null,null,null,null,null,null,null,null,null,null,null,null,null,null,null,null,null,null,{"$f":"IF(RawData!A19587<>\"\",ROW(RawData!A19587),0)","v":0},{"$f":"IF(RawData!A19587=\"\",\"blank\",\"\")","v":"blank"}]
[null,null,null,null,null,null,null,null,null,null,null,null,null,null,null,null,null,null,null,null,null,{"$f":"IF(RawData!A19700<>\"\",ROW(RawData!A19700),0)","v":0},{"$f":"IF(RawData!A19700=\"\",\"blank\",\"\")","v":"blank"}]
[null,null,null,null,null,null,null,null,null,null,null,null,null,null,null,null,null,null,null,null,null,{"$f":"IF(RawData!A19742<>\"\",ROW(RawData!A19742),0)","v":0},{"$f":"IF(RawData!A19742=\"\",\"blank\",\"\")","v":"blank"}]
[null,null,null,null,null,null,null,null,null,null,null,null,null,null,null,null,null,null,null,null,null,{"$f":"IF(RawData!A19799<>\"\",ROW(RawData!A19799),0)","v":0},{"$f":"IF(RawData!A19799=\"\",\"blank\",\"\")","v":"blank"}]
[null,null,null,null,null,null,null,null,null,null,null,null,null,null,null,null,null,null,null,null,null,{"$f":"IF(RawData!A19848<>\"\",ROW(RawData!A19848),0)","v":0},{"$f":"IF(RawData!A19848=\"\",\"blank\",\"\")","v":"blank"}]
[null,null,null,null,null,null,null,null,null,null,null,null,null,null,null,null,null,null,null,null,null,{"$f":"IF(RawData!A19961<>\"\",ROW(RawData!A19961),0)","v":0},{"$f":"IF(RawData!A19961=\"\",\"blank\",\"\")","v":"blank"}]
[null,null,null,null,null,null,null,null,null,null,null,null,null,null,null,null,null,null,null,null,null,{"$f":"IF(RawData!A20010<>\"\",ROW(RawData!A20010),0)","v":0},{"$f":"IF(RawData!A20010=\"\",\"blank\",\"\")","v":"blank"}]
[null,null,null,null,null,null,null,null,null,null,null,null,null,null,null,null,null,null,null,null,null,{"$f":"IF(RawData!A20060<>\"\",ROW(RawData!A20060),0)","v":0},{"$f":"IF(RawData!A20060=\"\",\"blank\",\"\")","v":"blank"}]
[null,null,null,null,null,null,null,null,null,null,null,null,null,null,null,null,null,null,null,null,null,{"$f":"IF(RawData!A20109<>\"\",ROW(RawData!A20109),0)","v":0},{"$f":"IF(RawData!A20109=\"\",\"blank\",\"\")","v":"blank"}]
[null,null,null,null,null,null,null,null,null,null,null,null,null,null,null,null,null,null,null,null,null,{"$f":"IF(RawData!A20194<>\"\",ROW(RawData!A20194),0)","v":0},{"$f":"IF(RawData!A20194=\"\",\"blank\",\"\")","v":"blank"}]
[null,null,null,null,null,null,null,null,null,null,null,null,null,null,null,null,null,null,null,null,null,{"$f":"IF(RawData!A20272<>\"\",ROW(RawData!A20272),0)","v":0},{"$f":"IF(RawData!A20272=\"\",\"blank\",\"\")","v":"blank"}]
[null,null,null,null,null,null,null,null,null,null,null,null,null,null,null,null,null,null,null,null,null,{"$f":"IF(RawData!A20321<>\"\",ROW(RawData!A20321),0)","v":0},{"$f":"IF(RawData!A20321=\"\",\"blank\",\"\")","v":"blank"}]
[null,null,null,null,null,null,null,null,null,null,null,null,null,null,null,null,null,null,null,null,null,{"$f":"IF(RawData!A20370<>\"\",ROW(RawData!A20370),0)","v":0},{"$f":"IF(RawData!A20370=\"\",\"blank\",\"\")","v":"blank"}]
[null,null,null,null,null,null,null,null,null,null,null,null,null,null,null,null,null,null,null,null,null,{"$f":"IF(RawData!A20458<>\"\",ROW(RawData!A20458),0)","v":0},{"$f":"IF(RawData!A20458=\"\",\"blank\",\"\")","v":"blank"}]
[null,null,null,null,null,null,null,null,null,null,null,null,null,null,null,null,null,null,null,null,null,{"$f":"IF(RawData!A20533<>\"\",ROW(RawData!A20533),0)","v":0},{"$f":"IF(RawData!A20533=\"\",\"blank\",\"\")","v":"blank"}]
[null,null,null,null,null,null,null,null,null,null,null,null,null,null,null,null,null,null,null,null,null,{"$f":"IF(RawData!A20582<>\"\",ROW(RawData!A20582),0)","v":0},{"$f":"IF(RawData!A20582=\"\",\"blank\",\"\")","v":"blank"}]
[null,null,null,null,null,null,null,null,null,null,null,null,null,null,null,null,null,null,null,null,null,{"$f":"IF(RawData!A20642<>\"\",ROW(RawData!A20642),0)","v":0},{"$f":"IF(RawData!A20642=\"\",\"blank\",\"\")","v":"blank"}]
[null,null,null,null,null,null,null,null,null,null,null,null,null,null,null,null,null,null,null,null,null,{"$f":"IF(RawData!A20681<>\"\",ROW(RawData!A20681),0)","v":0},{"$f":"IF(RawData!A20681=\"\",\"blank\",\"\")","v":"blank"}]
[null,null,null,null,null,null,null,null,null,null,null,null,null,null,null,null,null,null,null,null,null,{"$f":"IF(RawData!A20794<>\"\",ROW(RawData!A20794),0)","v":0},{"$f":"IF(RawData!A20794=\"\",\"blank\",\"\")","v":"blank"}]
[null,null,null,null,null,null,null,null,null,null,null,null,null,null,null,null,null,null,null,null,null,{"$f":"IF(RawData!A20843<>\"\",ROW(RawData!A20843),0)","v":0},{"$f":"IF(RawData!A20843=\"\",\"blank\",\"\")","v":"blank"}]
[null,null,null,null,null,null,null,null,null,null,null,null,null,null,null,null,null,null,null,null,null,{"$f":"IF(RawData!A20906<>\"\",ROW(RawData!A20906),0)","v":0},{"$f":"IF(RawData!A20906=\"\",\"blank\",\"\")","v":"blank"}]
[null,null,null,null,null,null,null,null,null,null,null,null,null,null,null,null,null,null,null,null,null,{"$f":"IF(RawData!A20942<>\"\",ROW(RawData!A20942),0)","v":0},{"$f":"IF(RawData!A20942=\"\",\"blank\",\"\")","v":"blank"}]
[null,null,null,null,null,null,null,null,null,null,null,null,null,null,null,null,null,null,null,null,null,{"$f":"IF(RawData!A20991<>\"\",ROW(RawData!A20991),0)","v":0},{"$f":"IF(RawData!A20991=\"\",\"blank\",\"\")","v":"blank"}]
[null,null,null,null,null,null,null,null,null,null,null,null,null,null,null,null,null,null,null,null,null,{"$f":"IF(RawData!A21090<>\"\",ROW(RawData!A21090),0)","v":0},{"$f":"IF(RawData!A21090=\"\",\"blank\",\"\")","v":"blank"}]
[null,null,null,null,null,null,null,null,null,null,null,null,null,null,null,null,null,null,null,null,null,{"$f":"IF(RawData!A21154<>\"\",ROW(RawData!A21154),0)","v":0},{"$f":"IF(RawData!A21154=\"\",\"blank\",\"\")","v":"blank"}]
[null,null,null,null,null,null,null,null,null,null,null,null,null,null,null,null,null,null,null,null,null,{"$f":"IF(RawData!A21203<>\"\",ROW(RawData!A21203),0)","v":0},{"$f":"IF(RawData!A21203=\"\",\"blank\",\"\")","v":"blank"}]
[null,null,null,null,null,null,null,null,null,null,null,null,null,null,null,null,null,null,null,null,null,{"$f":"IF(RawData!A21274<>\"\",ROW(RawData!A21274),0)","v":0},{"$f":"IF(RawData!A21274=\"\",\"blank\",\"\")","v":"blank"}]
[null,null,null,null,null,null,null,null,null,null,null,null,null,null,null,null,null,null,null,null,null,{"$f":"IF(RawData!A21366<>\"\",ROW(RawData!A21366),0)","v":0},{"$f":"IF(RawData!A21366=\"\",\"blank\",\"\")","v":"blank"}]
[null,null,null,null,null,null,null,null,null,null,null,null,null,null,null,null,null,null,null,null,null,{"$f":"IF(RawData!A21415<>\"\",ROW(RawData!A21415),0)","v":0},{"$f":"IF(RawData!A21415=\"\",\"blank\",\"\")","v":"blank"}]
[null,null,null,null,null,null,null,null,null,null,null,null,null,null,null,null,null,null,null,null,null,{"$f":"IF(RawData!A21464<>\"\",ROW(RawData!A21464),0)","v":0},{"$f":"IF(RawData!A21464=\"\",\"blank\",\"\")","v":"blank"}]
[null,null,null,null,null,null,null,null,null,null,null,null,null,null,null,null,null,null,null,null,null,{"$f":"IF(RawData!A21542<>\"\",ROW(RawData!A21542),0)","v":0},{"$f":"IF(RawData!A21542=\"\",\"blank\",\"\")","v":"blank"}]
[null,null,null,null,null,null,null,null,null,null,null,null,null,null,null,null,null,null,null,null,null,{"$f":"IF(RawData!A21627<>\"\",ROW(RawData!A21627),0)","v":0},{"$f":"IF(RawData!A21627=\"\",\"blank\",\"\")","v":"blank"}]
[null,null,null,null,null,null,null,null,null,null,null,null,null,null,null,null,null,null,null,null,null,{"$f":"IF(RawData!A21676<>\"\",ROW(RawData!A21676),0)","v":0},{"$f":"IF(RawData!A21676=\"\",\"blank\",\"\")","v":"blank"}]
[null,null,null,null,null,null,null,null,null,null,null,null,null,null,null,null,null,null,null,null,null,{"$f":"IF(RawData!A21726<>\"\",ROW(RawData!A21726),0)","v":0},{"$f":"IF(RawData!A21726=\"\",\"blank\",\"\")","v":"blank"}]
[null,null,null,null,null,null,null,null,null,null,null,null,null,null,null,null,null,null,null,null,null,{"$f":"IF(RawData!A21775<>\"\",ROW(RawData!A21775),0)","v":0},{"$f":"IF(RawData!A21775=\"\",\"blank\",\"\")","v":"blank"}]
[null,null,null,null,null,null,null,null,null,null,null,null,null,null,null,null,null,null,null,null,null,{"$f":"IF(RawData!A21888<>\"\",ROW(RawData!A21888),0)","v":0},{"$f":"IF(RawData!A21888=\"\",\"blank\",\"\")","v":"blank"}]
[null,null,null,null,null,null,null,null,null,null,null,null,null,null,null,null,null,null,null,null,null,{"$f":"IF(RawData!A21937<>\"\",ROW(RawData!A21937),0)","v":0},{"$f":"IF(RawData!A21937=\"\",\"blank\",\"\")","v":"blank"}]
[null,null,null,null,null,null,null,null,null,null,null,null,null,null,null,null,null,null,null,null,null,{"$f":"IF(RawData!A21990<>\"\",ROW(RawData!A21990),0)","v":0},{"$f":"IF(RawData!A21990=\"\",\"blank\",\"\")","v":"blank"}]
[null,null,null,null,null,null,null,null,null,null,null,null,null,null,null,null,null,null,null,null,null,{"$f":"IF(RawData!A22036<>\"\",ROW(RawData!A22036),0)","v":0},{"$f":"IF(RawData!A22036=\"\",\"blank\",\"\")","v":"blank"}]
[null,null,null,null,null,null,null,null,null,null,null,null,null,null,null,null,null,null,null,null,null,{"$f":"IF(RawData!A22085<>\"\",ROW(RawData!A22085),0)","v":0},{"$f":"IF(RawData!A22085=\"\",\"blank\",\"\")","v":"blank"}]
[null,null,null,null,null,null,null,null,null,null,null,null,null,null,null,null,null,null,null,null,null,{"$f":"IF(RawData!A22174<>\"\",ROW(RawData!A22174),0)","v":0},{"$f":"IF(RawData!A22174=\"\",\"blank\",\"\")","v":"blank"}]
[null,null,null,null,null,null,null,null,null,null,null,null,null,null,null,null,null,null,null,null,null,{"$f":"IF(RawData!A22248<>\"\",ROW(RawData!A22248),0)","v":0},{"$f":"IF(RawData!A22248=\"\",\"blank\",\"\")","v":"blank"}]
[null,null,null,null,null,null,null,null,null,null,null,null,null,null,null,null,null,null,null,null,null,{"$f":"IF(RawData!A22297<>\"\",ROW(RawData!A22297),0)","v":0},{"$f":"IF(RawData!A22297=\"\",\"blank\",\"\")","v":"blank"}]
[null,null,null,null,null,null,null,null,null,null,null,null,null,null,null,null,null,null,null,null,null,{"$f":"IF(RawData!A22346<>\"\",ROW(RawData!A22346),0)","v":0},{"$f":"IF(RawData!A22346=\"\",\"blank\",\"\")","v":"blank"}]
[null,null,null,null,null,null,null,null,null,null,null,null,null,null,null,null,null,null,null,null,null,{"$f":"IF(RawData!A22438<>\"\",ROW(RawData!A22438),0)","v":0},{"$f":"IF(RawData!A22438=\"\",\"blank\",\"\")","v":"blank"}]
[null,null,null,null,null,null,null,null,null,null,null,null,null,null,null,null,null,null,null,null,null,{"$f":"IF(RawData!A22509<>\"\",ROW(RawData!A22509),0)","v":0},{"$f":"IF(RawData!A22509=\"\",\"blank\",\"\")","v":"blank"}]
[null,null,null,null,null,null,null,null,null,null,null,null,null,null,null,null,null,null,null,null,null,{"$f":"IF(RawData!A22558<>\"\",ROW(RawData!A22558),0)","v":0},{"$f":"IF(RawData!A22558=\"\",\"blank\",\"\")","v":"blank"}]
[null,null,null,null,null,null,null,null,null,null,null,null,null,null,null,null,null,null,null,null,null,{"$f":"IF(RawData!A22622<>\"\",ROW(RawData!A22622),0)","v":0},{"$f":"IF(RawData!A22622=\"\",\"blank\",\"\")","v":"blank"}]
[null,null,null,null,null,null,null,null,null,null,null,null,null,null,null,null,null,null,null,null,null,{"$f":"IF(RawData!A22721<>\"\",ROW(RawData!A22721),0)","v":0},{"$f":"IF(RawData!A22721=\"\",\"blank\",\"\")","v":"blank"}]
[null,null,null,null,null,null,null,null,null,null,null,null,null,null,null,null,null,null,null,null,null,{"$f":"IF(RawData!A22770<>\"\",ROW(RawData!A22770),0)","v":0},{"$f":"IF(RawData!A22770=\"\",\"blank\",\"\")","v":"blank"}]
[null,null,null,null,null,null,null,null,null,null,null,null,null,null,null,null,null,null,null,null,null,{"$f":"IF(RawData!A22819<>\"\",ROW(RawData!A22819),0)","v":0},{"$f":"IF(RawData!A22819=\"\",\"blank\",\"\")","v":"blank"}]
[null,null,null,null,null,null,null,null,null,null,null,null,null,null,null,null,null,null,null,null,null,{"$f":"IF(RawData!A22890<>\"\",ROW(RawData!A22890),0)","v":0},{"$f":"IF(RawData!A22890=\"\",\"blank\",\"\")","v":"blank"}]
[null,null,null,null,null,null,null,null,null,null,null,null,null,null,null,null,null,null,null,null,null,{"$f":"IF(RawData!A22982<>\"\",ROW(RawData!A22982),0)","v":0},{"$f":"IF(RawData!A22982=\"\",\"blank\",\"\")","v":"blank"}]
[null,null,null,null,null,null,null,null,null,null,null,null,null,null,null,null,null,null,null,null,null,{"$f":"IF(RawData!A23031<>\"\",ROW(RawData!A23031),0)","v":0},{"$f":"IF(RawData!A23031=\"\",\"blank\",\"\")","v":"blank"}]
[null,null,null,null,null,null,null,null,null,null,null,null,null,null,null,null,null,null,null,null,null,{"$f":"IF(RawData!A23070<>\"\",ROW(RawData!A23070),0)","v":0},{"$f":"IF(RawData!A23070=\"\",\"blank\",\"\")","v":"blank"}]
[null,null,null,null,null,null,null,null,null,null,null,null,null,null,null,null,null,null,null,null,null,{"$f":"IF(RawData!A23130<>\"\",ROW(RawData!A23130),0)","v":0},{"$f":"IF(RawData!A23130=\"\",\"blank\",\"\")","v":"blank"}]
[null,null,null,null,null,null,null,null,null,null,null,null,null,null,null,null,null,null,null,null,null,{"$f":"IF(RawData!A23179<>\"\",ROW(RawData!A23179),0)","v":0},{"$f":"IF(RawData!A23179=\"\",\"blank\",\"\")","v":"blank"}]
[null,null,null,null,null,null,null,null,null,null,null,null,null,null,null,null,null,null,null,null,null,{"$f":"IF(RawData!A23292<>\"\",ROW(RawData!A23292),0)","v":0},{"$f":"IF(RawData!A23292=\"\",\"blank\",\"\")","v":"blank"}]
[null,null,null,null,null,null,null,null,null,null,null,null,null,null,null,null,null,null,null,null,null,{"$f":"IF(RawData!A23338<>\"\",ROW(RawData!A23338),0)","v":0},{"$f":"IF(RawData!A23338=\"\",\"blank\",\"\")","v":"blank"}]
[null,null,null,null,null,null,null,null,null,null,null,null,null,null,null,null,null,null,null,null,null,{"$f":"IF(RawData!A23391<>\"\",ROW(RawData!A23391),0)","v":0},{"$f":"IF(RawData!A23391=\"\",\"blank\",\"\")","v":"blank"}]
[null,null,null,null,null,null,null,null,null,null,null,null,null,null,null,null,null,null,null,null,null,{"$f":"IF(RawData!A23440<>\"\",ROW(RawData!A23440),0)","v":0},{"$f":"IF(RawData!A23440=\"\",\"blank\",\"\")","v":"blank"}]
[null,null,null,null,null,null,null,null,null,null,null,null,null,null,null,null,null,null,null,null,null,{"$f":"IF(RawData!A23522<>\"\",ROW(RawData!A23522),0)","v":0},{"$f":"IF(RawData!A23522=\"\",\"blank\",\"\")","v":"blank"}]
[null,null,null,null,null,null,null,null,null,null,null,null,null,null,null,null,null,null,null,null,null,{"$f":"IF(RawData!A23603<>\"\",ROW(RawData!A23603),0)","v":0},{"$f":"IF(RawData!A23603=\"\",\"blank\",\"\")","v":"blank"}]
[null,null,null,null,null,null,null,null,null,null,null,null,null,null,null,null,null,null,null,null,null,{"$f":"IF(RawData!A23652<>\"\",ROW(RawData!A23652),0)","v":0},{"$f":"IF(RawData!A23652=\"\",\"blank\",\"\")","v":"blank"}]
[null,null,null,null,null,null,null,null,null,null,null,null,null,null,null,null,null,null,null,null,null,{"$f":"IF(RawData!A23701<>\"\",ROW(RawData!A23701),0)","v":0},{"$f":"IF(RawData!A23701=\"\",\"blank\",\"\")","v":"blank"}]
[null,null,null,null,null,null,null,null,null,null,null,null,null,null,null,null,null,null,null,null,null,{"$f":"IF(RawData!A23786<>\"\",ROW(RawData!A23786),0)","v":0},{"$f":"IF(RawData!A23786=\"\",\"blank\",\"\")","v":"blank"}]
[null,null,null,null,null,null,null,null,null,null,null,null,null,null,null,null,null,null,null,null,null,{"$f":"IF(RawData!A23864<>\"\",ROW(RawData!A23864),0)","v":0},{"$f":"IF(RawData!A23864=\"\",\"blank\",\"\")","v":"blank"}]
[null,null,null,null,null,null,null,null,null,null,null,null,null,null,null,null,null,null,null,null,null,{"$f":"IF(RawData!A23913<>\"\",ROW(RawData!A23913),0)","v":0},{"$f":"IF(RawData!A23913=\"\",\"blank\",\"\")","v":"blank"}]
[null,null,null,null,null,null,null,null,null,null,null,null,null,null,null,null,null,null,null,null,null,{"$f":"IF(RawData!A23970<>\"\",ROW(RawData!A23970),0)","v":0},{"$f":"IF(RawData!A23970=\"\",\"blank\",\"\")","v":"blank"}]
[null,null,null,null,null,null,null,null,null,null,null,null,null,null,null,null,null,null,null,null,null,{"$f":"IF(RawData!A24076<>\"\",ROW(RawData!A24076),0)","v":0},{"$f":"IF(RawData!A24076=\"\",\"blank\",\"\")","v":"blank"}]
[null,null,null,null,null,null,null,null,null,null,null,null,null,null,null,null,null,null,null,null,null,{"$f":"IF(RawData!A24125<>\"\",ROW(RawData!A24125),0)","v":0},{"$f":"IF(RawData!A24125=\"\",\"blank\",\"\")","v":"blank"}]
[null,null,null,null,null,null,null,null,null,null,null,null,null,null,null,null,null,null,null,null,null,{"$f":"IF(RawData!A24174<>\"\",ROW(RawData!A24174),0)","v":0},{"$f":"IF(RawData!A24174=\"\",\"blank\",\"\")","v":"blank"}]
[null,null,null,null,null,null,null,null,null,null,null,null,null,null,null,null,null,null,null,null,null,{"$f":"IF(RawData!A24238<>\"\",ROW(RawData!A24238),0)","v":0},{"$f":"IF(RawData!A24238=\"\",\"blank\",\"\")","v":"blank"}]
[null,null,null,null,null,null,null,null,null,null,null,null,null,null,null,null,null,null,null,null,null,{"$f":"IF(RawData!A24273<>\"\",ROW(RawData!A24273),0)","v":0},{"$f":"IF(RawData!A24273=\"\",\"blank\",\"\")","v":"blank"}]
[null,null,null,null,null,null,null,null,null,null,null,null,null,null,null,null,null,null,null,null,null,{"$f":"IF(RawData!A24386<>\"\",ROW(RawData!A24386),0)","v":0},{"$f":"IF(RawData!A24386=\"\",\"blank\",\"\")","v":"blank"}]
[null,null,null,null,null,null,null,null,null,null,null,null,null,null,null,null,null,null,null,null,null,{"$f":"IF(RawData!A24418<>\"\",ROW(RawData!A24418),0)","v":0},{"$f":"IF(RawData!A24418=\"\",\"blank\",\"\")","v":"blank"}]
[null,null,null,null,null,null,null,null,null,null,null,null,null,null,null,null,null,null,null,null,null,{"$f":"IF(RawData!A24485<>\"\",ROW(RawData!A24485),0)","v":0},{"$f":"IF(RawData!A24485=\"\",\"blank\",\"\")","v":"blank"}]
[null,null,null,null,null,null,null,null,null,null,null,null,null,null,null,null,null,null,null,null,null,{"$f":"IF(RawData!A24534<>\"\",ROW(RawData!A24534),0)","v":0},{"$f":"IF(RawData!A24534=\"\",\"blank\",\"\")","v":"blank"}]
[null,null,null,null,null,null,null,null,null,null,null,null,null,null,null,null,null,null,null,null,null,{"$f":"IF(RawData!A24647<>\"\",ROW(RawData!A24647),0)","v":0},{"$f":"IF(RawData!A24647=\"\",\"blank\",\"\")","v":"blank"}]
[null,null,null,null,null,null,null,null,null,null,null,null,null,null,null,null,null,null,null,null,null,{"$f":"IF(RawData!A24686<>\"\",ROW(RawData!A24686),0)","v":0},{"$f":"IF(RawData!A24686=\"\",\"blank\",\"\")","v":"blank"}]
[null,null,null,null,null,null,null,null,null,null,null,null,null,null,null,null,null,null,null,null,null,{"$f":"IF(RawData!A24746<>\"\",ROW(RawData!A24746),0)","v":0},{"$f":"IF(RawData!A24746=\"\",\"blank\",\"\")","v":"blank"}]
[null,null,null,null,null,null,null,null,null,null,null,null,null,null,null,null,null,null,null,null,null,{"$f":"IF(RawData!A24795<>\"\",ROW(RawData!A24795),0)","v":0},{"$f":"IF(RawData!A24795=\"\",\"blank\",\"\")","v":"blank"}]
[null,null,null,null,null,null,null,null,null,null,null,null,null,null,null,null,null,null,null,null,null,{"$f":"IF(RawData!A24870<>\"\",ROW(RawData!A24870),0)","v":0},{"$f":"IF(RawData!A24870=\"\",\"blank\",\"\")","v":"blank"}]
[null,null,null,null,null,null,null,null,null,null,null,null,null,null,null,null,null,null,null,null,null,{"$f":"IF(RawData!A24958<>\"\",ROW(RawData!A24958),0)","v":0},{"$f":"IF(RawData!A24958=\"\",\"blank\",\"\")","v":"blank"}]
[null,null,null,null,null,null,null,null,null,null,null,null,null,null,null,null,null,null,null,null,null,{"$f":"IF(RawData!A25007<>\"\",ROW(RawData!A25007),0)","v":0},{"$f":"IF(RawData!A25007=\"\",\"blank\",\"\")","v":"blank"}]
[null,null,null,null,null,null,null,null,null,null,null,null,null,null,null,null,null,null,null,null,null,{"$f":"IF(RawData!A25054<>\"\",ROW(RawData!A25054),0)","v":0},{"$f":"IF(RawData!A25054=\"\",\"blank\",\"\")","v":"blank"}]
[null,null,null,null,null,null,null,null,null,null,null,null,null,null,null,null,null,null,null,null,null,{"$f":"IF(RawData!A25106<>\"\",ROW(RawData!A25106),0)","v":0},{"$f":"IF(RawData!A25106=\"\",\"blank\",\"\")","v":"blank"}]
[null,null,null,null,null,null,null,null,null,null,null,null,null,null,null,null,null,null,null,null,null,{"$f":"IF(RawData!A25219<>\"\",ROW(RawData!A25219),0)","v":0},{"$f":"IF(RawData!A25219=\"\",\"blank\",\"\")","v":"blank"}]
[null,null,null,null,null,null,null,null,null,null,null,null,null,null,null,null,null,null,null,null,null,{"$f":"IF(RawData!A25268<>\"\",ROW(RawData!A25268),0)","v":0},{"$f":"IF(RawData!A25268=\"\",\"blank\",\"\")","v":"blank"}]
[null,null,null,null,null,null,null,null,null,null,null,null,null,null,null,null,null,null,null,null,null,{"$f":"IF(RawData!A25318<>\"\",ROW(RawData!A25318),0)","v":0},{"$f":"IF(RawData!A25318=\"\",\"blank\",\"\")","v":"blank"}]
[null,null,null,null,null,null,null,null,null,null,null,null,null,null,null,null,null,null,null,null,null,{"$f":"IF(RawData!A25367<>\"\",ROW(RawData!A25367),0)","v":0},{"$f":"IF(RawData!A25367=\"\",\"blank\",\"\")","v":"blank"}]
[null,null,null,null,null,null,null,null,null,null,null,null,null,null,null,null,null,null,null,null,null,{"$f":"IF(RawData!A25480<>\"\",ROW(RawData!A25480),0)","v":0},{"$f":"IF(RawData!A25480=\"\",\"blank\",\"\")","v":"blank"}]
[null,null,null,null,null,null,null,null,null,null,null,null,null,null,null,null,null,null,null,null,null,{"$f":"IF(RawData!A25502<>\"\",ROW(RawData!A25502),0)","v":0},{"$f":"IF(RawData!A25502=\"\",\"blank\",\"\")","v":"blank"}]
[null,null,null,null,null,null,null,null,null,null,null,null,null,null,null,null,null,null,null,null,null,{"$f":"IF(RawData!A25579<>\"\",ROW(RawData!A25579),0)","v":0},{"$f":"IF(RawData!A25579=\"\",\"blank\",\"\")","v":"blank"}]
[null,null,null,null,null,null,null,null,null,null,null,null,null,null,null,null,null,null,null,null,null,{"$f":"IF(RawData!A25628<>\"\",ROW(RawData!A25628),0)","v":0},{"$f":"IF(RawData!A25628=\"\",\"blank\",\"\")","v":"blank"}]
[null,null,null,null,null,null,null,null,null,null,null,null,null,null,null,null,null,null,null,null,null,{"$f":"IF(RawData!A25741<>\"\",ROW(RawData!A25741),0)","v":0},{"$f":"IF(RawData!A25741=\"\",\"blank\",\"\")","v":"blank"}]
[null,null,null,null,null,null,null,null,null,null,null,null,null,null,null,null,null,null,null,null,null,{"$f":"IF(RawData!A25766<>\"\",ROW(RawData!A25766),0)","v":0},{"$f":"IF(RawData!A25766=\"\",\"blank\",\"\")","v":"blank"}]
[null,null,null,null,null,null,null,null,null,null,null,null,null,null,null,null,null,null,null,null,null,{"$f":"IF(RawData!A25840<>\"\",ROW(RawData!A25840),0)","v":0},{"$f":"IF(RawData!A25840=\"\",\"blank\",\"\")","v":"blank"}]
[null,null,null,null,null,null,null,null,null,null,null,null,null,null,null,null,null,null,null,null,null,{"$f":"IF(RawData!A25889<>\"\",ROW(RawData!A25889),0)","v":0},{"$f":"IF(RawData!A25889=\"\",\"blank\",\"\")","v":"blank"}]
[null,null,null,null,null,null,null,null,null,null,null,null,null,null,null,null,null,null,null,null,null,{"$f":"IF(RawData!A25950<>\"\",ROW(RawData!A25950),0)","v":0},{"$f":"IF(RawData!A25950=\"\",\"blank\",\"\")","v":"blank"}]
[null,null,null,null,null,null,null,null,null,null,null,null,null,null,null,null,null,null,null,null,null,{"$f":"IF(RawData!A26052<>\"\",ROW(RawData!A26052),0)","v":0},{"$f":"IF(RawData!A26052=\"\",\"blank\",\"\")","v":"blank"}]
[null,null,null,null,null,null,null,null,null,null,null,null,null,null,null,null,null,null,null,null,null,{"$f":"IF(RawData!A26101<>\"\",ROW(RawData!A26101),0)","v":0},{"$f":"IF(RawData!A26101=\"\",\"blank\",\"\")","v":"blank"}]
[null,null,null,null,null,null,null,null,null,null,null,null,null,null,null,null,null,null,null,null,null,{"$f":"IF(RawData!A26150<>\"\",ROW(RawData!A26150),0)","v":0},{"$f":"IF(RawData!A26150=\"\",\"blank\",\"\")","v":"blank"}]
[null,null,null,null,null,null,null,null,null,null,null,null,null,null,null,null,null,null,null,null,null,{"$f":"IF(RawData!A26218<>\"\",ROW(RawData!A26218),0)","v":0},{"$f":"IF(RawData!A26218=\"\",\"blank\",\"\")","v":"blank"}]
[null,null,null,null,null,null,null,null,null,null,null,null,null,null,null,null,null,null,null,null,null,{"$f":"IF(RawData!A26313<>\"\",ROW(RawData!A26313),0)","v":0},{"$f":"IF(RawData!A26313=\"\",\"blank\",\"\")","v":"blank"}]
[null,null,null,null,null,null,null,null,null,null,null,null,null,null,null,null,null,null,null,null,null,{"$f":"IF(RawData!A26362<>\"\",ROW(RawData!A26362),0)","v":0},{"$f":"IF(RawData!A26362=\"\",\"blank\",\"\")","v":"blank"}]
[null,null,null,null,null,null,null,null,null,null,null,null,null,null,null,null,null,null,null,null,null,{"$f":"IF(RawData!A26402<>\"\",ROW(RawData!A26402),0)","v":0},{"$f":"IF(RawData!A26402=\"\",\"blank\",\"\")","v":"blank"}]
[null,null,null,null,null,null,null,null,null,null,null,null,null,null,null,null,null,null,null,null,null,{"$f":"IF(RawData!A26461<>\"\",ROW(RawData!A26461),0)","v":0},{"$f":"IF(RawData!A26461=\"\",\"blank\",\"\")","v":"blank"}]
[null,null,null,null,null,null,null,null,null,null,null,null,null,null,null,null,null,null,null,null,null,{"$f":"IF(RawData!A26574<>\"\",ROW(RawData!A26574),0)","v":0},{"$f":"IF(RawData!A26574=\"\",\"blank\",\"\")","v":"blank"}]
[null,null,null,null,null,null,null,null,null,null,null,null,null,null,null,null,null,null,null,null,null,{"$f":"IF(RawData!A26623<>\"\",ROW(RawData!A26623),0)","v":0},{"$f":"IF(RawData!A26623=\"\",\"blank\",\"\")","v":"blank"}]
[null,null,null,null,null,null,null,null,null,null,null,null,null,null,null,null,null,null,null,null,null,{"$f":"IF(RawData!A26666<>\"\",ROW(RawData!A26666),0)","v":0},{"$f":"IF(RawData!A26666=\"\",\"blank\",\"\")","v":"blank"}]
[null,null,null,null,null,null,null,null,null,null,null,null,null,null,null,null,null,null,null,null,null,{"$f":"IF(RawData!A26722<>\"\",ROW(RawData!A26722),0)","v":0},{"$f":"IF(RawData!A26722=\"\",\"blank\",\"\")","v":"blank"}]
[null,null,null,null,null,null,null,null,null,null,null,null,null,null,null,null,null,null,null,null,null,{"$f":"IF(RawData!A26835<>\"\",ROW(RawData!A26835),0)","v":0},{"$f":"IF(RawData!A26835=\"\",\"blank\",\"\")","v":"blank"}]
[null,null,null,null,null,null,null,null,null,null,null,null,null,null,null,null,null,null,null,null,null,{"$f":"IF(RawData!A26850<>\"\",ROW(RawData!A26850),0)","v":0},{"$f":"IF(RawData!A26850=\"\",\"blank\",\"\")","v":"blank"}]
[null,null,null,null,null,null,null,null,null,null,null,null,null,null,null,null,null,null,null,null,null,{"$f":"IF(RawData!A26934<>\"\",ROW(RawData!A26934),0)","v":0},{"$f":"IF(RawData!A26934=\"\",\"blank\",\"\")","v":"blank"}]
[null,null,null,null,null,null,null,null,null,null,null,null,null,null,null,null,null,null,null,null,null,{"$f":"IF(RawData!A26983<>\"\",ROW(RawData!A26983),0)","v":0},{"$f":"IF(RawData!A26983=\"\",\"blank\",\"\")","v":"blank"}]
[null,null,null,null,null,null,null,null,null,null,null,null,null,null,null,null,null,null,null,null,null,{"$f":"IF(RawData!A27096<>\"\",ROW(RawData!A27096),0)","v":0},{"$f":"IF(RawData!A27096=\"\",\"blank\",\"\")","v":"blank"}]
[null,null,null,null,null,null,null,null,null,null,null,null,null,null,null,null,null,null,null,null,null,{"$f":"IF(RawData!A27114<>\"\",ROW(RawData!A27114),0)","v":0},{"$f":"IF(RawData!A27114=\"\",\"blank\",\"\")","v":"blank"}]
[null,null,null,null,null,null,null,null,null,null,null,null,null,null,null,null,null,null,null,null,null,{"$f":"IF(RawData!A27195<>\"\",ROW(RawData!A27195),0)","v":0},{"$f":"IF(RawData!A27195=\"\",\"blank\",\"\")","v":"blank"}]
[null,null,null,null,null,null,null,null,null,null,null,null,null,null,null,null,null,null,null,null,null,{"$f":"IF(RawData!A27244<>\"\",ROW(RawData!A27244),0)","v":0},{"$f":"IF(RawData!A27244=\"\",\"blank\",\"\")","v":"blank"}]
[null,null,null,null,null,null,null,null,null,null,null,null,null,null,null,null,null,null,null,null,null,{"$f":"IF(RawData!A27298<>\"\",ROW(RawData!A27298),0)","v":0},{"$f":"IF(RawData!A27298=\"\",\"blank\",\"\")","v":"blank"}]
[null,null,null,null,null,null,null,null,null,null,null,null,null,null,null,null,null,null,null,null,null,{"$f":"IF(RawData!A27407<>\"\",ROW(RawData!A27407),0)","v":0},{"$f":"IF(RawData!A27407=\"\",\"blank\",\"\")","v":"blank"}]
[null,null,null,null,null,null,null,null,null,null,null,null,null,null,null,null,null,null,null,null,null,{"$f":"IF(RawData!A27456<>\"\",ROW(RawData!A27456),0)","v":0},{"$f":"IF(RawData!A27456=\"\",\"blank\",\"\")","v":"blank"}]
[null,null,null,null,null,null,null,null,null,null,null,null,null,null,null,null,null,null,null,null,null,{"$f":"IF(RawData!A27505<>\"\",ROW(RawData!A27505),0)","v":0},{"$f":"IF(RawData!A27505=\"\",\"blank\",\"\")","v":"blank"}]
[null,null,null,null,null,null,null,null,null,null,null,null,null,null,null,null,null,null,null,null,null,{"$f":"IF(RawData!A27566<>\"\",ROW(RawData!A27566),0)","v":0},{"$f":"IF(RawData!A27566=\"\",\"blank\",\"\")","v":"blank"}]
[null,null,null,null,null,null,null,null,null,null,null,null,null,null,null,null,null,null,null,null,null,{"$f":"IF(RawData!A27668<>\"\",ROW(RawData!A27668),0)","v":0},{"$f":"IF(RawData!A27668=\"\",\"blank\",\"\")","v":"blank"}]
[null,null,null,null,null,null,null,null,null,null,null,null,null,null,null,null,null,null,null,null,null,{"$f":"IF(RawData!A27717<>\"\",ROW(RawData!A27717),0)","v":0},{"$f":"IF(RawData!A27717=\"\",\"blank\",\"\")","v":"blank"}]
[null,null,null,null,null,null,null,null,null,null,null,null,null,null,null,null,null,null,null,null,null,{"$f":"IF(RawData!A27750<>\"\",ROW(RawData!A27750),0)","v":0},{"$f":"IF(RawData!A27750=\"\",\"blank\",\"\")","v":"blank"}]
[null,null,null,null,null,null,null,null,null,null,null,null,null,null,null,null,null,null,null,null,null,{"$f":"IF(RawData!A27816<>\"\",ROW(RawData!A27816),0)","v":0},{"$f":"IF(RawData!A27816=\"\",\"blank\",\"\")","v":"blank"}]
[null,null,null,null,null,null,null,null,null,null,null,null,null,null,null,null,null,null,null,null,null,{"$f":"IF(RawData!A27929<>\"\",ROW(RawData!A27929),0)","v":0},{"$f":"IF(RawData!A27929=\"\",\"blank\",\"\")","v":"blank"}]
[null,null,null,null,null,null,null,null,null,null,null,null,null,null,null,null,null,null,null,null,null,{"$f":"IF(RawData!A27978<>\"\",ROW(RawData!A27978),0)","v":0},{"$f":"IF(RawData!A27978=\"\",\"blank\",\"\")","v":"blank"}]
[null,null,null,null,null,null,null,null,null,null,null,null,null,null,null,null,null,null,null,null,null,{"$f":"IF(RawData!A28014<>\"\",ROW(RawData!A28014),0)","v":0},{"$f":"IF(RawData!A28014=\"\",\"blank\",\"\")","v":"blank"}]
[null,null,null,null,null,null,null,null,null,null,null,null,null,null,null,null,null,null,null,null,null,{"$f":"IF(RawData!A28077<>\"\",ROW(RawData!A28077),0)","v":0},{"$f":"IF(RawData!A28077=\"\",\"blank\",\"\")","v":"blank"}]
[null,null,null,null,null,null,null,null,null,null,null,null,null,null,null,null,null,null,null,null,null,{"$f":"IF(RawData!A28190<>\"\",ROW(RawData!A28190),0)","v":0},{"$f":"IF(RawData!A28190=\"\",\"blank\",\"\")","v":"blank"}]
[null,null,null,null,null,null,null,null,null,null,null,null,null,null,null,null,null,null,null,null,null,{"$f":"IF(RawData!A28198<>\"\",ROW(RawData!A28198),0)","v":0},{"$f":"IF(RawData!A28198=\"\",\"blank\",\"\")","v":"blank"}]
[null,null,null,null,null,null,null,null,null,null,null,null,null,null,null,null,null,null,null,null,null,{"$f":"IF(RawData!A28289<>\"\",ROW(RawData!A28289),0)","v":0},{"$f":"IF(RawData!A28289=\"\",\"blank\",\"\")","v":"blank"}]
[null,null,null,null,null,null,null,null,null,null,null,null,null,null,null,null,null,null,null,null,null,{"$f":"IF(RawData!A28338<>\"\",ROW(RawData!A28338),0)","v":0},{"$f":"IF(RawData!A28338=\"\",\"blank\",\"\")","v":"blank"}]
[null,null,null,null,null,null,null,null,null,null,null,null,null,null,null,null,null,null,null,null,null,{"$f":"IF(RawData!A28387<>\"\",ROW(RawData!A28387),0)","v":0},{"$f":"IF(RawData!A28387=\"\",\"blank\",\"\")","v":"blank"}]
[null,null,null,null,null,null,null,null,null,null,null,null,null,null,null,null,null,null,null,null,null,{"$f":"IF(RawData!A28462<>\"\",ROW(RawData!A28462),0)","v":0},{"$f":"IF(RawData!A28462=\"\",\"blank\",\"\")","v":"blank"}]
[null,null,null,null,null,null,null,null,null,null,null,null,null,null,null,null,null,null,null,null,null,{"$f":"IF(RawData!A28550<>\"\",ROW(RawData!A28550),0)","v":0},{"$f":"IF(RawData!A28550=\"\",\"blank\",\"\")","v":"blank"}]
[null,null,null,null,null,null,null,null,null,null,null,null,null,null,null,null,null,null,null,null,null,{"$f":"IF(RawData!A28599<>\"\",ROW(RawData!A28599),0)","v":0},{"$f":"IF(RawData!A28599=\"\",\"blank\",\"\")","v":"blank"}]
[null,null,null,null,null,null,null,null,null,null,null,null,null,null,null,null,null,null,null,null,null,{"$f":"IF(RawData!A28646<>\"\",ROW(RawData!A28646),0)","v":0},{"$f":"IF(RawData!A28646=\"\",\"blank\",\"\")","v":"blank"}]
[null,null,null,null,null,null,null,null,null,null,null,null,null,null,null,null,null,null,null,null,null,{"$f":"IF(RawData!A28762<>\"\",ROW(RawData!A28762),0)","v":0},{"$f":"IF(RawData!A28762=\"\",\"blank\",\"\")","v":"blank"}]
[null,null,null,null,null,null,null,null,null,null,null,null,null,null,null,null,null,null,null,null,null,{"$f":"IF(RawData!A28811<>\"\",ROW(RawData!A28811),0)","v":0},{"$f":"IF(RawData!A28811=\"\",\"blank\",\"\")","v":"blank"}]
[null,null,null,null,null,null,null,null,null,null,null,null,null,null,null,null,null,null,null,null,null,{"$f":"IF(RawData!A28860<>\"\",ROW(RawData!A28860),0)","v":0},{"$f":"IF(RawData!A28860=\"\",\"blank\",\"\")","v":"blank"}]
[null,null,null,null,null,null,null,null,null,null,null,null,null,null,null,null,null,null,null,null,null,{"$f":"IF(RawData!A28914<>\"\",ROW(RawData!A28914),0)","v":0},{"$f":"IF(RawData!A28914=\"\",\"blank\",\"\")","v":"blank"}]
[null,null,null,null,null,null,null,null,null,null,null,null,null,null,null,null,null,null,null,null,null,{"$f":"IF(RawData!A29023<>\"\",ROW(RawData!A29023),0)","v":0},{"$f":"IF(RawData!A29023=\"\",\"blank\",\"\")","v":"blank"}]
[null,null,null,null,null,null,null,null,null,null,null,null,null,null,null,null,null,null,null,null,null,{"$f":"IF(RawData!A29072<>\"\",ROW(RawData!A29072),0)","v":0},{"$f":"IF(RawData!A29072=\"\",\"blank\",\"\")","v":"blank"}]
[null,null,null,null,null,null,null,null,null,null,null,null,null,null,null,null,null,null,null,null,null,{"$f":"IF(RawData!A29098<>\"\",ROW(RawData!A29098),0)","v":0},{"$f":"IF(RawData!A29098=\"\",\"blank\",\"\")","v":"blank"}]
[null,null,null,null,null,null,null,null,null,null,null,null,null,null,null,null,null,null,null,null,null,{"$f":"IF(RawData!A29171<>\"\",ROW(RawData!A29171),0)","v":0},{"$f":"IF(RawData!A29171=\"\",\"blank\",\"\")","v":"blank"}]
[null,null,null,null,null,null,null,null,null,null,null,null,null,null,null,null,null,null,null,null,null,{"$f":"IF(RawData!A29220<>\"\",ROW(RawData!A29220),0)","v":0},{"$f":"IF(RawData!A29220=\"\",\"blank\",\"\")","v":"blank"}]
[null,null,null,null,null,null,null,null,null,null,null,null,null,null,null,null,null,null,null,null,null,{"$f":"IF(RawData!A29343<>\"\",ROW(RawData!A29343),0)","v":0},{"$f":"IF(RawData!A29343=\"\",\"blank\",\"\")","v":"blank"}]
[null,null,null,null,null,null,null,null,null,null,null,null,null,null,null,null,null,null,null,null,null,{"$f":"IF(RawData!A29383<>\"\",ROW(RawData!A29383),0)","v":0},{"$f":"IF(RawData!A29383=\"\",\"blank\",\"\")","v":"blank"}]
[null,null,null,null,null,null,null,null,null,null,null,null,null,null,null,null,null,null,null,null,null,{"$f":"IF(RawData!A29432<>\"\",ROW(RawData!A29432),0)","v":0},{"$f":"IF(RawData!A29432=\"\",\"blank\",\"\")","v":"blank"}]
[null,null,null,null,null,null,null,null,null,null,null,null,null,null,null,null,null,null,null,null,null,{"$f":"IF(RawData!A29481<>\"\",ROW(RawData!A29481),0)","v":0},{"$f":"IF(RawData!A29481=\"\",\"blank\",\"\")","v":"blank"}]
[null,null,null,null,null,null,null,null,null,null,null,null,null,null,null,null,null,null,null,null,null,{"$f":"IF(RawData!A29546<>\"\",ROW(RawData!A29546),0)","v":0},{"$f":"IF(RawData!A29546=\"\",\"blank\",\"\")","v":"blank"}]
[null,null,null,null,null,null,null,null,null,null,null,null,null,null,null,null,null,null,null,null,null,{"$f":"IF(RawData!A29644<>\"\",ROW(RawData!A29644),0)","v":0},{"$f":"IF(RawData!A29644=\"\",\"blank\",\"\")","v":"blank"}]
[null,null,null,null,null,null,null,null,null,null,null,null,null,null,null,null,null,null,null,null,null,{"$f":"IF(RawData!A29693<>\"\",ROW(RawData!A29693),0)","v":0},{"$f":"IF(RawData!A29693=\"\",\"blank\",\"\")","v":"blank"}]
[null,null,null,null,null,null,null,null,null,null,null,null,null,null,null,null,null,null,null,null,null,{"$f":"IF(RawData!A29795<>\"\",ROW(RawData!A29795),0)","v":0},{"$f":"IF(RawData!A29795=\"\",\"blank\",\"\")","v":"blank"}]
[null,null,null,null,null,null,null,null,null,null,null,null,null,null,null,null,null,null,null,null,null,{"$f":"IF(RawData!A29856<>\"\",ROW(RawData!A29856),0)","v":0},{"$f":"IF(RawData!A29856=\"\",\"blank\",\"\")","v":"blank"}]
[null,null,null,null,null,null,null,null,null,null,null,null,null,null,null,null,null,null,null,null,null,{"$f":"IF(RawData!A29905<>\"\",ROW(RawData!A29905),0)","v":0},{"$f":"IF(RawData!A29905=\"\",\"blank\",\"\")","v":"blank"}]
[null,null,null,null,null,null,null,null,null,null,null,null,null,null,null,null,null,null,null,null,null,{"$f":"IF(RawData!A29954<>\"\",ROW(RawData!A29954),0)","v":0},{"$f":"IF(RawData!A29954=\"\",\"blank\",\"\")","v":"blank"}]
[null,null,null,null,null,null,null,null,null,null,null,null,null,null,null,null,null,null,null,null,null,{"$f":"IF(RawData!A29994<>\"\",ROW(RawData!A29994),0)","v":0},{"$f":"IF(RawData!A29994=\"\",\"blank\",\"\")","v":"blank"}]
[null,null,null,null,null,null,null,null,null,null,null,null,null,null,null,null,null,null,null,null,null,{"$f":"IF(RawData!A30117<>\"\",ROW(RawData!A30117),0)","v":0},{"$f":"IF(RawData!A30117=\"\",\"blank\",\"\")","v":"blank"}]
[null,null,null,null,null,null,null,null,null,null,null,null,null,null,null,null,null,null,null,null,null,{"$f":"IF(RawData!A30166<>\"\",ROW(RawData!A30166),0)","v":0},{"$f":"IF(RawData!A30166=\"\",\"blank\",\"\")","v":"blank"}]
[null,null,null,null,null,null,null,null,null,null,null,null,null,null,null,null,null,null,null,null,null,{"$f":"IF(RawData!A30243<>\"\",ROW(RawData!A30243),0)","v":0},{"$f":"IF(RawData!A30243=\"\",\"blank\",\"\")","v":"blank"}]
[null,null,null,null,null,null,null,null,null,null,null,null,null,null,null,null,null,null,null,null,null,{"$f":"IF(RawData!A30265<>\"\",ROW(RawData!A30265),0)","v":0},{"$f":"IF(RawData!A30265=\"\",\"blank\",\"\")","v":"blank"}]
[null,null,null,null,null,null,null,null,null,null,null,null,null,null,null,null,null,null,null,null,null,{"$f":"IF(RawData!A30314<>\"\",ROW(RawData!A30314),0)","v":0},{"$f":"IF(RawData!A30314=\"\",\"blank\",\"\")","v":"blank"}]
[null,null,null,null,null,null,null,null,null,null,null,null,null,null,null,null,null,null,null,null,null,{"$f":"IF(RawData!A30427<>\"\",ROW(RawData!A30427),0)","v":0},{"$f":"IF(RawData!A30427=\"\",\"blank\",\"\")","v":"blank"}]
[null,null,null,null,null,null,null,null,null,null,null,null,null,null,null,null,null,null,null,null,null,{"$f":"IF(RawData!A30446<>\"\",ROW(RawData!A30446),0)","v":0},{"$f":"IF(RawData!A30446=\"\",\"blank\",\"\")","v":"blank"}]
[null,null,null,null,null,null,null,null,null,null,null,null,null,null,null,null,null,null,null,null,null,{"$f":"IF(RawData!A30526<>\"\",ROW(RawData!A30526),0)","v":0},{"$f":"IF(RawData!A30526=\"\",\"blank\",\"\")","v":"blank"}]
[null,null,null,null,null,null,null,null,null,null,null,null,null,null,null,null,null,null,null,null,null,{"$f":"IF(RawData!A30575<>\"\",ROW(RawData!A30575),0)","v":0},{"$f":"IF(RawData!A30575=\"\",\"blank\",\"\")","v":"blank"}]
[null,null,null,null,null,null,null,null,null,null,null,null,null,null,null,null,null,null,null,null,null,{"$f":"IF(RawData!A30691<>\"\",ROW(RawData!A30691),0)","v":0},{"$f":"IF(RawData!A30691=\"\",\"blank\",\"\")","v":"blank"}]
[null,null,null,null,null,null,null,null,null,null,null,null,null,null,null,null,null,null,null,null,null,{"$f":"IF(RawData!A30738<>\"\",ROW(RawData!A30738),0)","v":0},{"$f":"IF(RawData!A30738=\"\",\"blank\",\"\")","v":"blank"}]
[null,null,null,null,null,null,null,null,null,null,null,null,null,null,null,null,null,null,null,null,null,{"$f":"IF(RawData!A30787<>\"\",ROW(RawData!A30787),0)","v":0},{"$f":"IF(RawData!A30787=\"\",\"blank\",\"\")","v":"blank"}]
[null,null,null,null,null,null,null,null,null,null,null,null,null,null,null,null,null,null,null,null,null,{"$f":"IF(RawData!A30836<>\"\",ROW(RawData!A30836),0)","v":0},{"$f":"IF(RawData!A30836=\"\",\"blank\",\"\")","v":"blank"}]
[null,null,null,null,null,null,null,null,null,null,null,null,null,null,null,null,null,null,null,null,null,{"$f":"IF(RawData!A30894<>\"\",ROW(RawData!A30894),0)","v":0},{"$f":"IF(RawData!A30894=\"\",\"blank\",\"\")","v":"blank"}]
[null,null,null,null,null,null,null,null,null,null,null,null,null,null,null,null,null,null,null,null,null,{"$f":"IF(RawData!A30999<>\"\",ROW(RawData!A30999),0)","v":0},{"$f":"IF(RawData!A30999=\"\",\"blank\",\"\")","v":"blank"}]
[null,null,null,null,null,null,null,null,null,null,null,null,null,null,null,null,null,null,null,null,null,{"$f":"IF(RawData!A31048<>\"\",ROW(RawData!A31048),0)","v":0},{"$f":"IF(RawData!A31048=\"\",\"blank\",\"\")","v":"blank"}]
[null,null,null,null,null,null,null,null,null,null,null,null,null,null,null,null,null,null,null,null,null,{"$f":"IF(RawData!A31143<>\"\",ROW(RawData!A31143),0)","v":0},{"$f":"IF(RawData!A31143=\"\",\"blank\",\"\")","v":"blank"}]
[null,null,null,null,null,null,null,null,null,null,null,null,null,null,null,null,null,null,null,null,null,{"$f":"IF(RawData!A31211<>\"\",ROW(RawData!A31211),0)","v":0},{"$f":"IF(RawData!A31211=\"\",\"blank\",\"\")","v":"blank"}]
[null,null,null,null,null,null,null,null,null,null,null,null,null,null,null,null,null,null,null,null,null,{"$f":"IF(RawData!A31260<>\"\",ROW(RawData!A31260),0)","v":0},{"$f":"IF(RawData!A31260=\"\",\"blank\",\"\")","v":"blank"}]
[null,null,null,null,null,null,null,null,null,null,null,null,null,null,null,null,null,null,null,null,null,{"$f":"IF(RawData!A31309<>\"\",ROW(RawData!A31309),0)","v":0},{"$f":"IF(RawData!A31309=\"\",\"blank\",\"\")","v":"blank"}]
[null,null,null,null,null,null,null,null,null,null,null,null,null,null,null,null,null,null,null,null,null,{"$f":"IF(RawData!A31342<>\"\",ROW(RawData!A31342),0)","v":0},{"$f":"IF(RawData!A31342=\"\",\"blank\",\"\")","v":"blank"}]
[null,null,null,null,null,null,null,null,null,null,null,null,null,null,null,null,null,null,null,null,null,{"$f":"IF(RawData!A31408<>\"\",ROW(RawData!A31408),0)","v":0},{"$f":"IF(RawData!A31408=\"\",\"blank\",\"\")","v":"blank"}]
[null,null,null,null,null,null,null,null,null,null,null,null,null,null,null,null,null,null,null,null,null,{"$f":"IF(RawData!A31521<>\"\",ROW(RawData!A31521),0)","v":0},{"$f":"IF(RawData!A31521=\"\",\"blank\",\"\")","v":"blank"}]
[null,null,null,null,null,null,null,null,null,null,null,null,null,null,null,null,null,null,null,null,null,{"$f":"IF(RawData!A31591<>\"\",ROW(RawData!A31591),0)","v":0},{"$f":"IF(RawData!A31591=\"\",\"blank\",\"\")","v":"blank"}]
[null,null,null,null,null,null,null,null,null,null,null,null,null,null,null,null,null,null,null,null,null,{"$f":"IF(RawData!A31620<>\"\",ROW(RawData!A31620),0)","v":0},{"$f":"IF(RawData!A31620=\"\",\"blank\",\"\")","v":"blank"}]
[null,null,null,null,null,null,null,null,null,null,null,null,null,null,null,null,null,null,null,null,null,{"$f":"IF(RawData!A31669<>\"\",ROW(RawData!A31669),0)","v":0},{"$f":"IF(RawData!A31669=\"\",\"blank\",\"\")","v":"blank"}]
[null,null,null,null,null,null,null,null,null,null,null,null,null,null,null,null,null,null,null,null,null,{"$f":"IF(RawData!A31782<>\"\",ROW(RawData!A31782),0)","v":0},{"$f":"IF(RawData!A31782=\"\",\"blank\",\"\")","v":"blank"}]
[null,null,null,null,null,null,null,null,null,null,null,null,null,null,null,null,null,null,null,null,null,{"$f":"IF(RawData!A31794<>\"\",ROW(RawData!A31794),0)","v":0},{"$f":"IF(RawData!A31794=\"\",\"blank\",\"\")","v":"blank"}]
[null,null,null,null,null,null,null,null,null,null,null,null,null,null,null,null,null,null,null,null,null,{"$f":"IF(RawData!A31881<>\"\",ROW(RawData!A31881),0)","v":0},{"$f":"IF(RawData!A31881=\"\",\"blank\",\"\")","v":"blank"}]
[null,null,null,null,null,null,null,null,null,null,null,null,null,null,null,null,null,null,null,null,null,{"$f":"IF(RawData!A31930<>\"\",ROW(RawData!A31930),0)","v":0},{"$f":"IF(RawData!A31930=\"\",\"blank\",\"\")","v":"blank"}]
[null,null,null,null,null,null,null,null,null,null,null,null,null,null,null,null,null,null,null,null,null,{"$f":"IF(RawData!A32039<>\"\",ROW(RawData!A32039),0)","v":0},{"$f":"IF(RawData!A32039=\"\",\"blank\",\"\")","v":"blank"}]
[null,null,null,null,null,null,null,null,null,null,null,null,null,null,null,null,null,null,null,null,null,{"$f":"IF(RawData!A32093<>\"\",ROW(RawData!A32093),0)","v":0},{"$f":"IF(RawData!A32093=\"\",\"blank\",\"\")","v":"blank"}]
[null,null,null,null,null,null,null,null,null,null,null,null,null,null,null,null,null,null,null,null,null,{"$f":"IF(RawData!A32142<>\"\",ROW(RawData!A32142),0)","v":0},{"$f":"IF(RawData!A32142=\"\",\"blank\",\"\")","v":"blank"}]
[null,null,null,null,null,null,null,null,null,null,null,null,null,null,null,null,null,null,null,null,null,{"$f":"IF(RawData!A32191<>\"\",ROW(RawData!A32191),0)","v":0},{"$f":"IF(RawData!A32191=\"\",\"blank\",\"\")","v":"blank"}]
[null,null,null,null,null,null,null,null,null,null,null,null,null,null,null,null,null,null,null,null,null,{"$f":"IF(RawData!A32242<>\"\",ROW(RawData!A32242),0)","v":0},{"$f":"IF(RawData!A32242=\"\",\"blank\",\"\")","v":"blank"}]
[null,null,null,null,null,null,null,null,null,null,null,null,null,null,null,null,null,null,null,null,null,{"$f":"IF(RawData!A32354<>\"\",ROW(RawData!A32354),0)","v":0},{"$f":"IF(RawData!A32354=\"\",\"blank\",\"\")","v":"blank"}]
[null,null,null,null,null,null,null,null,null,null,null,null,null,null,null,null,null,null,null,null,null,{"$f":"IF(RawData!A32403<>\"\",ROW(RawData!A32403),0)","v":0},{"$f":"IF(RawData!A32403=\"\",\"blank\",\"\")","v":"blank"}]
[null,null,null,null,null,null,null,null,null,null,null,null,null,null,null,null,null,null,null,null,null,{"$f":"IF(RawData!A32491<>\"\",ROW(RawData!A32491),0)","v":0},{"$f":"IF(RawData!A32491=\"\",\"blank\",\"\")","v":"blank"}]
[null,null,null,null,null,null,null,null,null,null,null,null,null,null,null,null,null,null,null,null,null,{"$f":"IF(RawData!A32502<>\"\",ROW(RawData!A32502),0)","v":0},{"$f":"IF(RawData!A32502=\"\",\"blank\",\"\")","v":"blank"}]
[null,null,null,null,null,null,null,null,null,null,null,null,null,null,null,null,null,null,null,null,null,{"$f":"IF(RawData!A32615<>\"\",ROW(RawData!A32615),0)","v":0},{"$f":"IF(RawData!A32615=\"\",\"blank\",\"\")","v":"blank"}]
[null,null,null,null,null,null,null,null,null,null,null,null,null,null,null,null,null,null,null,null,null,{"$f":"IF(RawData!A32664<>\"\",ROW(RawData!A32664),0)","v":0},{"$f":"IF(RawData!A32664=\"\",\"blank\",\"\")","v":"blank"}]
[null,null,null,null,null,null,null,null,null,null,null,null,null,null,null,null,null,null,null,null,null,{"$f":"IF(RawData!A32755<>\"\",ROW(RawData!A32755),0)","v":0},{"$f":"IF(RawData!A32755=\"\",\"blank\",\"\")","v":"blank"}]
[null,null,null,null,null,null,null,null,null,null,null,null,null,null,null,null,null,null,null,null,null,{"$f":"IF(RawData!A32763<>\"\",ROW(RawData!A32763),0)","v":0},{"$f":"IF(RawData!A32763=\"\",\"blank\",\"\")","v":"blank"}]
[null,null,null,null,null,null,null,null,null,null,null,null,null,null,null,null,null,null,null,null,null,{"$f":"IF(RawData!A32876<>\"\",ROW(RawData!A32876),0)","v":0},{"$f":"IF(RawData!A32876=\"\",\"blank\",\"\")","v":"blank"}]
[null,null,null,null,null,null,null,null,null,null,null,null,null,null,null,null,null,null,null,null,null,{"$f":"IF(RawData!A32939<>\"\",ROW(RawData!A32939),0)","v":0},{"$f":"IF(RawData!A32939=\"\",\"blank\",\"\")","v":"blank"}]
[null,null,null,null,null,null,null,null,null,null,null,null,null,null,null,null,null,null,null,null,null,{"$f":"IF(RawData!A32975<>\"\",ROW(RawData!A32975),0)","v":0},{"$f":"IF(RawData!A32975=\"\",\"blank\",\"\")","v":"blank"}]
[null,null,null,null,null,null,null,null,null,null,null,null,null,null,null,null,null,null,null,null,null,{"$f":"IF(RawData!A33024<>\"\",ROW(RawData!A33024),0)","v":0},{"$f":"IF(RawData!A33024=\"\",\"blank\",\"\")","v":"blank"}]
[null,null,null,null,null,null,null,null,null,null,null,null,null,null,null,null,null,null,null,null,null,{"$f":"IF(RawData!A33123<>\"\",ROW(RawData!A33123),0)","v":0},{"$f":"IF(RawData!A33123=\"\",\"blank\",\"\")","v":"blank"}]
[null,null,null,null,null,null,null,null,null,null,null,null,null,null,null,null,null,null,null,null,null,{"$f":"IF(RawData!A33187<>\"\",ROW(RawData!A33187),0)","v":0},{"$f":"IF(RawData!A33187=\"\",\"blank\",\"\")","v":"blank"}]
[null,null,null,null,null,null,null,null,null,null,null,null,null,null,null,null,null,null,null,null,null,{"$f":"IF(RawData!A33236<>\"\",ROW(RawData!A33236),0)","v":0},{"$f":"IF(RawData!A33236=\"\",\"blank\",\"\")","v":"blank"}]
[null,null,null,null,null,null,null,null,null,null,null,null,null,null,null,null,null,null,null,null,null,{"$f":"IF(RawData!A33285<>\"\",ROW(RawData!A33285),0)","v":0},{"$f":"IF(RawData!A33285=\"\",\"blank\",\"\")","v":"blank"}]
[null,null,null,null,null,null,null,null,null,null,null,null,null,null,null,null,null,null,null,null,null,{"$f":"IF(RawData!A33387<>\"\",ROW(RawData!A33387),0)","v":0},{"$f":"IF(RawData!A33387=\"\",\"blank\",\"\")","v":"blank"}]
[null,null,null,null,null,null,null,null,null,null,null,null,null,null,null,null,null,null,null,null,null,{"$f":"IF(RawData!A33448<>\"\",ROW(RawData!A33448),0)","v":0},{"$f":"IF(RawData!A33448=\"\",\"blank\",\"\")","v":"blank"}]
[null,null,null,null,null,null,null,null,null,null,null,null,null,null,null,null,null,null,null,null,null,{"$f":"IF(RawData!A33497<>\"\",ROW(RawData!A33497),0)","v":0},{"$f":"IF(RawData!A33497=\"\",\"blank\",\"\")","v":"blank"}]
[null,null,null,null,null,null,null,null,null,null,null,null,null,null,null,null,null,null,null,null,null,{"$f":"IF(RawData!A33571<>\"\",ROW(RawData!A33571),0)","v":0},{"$f":"IF(RawData!A33571=\"\",\"blank\",\"\")","v":"blank"}]
[null,null,null,null,null,null,null,null,null,null,null,null,null,null,null,null,null,null,null,null,null,{"$f":"IF(RawData!A33596<>\"\",ROW(RawData!A33596),0)","v":0},{"$f":"IF(RawData!A33596=\"\",\"blank\",\"\")","v":"blank"}]
[null,null,null,null,null,null,null,null,null,null,null,null,null,null,null,null,null,null,null,null,null,{"$f":"IF(RawData!A33709<>\"\",ROW(RawData!A33709),0)","v":0},{"$f":"IF(RawData!A33709=\"\",\"blank\",\"\")","v":"blank"}]
[null,null,null,null,null,null,null,null,null,null,null,null,null,null,null,null,null,null,null,null,null,{"$f":"IF(RawData!A33758<>\"\",ROW(RawData!A33758),0)","v":0},{"$f":"IF(RawData!A33758=\"\",\"blank\",\"\")","v":"blank"}]
[null,null,null,null,null,null,null,null,null,null,null,null,null,null,null,null,null,null,null,null,null,{"$f":"IF(RawData!A33839<>\"\",ROW(RawData!A33839),0)","v":0},{"$f":"IF(RawData!A33839=\"\",\"blank\",\"\")","v":"blank"}]
[null,null,null,null,null,null,null,null,null,null,null,null,null,null,null,null,null,null,null,null,null,{"$f":"IF(RawData!A33857<>\"\",ROW(RawData!A33857),0)","v":0},{"$f":"IF(RawData!A33857=\"\",\"blank\",\"\")","v":"blank"}]
[null,null,null,null,null,null,null,null,null,null,null,null,null,null,null,null,null,null,null,null,null,{"$f":"IF(RawData!A33970<>\"\",ROW(RawData!A33970),0)","v":0},{"$f":"IF(RawData!A33970=\"\",\"blank\",\"\")","v":"blank"}]
[null,null,null,null,null,null,null,null,null,null,null,null,null,null,null,null,null,null,null,null,null,{"$f":"IF(RawData!A34023<>\"\",ROW(RawData!A34023),0)","v":0},{"$f":"IF(RawData!A34023=\"\",\"blank\",\"\")","v":"blank"}]
[null,null,null,null,null,null,null,null,null,null,null,null,null,null,null,null,null,null,null,null,null,{"$f":"IF(RawData!A34069<>\"\",ROW(RawData!A34069),0)","v":0},{"$f":"IF(RawData!A34069=\"\",\"blank\",\"\")","v":"blank"}]
[null,null,null,null,null,null,null,null,null,null,null,null,null,null,null,null,null,null,null,null,null,{"$f":"IF(RawData!A34118<>\"\",ROW(RawData!A34118),0)","v":0},{"$f":"IF(RawData!A34118=\"\",\"blank\",\"\")","v":"blank"}]
[null,null,null,null,null,null,null,null,null,null,null,null,null,null,null,null,null,null,null,null,null,{"$f":"IF(RawData!A34231<>\"\",ROW(RawData!A34231),0)","v":0},{"$f":"IF(RawData!A34231=\"\",\"blank\",\"\")","v":"blank"}]
[null,null,null,null,null,null,null,null,null,null,null,null,null,null,null,null,null,null,null,null,null,{"$f":"IF(RawData!A34287<>\"\",ROW(RawData!A34287),0)","v":0},{"$f":"IF(RawData!A34287=\"\",\"blank\",\"\")","v":"blank"}]
[null,null,null,null,null,null,null,null,null,null,null,null,null,null,null,null,null,null,null,null,null,{"$f":"IF(RawData!A34330<>\"\",ROW(RawData!A34330),0)","v":0},{"$f":"IF(RawData!A34330=\"\",\"blank\",\"\")","v":"blank"}]
[null,null,null,null,null,null,null,null,null,null,null,null,null,null,null,null,null,null,null,null,null,{"$f":"IF(RawData!A34379<>\"\",ROW(RawData!A34379),0)","v":0},{"$f":"IF(RawData!A34379=\"\",\"blank\",\"\")","v":"blank"}]
[null,null,null,null,null,null,null,null,null,null,null,null,null,null,null,null,null,null,null,null,null,{"$f":"IF(RawData!A34471<>\"\",ROW(RawData!A34471),0)","v":0},{"$f":"IF(RawData!A34471=\"\",\"blank\",\"\")","v":"blank"}]
[null,null,null,null,null,null,null,null,null,null,null,null,null,null,null,null,null,null,null,null,null,{"$f":"IF(RawData!A34542<>\"\",ROW(RawData!A34542),0)","v":0},{"$f":"IF(RawData!A34542=\"\",\"blank\",\"\")","v":"blank"}]
[null,null,null,null,null,null,null,null,null,null,null,null,null,null,null,null,null,null,null,null,null,{"$f":"IF(RawData!A34591<>\"\",ROW(RawData!A34591),0)","v":0},{"$f":"IF(RawData!A34591=\"\",\"blank\",\"\")","v":"blank"}]
[null,null,null,null,null,null,null,null,null,null,null,null,null,null,null,null,null,null,null,null,null,{"$f":"IF(RawData!A34640<>\"\",ROW(RawData!A34640),0)","v":0},{"$f":"IF(RawData!A34640=\"\",\"blank\",\"\")","v":"blank"}]
[null,null,null,null,null,null,null,null,null,null,null,null,null,null,null,null,null,null,null,null,null,{"$f":"IF(RawData!A34735<>\"\",ROW(RawData!A34735),0)","v":0},{"$f":"IF(RawData!A34735=\"\",\"blank\",\"\")","v":"blank"}]
[null,null,null,null,null,null,null,null,null,null,null,null,null,null,null,null,null,null,null,null,null,{"$f":"IF(RawData!A34803<>\"\",ROW(RawData!A34803),0)","v":0},{"$f":"IF(RawData!A34803=\"\",\"blank\",\"\")","v":"blank"}]
[null,null,null,null,null,null,null,null,null,null,null,null,null,null,null,null,null,null,null,null,null,{"$f":"IF(RawData!A34852<>\"\",ROW(RawData!A34852),0)","v":0},{"$f":"IF(RawData!A34852=\"\",\"blank\",\"\")","v":"blank"}]
[null,null,null,null,null,null,null,null,null,null,null,null,null,null,null,null,null,null,null,null,null,{"$f":"IF(RawData!A34919<>\"\",ROW(RawData!A34919),0)","v":0},{"$f":"IF(RawData!A34919=\"\",\"blank\",\"\")","v":"blank"}]
[null,null,null,null,null,null,null,null,null,null,null,null,null,null,null,null,null,null,null,null,null,{"$f":"IF(RawData!A34951<>\"\",ROW(RawData!A34951),0)","v":0},{"$f":"IF(RawData!A34951=\"\",\"blank\",\"\")","v":"blank"}]
[null,null,null,null,null,null,null,null,null,null,null,null,null,null,null,null,null,null,null,null,null,{"$f":"IF(RawData!A35064<>\"\",ROW(RawData!A35064),0)","v":0},{"$f":"IF(RawData!A35064=\"\",\"blank\",\"\")","v":"blank"}]
[null,null,null,null,null,null,null,null,null,null,null,null,null,null,null,null,null,null,null,null,null,{"$f":"IF(RawData!A35113<>\"\",ROW(RawData!A35113),0)","v":0},{"$f":"IF(RawData!A35113=\"\",\"blank\",\"\")","v":"blank"}]
[null,null,null,null,null,null,null,null,null,null,null,null,null,null,null,null,null,null,null,null,null,{"$f":"IF(RawData!A35187<>\"\",ROW(RawData!A35187),0)","v":0},{"$f":"IF(RawData!A35187=\"\",\"blank\",\"\")","v":"blank"}]
[null,null,null,null,null,null,null,null,null,null,null,null,null,null,null,null,null,null,null,null,null,{"$f":"IF(RawData!A35212<>\"\",ROW(RawData!A35212),0)","v":0},{"$f":"IF(RawData!A35212=\"\",\"blank\",\"\")","v":"blank"}]
[null,null,null,null,null,null,null,null,null,null,null,null,null,null,null,null,null,null,null,null,null,{"$f":"IF(RawData!A35325<>\"\",ROW(RawData!A35325),0)","v":0},{"$f":"IF(RawData!A35325=\"\",\"blank\",\"\")","v":"blank"}]
[null,null,null,null,null,null,null,null,null,null,null,null,null,null,null,null,null,null,null,null,null,{"$f":"IF(RawData!A35371<>\"\",ROW(RawData!A35371),0)","v":0},{"$f":"IF(RawData!A35371=\"\",\"blank\",\"\")","v":"blank"}]
[null,null,null,null,null,null,null,null,null,null,null,null,null,null,null,null,null,null,null,null,null,{"$f":"IF(RawData!A35424<>\"\",ROW(RawData!A35424),0)","v":0},{"$f":"IF(RawData!A35424=\"\",\"blank\",\"\")","v":"blank"}]
[null,null,null,null,null,null,null,null,null,null,null,null,null,null,null,null,null,null,null,null,null,{"$f":"IF(RawData!A35473<>\"\",ROW(RawData!A35473),0)","v":0},{"$f":"IF(RawData!A35473=\"\",\"blank\",\"\")","v":"blank"}]
[null,null,null,null,null,null,null,null,null,null,null,null,null,null,null,null,null,null,null,null,null,{"$f":"IF(RawData!A35522<>\"\",ROW(RawData!A35522),0)","v":0},{"$f":"IF(RawData!A35522=\"\",\"blank\",\"\")","v":"blank"}]
[null,null,null,null,null,null,null,null,null,null,null,null,null,null,null,null,null,null,null,null,null,{"$f":"IF(RawData!A35635<>\"\",ROW(RawData!A35635),0)","v":0},{"$f":"IF(RawData!A35635=\"\",\"blank\",\"\")","v":"blank"}]
[null,null,null,null,null,null,null,null,null,null,null,null,null,null,null,null,null,null,null,null,null,{"$f":"IF(RawData!A35685<>\"\",ROW(RawData!A35685),0)","v":0},{"$f":"IF(RawData!A35685=\"\",\"blank\",\"\")","v":"blank"}]
[null,null,null,null,null,null,null,null,null,null,null,null,null,null,null,null,null,null,null,null,null,{"$f":"IF(RawData!A35734<>\"\",ROW(RawData!A35734),0)","v":0},{"$f":"IF(RawData!A35734=\"\",\"blank\",\"\")","v":"blank"}]
[null,null,null,null,null,null,null,null,null,null,null,null,null,null,null,null,null,null,null,null,null,{"$f":"IF(RawData!A35819<>\"\",ROW(RawData!A35819),0)","v":0},{"$f":"IF(RawData!A35819=\"\",\"blank\",\"\")","v":"blank"}]
[null,null,null,null,null,null,null,null,null,null,null,null,null,null,null,null,null,null,null,null,null,{"$f":"IF(RawData!A35897<>\"\",ROW(RawData!A35897),0)","v":0},{"$f":"IF(RawData!A35897=\"\",\"blank\",\"\")","v":"blank"}]
[null,null,null,null,null,null,null,null,null,null,null,null,null,null,null,null,null,null,null,null,null,{"$f":"IF(RawData!A35946<>\"\",ROW(RawData!A35946),0)","v":0},{"$f":"IF(RawData!A35946=\"\",\"blank\",\"\")","v":"blank"}]
[null,null,null,null,null,null,null,null,null,null,null,null,null,null,null,null,null,null,null,null,null,{"$f":"IF(RawData!A35995<>\"\",ROW(RawData!A35995),0)","v":0},{"$f":"IF(RawData!A35995=\"\",\"blank\",\"\")","v":"blank"}]
[null,null,null,null,null,null,null,null,null,null,null,null,null,null,null,null,null,null,null,null,null,{"$f":"IF(RawData!A36083<>\"\",ROW(RawData!A36083),0)","v":0},{"$f":"IF(RawData!A36083=\"\",\"blank\",\"\")","v":"blank"}]
[null,null,null,null,null,null,null,null,null,null,null,null,null,null,null,null,null,null,null,null,null,{"$f":"IF(RawData!A36158<>\"\",ROW(RawData!A36158),0)","v":0},{"$f":"IF(RawData!A36158=\"\",\"blank\",\"\")","v":"blank"}]
[null,null,null,null,null,null,null,null,null,null,null,null,null,null,null,null,null,null,null,null,null,{"$f":"IF(RawData!A36207<>\"\",ROW(RawData!A36207),0)","v":0},{"$f":"IF(RawData!A36207=\"\",\"blank\",\"\")","v":"blank"}]
[null,null,null,null,null,null,null,null,null,null,null,null,null,null,null,null,null,null,null,null,null,{"$f":"IF(RawData!A36267<>\"\",ROW(RawData!A36267),0)","v":0},{"$f":"IF(RawData!A36267=\"\",\"blank\",\"\")","v":"blank"}]
[null,null,null,null,null,null,null,null,null,null,null,null,null,null,null,null,null,null,null,null,null,{"$f":"IF(RawData!A36306<>\"\",ROW(RawData!A36306),0)","v":0},{"$f":"IF(RawData!A36306=\"\",\"blank\",\"\")","v":"blank"}]
[null,null,null,null,null,null,null,null,null,null,null,null,null,null,null,null,null,null,null,null,null,{"$f":"IF(RawData!A36419<>\"\",ROW(RawData!A36419),0)","v":0},{"$f":"IF(RawData!A36419=\"\",\"blank\",\"\")","v":"blank"}]
[null,null,null,null,null,null,null,null,null,null,null,null,null,null,null,null,null,null,null,null,null,{"$f":"IF(RawData!A36468<>\"\",ROW(RawData!A36468),0)","v":0},{"$f":"IF(RawData!A36468=\"\",\"blank\",\"\")","v":"blank"}]
[null,null,null,null,null,null,null,null,null,null,null,null,null,null,null,null,null,null,null,null,null,{"$f":"IF(RawData!A36535<>\"\",ROW(RawData!A36535),0)","v":0},{"$f":"IF(RawData!A36535=\"\",\"blank\",\"\")","v":"blank"}]
[null,null,null,null,null,null,null,null,null,null,null,null,null,null,null,null,null,null,null,null,null,{"$f":"IF(RawData!A36567<>\"\",ROW(RawData!A36567),0)","v":0},{"$f":"IF(RawData!A36567=\"\",\"blank\",\"\")","v":"blank"}]
[null,null,null,null,null,null,null,null,null,null,null,null,null,null,null,null,null,null,null,null,null,{"$f":"IF(RawData!A36616<>\"\",ROW(RawData!A36616),0)","v":0},{"$f":"IF(RawData!A36616=\"\",\"blank\",\"\")","v":"blank"}]
[null,null,null,null,null,null,null,null,null,null,null,null,null,null,null,null,null,null,null,null,null,{"$f":"IF(RawData!A36719<>\"\",ROW(RawData!A36719),0)","v":0},{"$f":"IF(RawData!A36719=\"\",\"blank\",\"\")","v":"blank"}]
[null,null,null,null,null,null,null,null,null,null,null,null,null,null,null,null,null,null,null,null,null,{"$f":"IF(RawData!A36779<>\"\",ROW(RawData!A36779),0)","v":0},{"$f":"IF(RawData!A36779=\"\",\"blank\",\"\")","v":"blank"}]
[null,null,null,null,null,null,null,null,null,null,null,null,null,null,null,null,null,null,null,null,null,{"$f":"IF(RawData!A36828<>\"\",ROW(RawData!A36828),0)","v":0},{"$f":"IF(RawData!A36828=\"\",\"blank\",\"\")","v":"blank"}]
[null,null,null,null,null,null,null,null,null,null,null,null,null,null,null,null,null,null,null,null,null,{"$f":"IF(RawData!A36877<>\"\",ROW(RawData!A36877),0)","v":0},{"$f":"IF(RawData!A36877=\"\",\"blank\",\"\")","v":"blank"}]
[null,null,null,null,null,null,null,null,null,null,null,null,null,null,null,null,null,null,null,null,null,{"$f":"IF(RawData!A36983<>\"\",ROW(RawData!A36983),0)","v":0},{"$f":"IF(RawData!A36983=\"\",\"blank\",\"\")","v":"blank"}]
[null,null,null,null,null,null,null,null,null,null,null,null,null,null,null,null,null,null,null,null,null,{"$f":"IF(RawData!A37040<>\"\",ROW(RawData!A37040),0)","v":0},{"$f":"IF(RawData!A37040=\"\",\"blank\",\"\")","v":"blank"}]
[null,null,null,null,null,null,null,null,null,null,null,null,null,null,null,null,null,null,null,null,null,{"$f":"IF(RawData!A37089<>\"\",ROW(RawData!A37089),0)","v":0},{"$f":"IF(RawData!A37089=\"\",\"blank\",\"\")","v":"blank"}]
[null,null,null,null,null,null,null,null,null,null,null,null,null,null,null,null,null,null,null,null,null,{"$f":"IF(RawData!A37167<>\"\",ROW(RawData!A37167),0)","v":0},{"$f":"IF(RawData!A37167=\"\",\"blank\",\"\")","v":"blank"}]
[null,null,null,null,null,null,null,null,null,null,null,null,null,null,null,null,null,null,null,null,null,{"$f":"IF(RawData!A37252<>\"\",ROW(RawData!A37252),0)","v":0},{"$f":"IF(RawData!A37252=\"\",\"blank\",\"\")","v":"blank"}]
[null,null,null,null,null,null,null,null,null,null,null,null,null,null,null,null,null,null,null,null,null,{"$f":"IF(RawData!A37301<>\"\",ROW(RawData!A37301),0)","v":0},{"$f":"IF(RawData!A37301=\"\",\"blank\",\"\")","v":"blank"}]
[null,null,null,null,null,null,null,null,null,null,null,null,null,null,null,null,null,null,null,null,null,{"$f":"IF(RawData!A37351<>\"\",ROW(RawData!A37351),0)","v":0},{"$f":"IF(RawData!A37351=\"\",\"blank\",\"\")","v":"blank"}]
[null,null,null,null,null,null,null,null,null,null,null,null,null,null,null,null,null,null,null,null,null,{"$f":"IF(RawData!A37400<>\"\",ROW(RawData!A37400),0)","v":0},{"$f":"IF(RawData!A37400=\"\",\"blank\",\"\")","v":"blank"}]
[null,null,null,null,null,null,null,null,null,null,null,null,null,null,null,null,null,null,null,null,null,{"$f":"IF(RawData!A37449<>\"\",ROW(RawData!A37449),0)","v":0},{"$f":"IF(RawData!A37449=\"\",\"blank\",\"\")","v":"blank"}]
[null,null,null,null,null,null,null,null,null,null,null,null,null,null,null,null,null,null,null,null,null,{"$f":"IF(RawData!A37562<>\"\",ROW(RawData!A37562),0)","v":0},{"$f":"IF(RawData!A37562=\"\",\"blank\",\"\")","v":"blank"}]
[null,null,null,null,null,null,null,null,null,null,null,null,null,null,null,null,null,null,null,null,null,{"$f":"IF(RawData!A37615<>\"\",ROW(RawData!A37615),0)","v":0},{"$f":"IF(RawData!A37615=\"\",\"blank\",\"\")","v":"blank"}]
[null,null,null,null,null,null,null,null,null,null,null,null,null,null,null,null,null,null,null,null,null,{"$f":"IF(RawData!A37661<>\"\",ROW(RawData!A37661),0)","v":0},{"$f":"IF(RawData!A37661=\"\",\"blank\",\"\")","v":"blank"}]
[null,null,null,null,null,null,null,null,null,null,null,null,null,null,null,null,null,null,null,null,null,{"$f":"IF(RawData!A37710<>\"\",ROW(RawData!A37710),0)","v":0},{"$f":"IF(RawData!A37710=\"\",\"blank\",\"\")","v":"blank"}]
[null,null,null,null,null,null,null,null,null,null,null,null,null,null,null,null,null,null,null,null,null,{"$f":"IF(RawData!A37799<>\"\",ROW(RawData!A37799),0)","v":0},{"$f":"IF(RawData!A37799=\"\",\"blank\",\"\")","v":"blank"}]
[null,null,null,null,null,null,null,null,null,null,null,null,null,null,null,null,null,null,null,null,null,{"$f":"IF(RawData!A37873<>\"\",ROW(RawData!A37873),0)","v":0},{"$f":"IF(RawData!A37873=\"\",\"blank\",\"\")","v":"blank"}]
[null,null,null,null,null,null,null,null,null,null,null,null,null,null,null,null,null,null,null,null,null,{"$f":"IF(RawData!A37922<>\"\",ROW(RawData!A37922),0)","v":0},{"$f":"IF(RawData!A37922=\"\",\"blank\",\"\")","v":"blank"}]
[null,null,null,null,null,null,null,null,null,null,null,null,null,null,null,null,null,null,null,null,null,{"$f":"IF(RawData!A37971<>\"\",ROW(RawData!A37971),0)","v":0},{"$f":"IF(RawData!A37971=\"\",\"blank\",\"\")","v":"blank"}]
[null,null,null,null,null,null,null,null,null,null,null,null,null,null,null,null,null,null,null,null,null,{"$f":"IF(RawData!A38063<>\"\",ROW(RawData!A38063),0)","v":0},{"$f":"IF(RawData!A38063=\"\",\"blank\",\"\")","v":"blank"}]
[null,null,null,null,null,null,null,null,null,null,null,null,null,null,null,null,null,null,null,null,null,{"$f":"IF(RawData!A38134<>\"\",ROW(RawData!A38134),0)","v":0},{"$f":"IF(RawData!A38134=\"\",\"blank\",\"\")","v":"blank"}]
[null,null,null,null,null,null,null,null,null,null,null,null,null,null,null,null,null,null,null,null,null,{"$f":"IF(RawData!A38183<>\"\",ROW(RawData!A38183),0)","v":0},{"$f":"IF(RawData!A38183=\"\",\"blank\",\"\")","v":"blank"}]
[null,null,null,null,null,null,null,null,null,null,null,null,null,null,null,null,null,null,null,null,null,{"$f":"IF(RawData!A38247<>\"\",ROW(RawData!A38247),0)","v":0},{"$f":"IF(RawData!A38247=\"\",\"blank\",\"\")","v":"blank"}]
[null,null,null,null,null,null,null,null,null,null,null,null,null,null,null,null,null,null,null,null,null,{"$f":"IF(RawData!A38346<>\"\",ROW(RawData!A38346),0)","v":0},{"$f":"IF(RawData!A38346=\"\",\"blank\",\"\")","v":"blank"}]
[null,null,null,null,null,null,null,null,null,null,null,null,null,null,null,null,null,null,null,null,null,{"$f":"IF(RawData!A38395<>\"\",ROW(RawData!A38395),0)","v":0},{"$f":"IF(RawData!A38395=\"\",\"blank\",\"\")","v":"blank"}]
[null,null,null,null,null,null,null,null,null,null,null,null,null,null,null,null,null,null,null,null,null,{"$f":"IF(RawData!A38444<>\"\",ROW(RawData!A38444),0)","v":0},{"$f":"IF(RawData!A38444=\"\",\"blank\",\"\")","v":"blank"}]
[null,null,null,null,null,null,null,null,null,null,null,null,null,null,null,null,null,null,null,null,null,{"$f":"IF(RawData!A38515<>\"\",ROW(RawData!A38515),0)","v":0},{"$f":"IF(RawData!A38515=\"\",\"blank\",\"\")","v":"blank"}]
[null,null,null,null,null,null,null,null,null,null,null,null,null,null,null,null,null,null,null,null,null,{"$f":"IF(RawData!A38543<>\"\",ROW(RawData!A38543),0)","v":0},{"$f":"IF(RawData!A38543=\"\",\"blank\",\"\")","v":"blank"}]
[null,null,null,null,null,null,null,null,null,null,null,null,null,null,null,null,null,null,null,null,null,{"$f":"IF(RawData!A38656<>\"\",ROW(RawData!A38656),0)","v":0},{"$f":"IF(RawData!A38656=\"\",\"blank\",\"\")","v":"blank"}]
[null,null,null,null,null,null,null,null,null,null,null,null,null,null,null,null,null,null,null,null,null,{"$f":"IF(RawData!A38699<>\"\",ROW(RawData!A38699),0)","v":0},{"$f":"IF(RawData!A38699=\"\",\"blank\",\"\")","v":"blank"}]
[null,null,null,null,null,null,null,null,null,null,null,null,null,null,null,null,null,null,null,null,null,{"$f":"IF(RawData!A38755<>\"\",ROW(RawData!A38755),0)","v":0},{"$f":"IF(RawData!A38755=\"\",\"blank\",\"\")","v":"blank"}]
[null,null,null,null,null,null,null,null,null,null,null,null,null,null,null,null,null,null,null,null,null,{"$f":"IF(RawData!A38804<>\"\",ROW(RawData!A38804),0)","v":0},{"$f":"IF(RawData!A38804=\"\",\"blank\",\"\")","v":"blank"}]
[null,null,null,null,null,null,null,null,null,null,null,null,null,null,null,null,null,null,null,null,null,{"$f":"IF(RawData!A38917<>\"\",ROW(RawData!A38917),0)","v":0},{"$f":"IF(RawData!A38917=\"\",\"blank\",\"\")","v":"blank"}]
[null,null,null,null,null,null,null,null,null,null,null,null,null,null,null,null,null,null,null,null,null,{"$f":"IF(RawData!A38963<>\"\",ROW(RawData!A38963),0)","v":0},{"$f":"IF(RawData!A38963=\"\",\"blank\",\"\")","v":"blank"}]
[null,null,null,null,null,null,null,null,null,null,null,null,null,null,null,null,null,null,null,null,null,{"$f":"IF(RawData!A39016<>\"\",ROW(RawData!A39016),0)","v":0},{"$f":"IF(RawData!A39016=\"\",\"blank\",\"\")","v":"blank"}]
[null,null,null,null,null,null,null,null,null,null,null,null,null,null,null,null,null,null,null,null,null,{"$f":"IF(RawData!A39065<>\"\",ROW(RawData!A39065),0)","v":0},{"$f":"IF(RawData!A39065=\"\",\"blank\",\"\")","v":"blank"}]
[null,null,null,null,null,null,null,null,null,null,null,null,null,null,null,null,null,null,null,null,null,{"$f":"IF(RawData!A39147<>\"\",ROW(RawData!A39147),0)","v":0},{"$f":"IF(RawData!A39147=\"\",\"blank\",\"\")","v":"blank"}]
[null,null,null,null,null,null,null,null,null,null,null,null,null,null,null,null,null,null,null,null,null,{"$f":"IF(RawData!A39228<>\"\",ROW(RawData!A39228),0)","v":0},{"$f":"IF(RawData!A39228=\"\",\"blank\",\"\")","v":"blank"}]
[null,null,null,null,null,null,null,null,null,null,null,null,null,null,null,null,null,null,null,null,null,{"$f":"IF(RawData!A39277<>\"\",ROW(RawData!A39277),0)","v":0},{"$f":"IF(RawData!A39277=\"\",\"blank\",\"\")","v":"blank"}]
[null,null,null,null,null,null,null,null,null,null,null,null,null,null,null,null,null,null,null,null,null,{"$f":"IF(RawData!A39326<>\"\",ROW(RawData!A39326),0)","v":0},{"$f":"IF(RawData!A39326=\"\",\"blank\",\"\")","v":"blank"}]
[null,null,null,null,null,null,null,null,null,null,null,null,null,null,null,null,null,null,null,null,null,{"$f":"IF(RawData!A39411<>\"\",ROW(RawData!A39411),0)","v":0},{"$f":"IF(RawData!A39411=\"\",\"blank\",\"\")","v":"blank"}]
[null,null,null,null,null,null,null,null,null,null,null,null,null,null,null,null,null,null,null,null,null,{"$f":"IF(RawData!A39489<>\"\",ROW(RawData!A39489),0)","v":0},{"$f":"IF(RawData!A39489=\"\",\"blank\",\"\")","v":"blank"}]
[null,null,null,null,null,null,null,null,null,null,null,null,null,null,null,null,null,null,null,null,null,{"$f":"IF(RawData!A39538<>\"\",ROW(RawData!A39538),0)","v":0},{"$f":"IF(RawData!A39538=\"\",\"blank\",\"\")","v":"blank"}]
[null,null,null,null,null,null,null,null,null,null,null,null,null,null,null,null,null,null,null,null,null,{"$f":"IF(RawData!A39595<>\"\",ROW(RawData!A39595),0)","v":0},{"$f":"IF(RawData!A39595=\"\",\"blank\",\"\")","v":"blank"}]
[null,null,null,null,null,null,null,null,null,null,null,null,null,null,null,null,null,null,null,null,null,{"$f":"IF(RawData!A39637<>\"\",ROW(RawData!A39637),0)","v":0},{"$f":"IF(RawData!A39637=\"\",\"blank\",\"\")","v":"blank"}]
[null,null,null,null,null,null,null,null,null,null,null,null,null,null,null,null,null,null,null,null,null,{"$f":"IF(RawData!A39750<>\"\",ROW(RawData!A39750),0)","v":0},{"$f":"IF(RawData!A39750=\"\",\"blank\",\"\")","v":"blank"}]
[null,null,null,null,null,null,null,null,null,null,null,null,null,null,null,null,null,null,null,null,null,{"$f":"IF(RawData!A39799<>\"\",ROW(RawData!A39799),0)","v":0},{"$f":"IF(RawData!A39799=\"\",\"blank\",\"\")","v":"blank"}]
[null,null,null,null,null,null,null,null,null,null,null,null,null,null,null,null,null,null,null,null,null,{"$f":"IF(RawData!A39863<>\"\",ROW(RawData!A39863),0)","v":0},{"$f":"IF(RawData!A39863=\"\",\"blank\",\"\")","v":"blank"}]
[null,null,null,null,null,null,null,null,null,null,null,null,null,null,null,null,null,null,null,null,null,{"$f":"IF(RawData!A39898<>\"\",ROW(RawData!A39898),0)","v":0},{"$f":"IF(RawData!A39898=\"\",\"blank\",\"\")","v":"blank"}]
[null,null,null,null,null,null,null,null,null,null,null,null,null,null,null,null,null,null,null,null,null,{"$f":"IF(RawData!A40011<>\"\",ROW(RawData!A40011),0)","v":0},{"$f":"IF(RawData!A40011=\"\",\"blank\",\"\")","v":"blank"}]
[null,null,null,null,null,null,null,null,null,null,null,null,null,null,null,null,null,null,null,null,null,{"$f":"IF(RawData!A40047<>\"\",ROW(RawData!A40047),0)","v":0},{"$f":"IF(RawData!A40047=\"\",\"blank\",\"\")","v":"blank"}]
[null,null,null,null,null,null,null,null,null,null,null,null,null,null,null,null,null,null,null,null,null,{"$f":"IF(RawData!A40110<>\"\",ROW(RawData!A40110),0)","v":0},{"$f":"IF(RawData!A40110=\"\",\"blank\",\"\")","v":"blank"}]
[null,null,null,null,null,null,null,null,null,null,null,null,null,null,null,null,null,null,null,null,null,{"$f":"IF(RawData!A40159<>\"\",ROW(RawData!A40159),0)","v":0},{"$f":"IF(RawData!A40159=\"\",\"blank\",\"\")","v":"blank"}]
[null,null,null,null,null,null,null,null,null,null,null,null,null,null,null,null,null,null,null,null,null,{"$f":"IF(RawData!A40272<>\"\",ROW(RawData!A40272),0)","v":0},{"$f":"IF(RawData!A40272=\"\",\"blank\",\"\")","v":"blank"}]
[null,null,null,null,null,null,null,null,null,null,null,null,null,null,null,null,null,null,null,null,null,{"$f":"IF(RawData!A40311<>\"\",ROW(RawData!A40311),0)","v":0},{"$f":"IF(RawData!A40311=\"\",\"blank\",\"\")","v":"blank"}]
[null,null,null,null,null,null,null,null,null,null,null,null,null,null,null,null,null,null,null,null,null,{"$f":"IF(RawData!A40371<>\"\",ROW(RawData!A40371),0)","v":0},{"$f":"IF(RawData!A40371=\"\",\"blank\",\"\")","v":"blank"}]
[null,null,null,null,null,null,null,null,null,null,null,null,null,null,null,null,null,null,null,null,null,{"$f":"IF(RawData!A40420<>\"\",ROW(RawData!A40420),0)","v":0},{"$f":"IF(RawData!A40420=\"\",\"blank\",\"\")","v":"blank"}]
[null,null,null,null,null,null,null,null,null,null,null,null,null,null,null,null,null,null,null,null,null,{"$f":"IF(RawData!A40495<>\"\",ROW(RawData!A40495),0)","v":0},{"$f":"IF(RawData!A40495=\"\",\"blank\",\"\")","v":"blank"}]
[null,null,null,null,null,null,null,null,null,null,null,null,null,null,null,null,null,null,null,null,null,{"$f":"IF(RawData!A40583<>\"\",ROW(RawData!A40583),0)","v":0},{"$f":"IF(RawData!A40583=\"\",\"blank\",\"\")","v":"blank"}]
[null,null,null,null,null,null,null,null,null,null,null,null,null,null,null,null,null,null,null,null,null,{"$f":"IF(RawData!A40632<>\"\",ROW(RawData!A40632),0)","v":0},{"$f":"IF(RawData!A40632=\"\",\"blank\",\"\")","v":"blank"}]
[null,null,null,null,null,null,null,null,null,null,null,null,null,null,null,null,null,null,null,null,null,{"$f":"IF(RawData!A40681<>\"\",ROW(RawData!A40681),0)","v":0},{"$f":"IF(RawData!A40681=\"\",\"blank\",\"\")","v":"blank"}]
[null,null,null,null,null,null,null,null,null,null,null,null,null,null,null,null,null,null,null,null,null,{"$f":"IF(RawData!A40759<>\"\",ROW(RawData!A40759),0)","v":0},{"$f":"IF(RawData!A40759=\"\",\"blank\",\"\")","v":"blank"}]
[null,null,null,null,null,null,null,null,null,null,null,null,null,null,null,null,null,null,null,null,null,{"$f":"IF(RawData!A40844<>\"\",ROW(RawData!A40844),0)","v":0},{"$f":"IF(RawData!A40844=\"\",\"blank\",\"\")","v":"blank"}]
[null,null,null,null,null,null,null,null,null,null,null,null,null,null,null,null,null,null,null,null,null,{"$f":"IF(RawData!A40893<>\"\",ROW(RawData!A40893),0)","v":0},{"$f":"IF(RawData!A40893=\"\",\"blank\",\"\")","v":"blank"}]
[null,null,null,null,null,null,null,null,null,null,null,null,null,null,null,null,null,null,null,null,null,{"$f":"IF(RawData!A40943<>\"\",ROW(RawData!A40943),0)","v":0},{"$f":"IF(RawData!A40943=\"\",\"blank\",\"\")","v":"blank"}]
[null,null,null,null,null,null,null,null,null,null,null,null,null,null,null,null,null,null,null,null,null,{"$f":"IF(RawData!A40992<>\"\",ROW(RawData!A40992),0)","v":0},{"$f":"IF(RawData!A40992=\"\",\"blank\",\"\")","v":"blank"}]
[null,null,null,null,null,null,null,null,null,null,null,null,null,null,null,null,null,null,null,null,null,{"$f":"IF(RawData!A41105<>\"\",ROW(RawData!A41105),0)","v":0},{"$f":"IF(RawData!A41105=\"\",\"blank\",\"\")","v":"blank"}]
[null,null,null,null,null,null,null,null,null,null,null,null,null,null,null,null,null,null,null,null,null,{"$f":"IF(RawData!A41127<>\"\",ROW(RawData!A41127),0)","v":0},{"$f":"IF(RawData!A41127=\"\",\"blank\",\"\")","v":"blank"}]
[null,null,null,null,null,null,null,null,null,null,null,null,null,null,null,null,null,null,null,null,null,{"$f":"IF(RawData!A41204<>\"\",ROW(RawData!A41204),0)","v":0},{"$f":"IF(RawData!A41204=\"\",\"blank\",\"\")","v":"blank"}]
[null,null,null,null,null,null,null,null,null,null,null,null,null,null,null,null,null,null,null,null,null,{"$f":"IF(RawData!A41253<>\"\",ROW(RawData!A41253),0)","v":0},{"$f":"IF(RawData!A41253=\"\",\"blank\",\"\")","v":"blank"}]
[null,null,null,null,null,null,null,null,null,null,null,null,null,null,null,null,null,null,null,null,null,{"$f":"IF(RawData!A41366<>\"\",ROW(RawData!A41366),0)","v":0},{"$f":"IF(RawData!A41366=\"\",\"blank\",\"\")","v":"blank"}]
[null,null,null,null,null,null,null,null,null,null,null,null,null,null,null,null,null,null,null,null,null,{"$f":"IF(RawData!A41395<>\"\",ROW(RawData!A41395),0)","v":0},{"$f":"IF(RawData!A41395=\"\",\"blank\",\"\")","v":"blank"}]
[null,null,null,null,null,null,null,null,null,null,null,null,null,null,null,null,null,null,null,null,null,{"$f":"IF(RawData!A41465<>\"\",ROW(RawData!A41465),0)","v":0},{"$f":"IF(RawData!A41465=\"\",\"blank\",\"\")","v":"blank"}]
[null,null,null,null,null,null,null,null,null,null,null,null,null,null,null,null,null,null,null,null,null,{"$f":"IF(RawData!A41514<>\"\",ROW(RawData!A41514),0)","v":0},{"$f":"IF(RawData!A41514=\"\",\"blank\",\"\")","v":"blank"}]
[null,null,null,null,null,null,null,null,null,null,null,null,null,null,null,null,null,null,null,null,null,{"$f":"IF(RawData!A41575<>\"\",ROW(RawData!A41575),0)","v":0},{"$f":"IF(RawData!A41575=\"\",\"blank\",\"\")","v":"blank"}]
[null,null,null,null,null,null,null,null,null,null,null,null,null,null,null,null,null,null,null,null,null,{"$f":"IF(RawData!A41677<>\"\",ROW(RawData!A41677),0)","v":0},{"$f":"IF(RawData!A41677=\"\",\"blank\",\"\")","v":"blank"}]
[null,null,null,null,null,null,null,null,null,null,null,null,null,null,null,null,null,null,null,null,null,{"$f":"IF(RawData!A41726<>\"\",ROW(RawData!A41726),0)","v":0},{"$f":"IF(RawData!A41726=\"\",\"blank\",\"\")","v":"blank"}]
[null,null,null,null,null,null,null,null,null,null,null,null,null,null,null,null,null,null,null,null,null,{"$f":"IF(RawData!A41775<>\"\",ROW(RawData!A41775),0)","v":0},{"$f":"IF(RawData!A41775=\"\",\"blank\",\"\")","v":"blank"}]
[null,null,null,null,null,null,null,null,null,null,null,null,null,null,null,null,null,null,null,null,null,{"$f":"IF(RawData!A41843<>\"\",ROW(RawData!A41843),0)","v":0},{"$f":"IF(RawData!A41843=\"\",\"blank\",\"\")","v":"blank"}]
[null,null,null,null,null,null,null,null,null,null,null,null,null,null,null,null,null,null,null,null,null,{"$f":"IF(RawData!A41938<>\"\",ROW(RawData!A41938),0)","v":0},{"$f":"IF(RawData!A41938=\"\",\"blank\",\"\")","v":"blank"}]
[null,null,null,null,null,null,null,null,null,null,null,null,null,null,null,null,null,null,null,null,null,{"$f":"IF(RawData!A41987<>\"\",ROW(RawData!A41987),0)","v":0},{"$f":"IF(RawData!A41987=\"\",\"blank\",\"\")","v":"blank"}]
[null,null,null,null,null,null,null,null,null,null,null,null,null,null,null,null,null,null,null,null,null,{"$f":"IF(RawData!A42027<>\"\",ROW(RawData!A42027),0)","v":0},{"$f":"IF(RawData!A42027=\"\",\"blank\",\"\")","v":"blank"}]
[null,null,null,null,null,null,null,null,null,null,null,null,null,null,null,null,null,null,null,null,null,{"$f":"IF(RawData!A42086<>\"\",ROW(RawData!A42086),0)","v":0},{"$f":"IF(RawData!A42086=\"\",\"blank\",\"\")","v":"blank"}]
[null,null,null,null,null,null,null,null,null,null,null,null,null,null,null,null,null,null,null,null,null,{"$f":"IF(RawData!A42199<>\"\",ROW(RawData!A42199),0)","v":0},{"$f":"IF(RawData!A42199=\"\",\"blank\",\"\")","v":"blank"}]
[null,null,null,null,null,null,null,null,null,null,null,null,null,null,null,null,null,null,null,null,null,{"$f":"IF(RawData!A42248<>\"\",ROW(RawData!A42248),0)","v":0},{"$f":"IF(RawData!A42248=\"\",\"blank\",\"\")","v":"blank"}]
[null,null,null,null,null,null,null,null,null,null,null,null,null,null,null,null,null,null,null,null,null,{"$f":"IF(RawData!A42291<>\"\",ROW(RawData!A42291),0)","v":0},{"$f":"IF(RawData!A42291=\"\",\"blank\",\"\")","v":"blank"}]
[null,null,null,null,null,null,null,null,null,null,null,null,null,null,null,null,null,null,null,null,null,{"$f":"IF(RawData!A42347<>\"\",ROW(RawData!A42347),0)","v":0},{"$f":"IF(RawData!A42347=\"\",\"blank\",\"\")","v":"blank"}]
[null,null,null,null,null,null,null,null,null,null,null,null,null,null,null,null,null,null,null,null,null,{"$f":"IF(RawData!A42460<>\"\",ROW(RawData!A42460),0)","v":0},{"$f":"IF(RawData!A42460=\"\",\"blank\",\"\")","v":"blank"}]
[null,null,null,null,null,null,null,null,null,null,null,null,null,null,null,null,null,null,null,null,null,{"$f":"IF(RawData!A42475<>\"\",ROW(RawData!A42475),0)","v":0},{"$f":"IF(RawData!A42475=\"\",\"blank\",\"\")","v":"blank"}]
[null,null,null,null,null,null,null,null,null,null,null,null,null,null,null,null,null,null,null,null,null,{"$f":"IF(RawData!A42559<>\"\",ROW(RawData!A42559),0)","v":0},{"$f":"IF(RawData!A42559=\"\",\"blank\",\"\")","v":"blank"}]
[null,null,null,null,null,null,null,null,null,null,null,null,null,null,null,null,null,null,null,null,null,{"$f":"IF(RawData!A42608<>\"\",ROW(RawData!A42608),0)","v":0},{"$f":"IF(RawData!A42608=\"\",\"blank\",\"\")","v":"blank"}]
[null,null,null,null,null,null,null,null,null,null,null,null,null,null,null,null,null,null,null,null,null,{"$f":"IF(RawData!A42657<>\"\",ROW(RawData!A42657),0)","v":0},{"$f":"IF(RawData!A42657=\"\",\"blank\",\"\")","v":"blank"}]
[null,null,null,null,null,null,null,null,null,null,null,null,null,null,null,null,null,null,null,null,null,{"$f":"IF(RawData!A42743<>\"\",ROW(RawData!A42743),0)","v":0},{"$f":"IF(RawData!A42743=\"\",\"blank\",\"\")","v":"blank"}]
[null,null,null,null,null,null,null,null,null,null,null,null,null,null,null,null,null,null,null,null,null,{"$f":"IF(RawData!A42820<>\"\",ROW(RawData!A42820),0)","v":0},{"$f":"IF(RawData!A42820=\"\",\"blank\",\"\")","v":"blank"}]
[null,null,null,null,null,null,null,null,null,null,null,null,null,null,null,null,null,null,null,null,null,{"$f":"IF(RawData!A42869<>\"\",ROW(RawData!A42869),0)","v":0},{"$f":"IF(RawData!A42869=\"\",\"blank\",\"\")","v":"blank"}]
[null,null,null,null,null,null,null,null,null,null,null,null,null,null,null,null,null,null,null,null,null,{"$f":"IF(RawData!A42923<>\"\",ROW(RawData!A42923),0)","v":0},{"$f":"IF(RawData!A42923=\"\",\"blank\",\"\")","v":"blank"}]
[null,null,null,null,null,null,null,null,null,null,null,null,null,null,null,null,null,null,null,null,null,{"$f":"IF(RawData!A43032<>\"\",ROW(RawData!A43032),0)","v":0},{"$f":"IF(RawData!A43032=\"\",\"blank\",\"\")","v":"blank"}]
[null,null,null,null,null,null,null,null,null,null,null,null,null,null,null,null,null,null,null,null,null,{"$f":"IF(RawData!A43081<>\"\",ROW(RawData!A43081),0)","v":0},{"$f":"IF(RawData!A43081=\"\",\"blank\",\"\")","v":"blank"}]
[null,null,null,null,null,null,null,null,null,null,null,null,null,null,null,null,null,null,null,null,null,{"$f":"IF(RawData!A43130<>\"\",ROW(RawData!A43130),0)","v":0},{"$f":"IF(RawData!A43130=\"\",\"blank\",\"\")","v":"blank"}]
[null,null,null,null,null,null,null,null,null,null,null,null,null,null,null,null,null,null,null,null,null,{"$f":"IF(RawData!A43191<>\"\",ROW(RawData!A43191),0)","v":0},{"$f":"IF(RawData!A43191=\"\",\"blank\",\"\")","v":"blank"}]
[null,null,null,null,null,null,null,null,null,null,null,null,null,null,null,null,null,null,null,null,null,{"$f":"IF(RawData!A43293<>\"\",ROW(RawData!A43293),0)","v":0},{"$f":"IF(RawData!A43293=\"\",\"blank\",\"\")","v":"blank"}]
[null,null,null,null,null,null,null,null,null,null,null,null,null,null,null,null,null,null,null,null,null,{"$f":"IF(RawData!A43342<>\"\",ROW(RawData!A43342),0)","v":0},{"$f":"IF(RawData!A43342=\"\",\"blank\",\"\")","v":"blank"}]
[null,null,null,null,null,null,null,null,null,null,null,null,null,null,null,null,null,null,null,null,null,{"$f":"IF(RawData!A43375<>\"\",ROW(RawData!A43375),0)","v":0},{"$f":"IF(RawData!A43375=\"\",\"blank\",\"\")","v":"blank"}]
[null,null,null,null,null,null,null,null,null,null,null,null,null,null,null,null,null,null,null,null,null,{"$f":"IF(RawData!A43441<>\"\",ROW(RawData!A43441),0)","v":0},{"$f":"IF(RawData!A43441=\"\",\"blank\",\"\")","v":"blank"}]
[null,null,null,null,null,null,null,null,null,null,null,null,null,null,null,null,null,null,null,null,null,{"$f":"IF(RawData!A43554<>\"\",ROW(RawData!A43554),0)","v":0},{"$f":"IF(RawData!A43554=\"\",\"blank\",\"\")","v":"blank"}]
[null,null,null,null,null,null,null,null,null,null,null,null,null,null,null,null,null,null,null,null,null,{"$f":"IF(RawData!A43603<>\"\",ROW(RawData!A43603),0)","v":0},{"$f":"IF(RawData!A43603=\"\",\"blank\",\"\")","v":"blank"}]
[null,null,null,null,null,null,null,null,null,null,null,null,null,null,null,null,null,null,null,null,null,{"$f":"IF(RawData!A43639<>\"\",ROW(RawData!A43639),0)","v":0},{"$f":"IF(RawData!A43639=\"\",\"blank\",\"\")","v":"blank"}]
[null,null,null,null,null,null,null,null,null,null,null,null,null,null,null,null,null,null,null,null,null,{"$f":"IF(RawData!A43702<>\"\",ROW(RawData!A43702),0)","v":0},{"$f":"IF(RawData!A43702=\"\",\"blank\",\"\")","v":"blank"}]
[null,null,null,null,null,null,null,null,null,null,null,null,null,null,null,null,null,null,null,null,null,{"$f":"IF(RawData!A43751<>\"\",ROW(RawData!A43751),0)","v":0},{"$f":"IF(RawData!A43751=\"\",\"blank\",\"\")","v":"blank"}]
[null,null,null,null,null,null,null,null,null,null,null,null,null,null,null,null,null,null,null,null,null,{"$f":"IF(RawData!A43823<>\"\",ROW(RawData!A43823),0)","v":0},{"$f":"IF(RawData!A43823=\"\",\"blank\",\"\")","v":"blank"}]
[null,null,null,null,null,null,null,null,null,null,null,null,null,null,null,null,null,null,null,null,null,{"$f":"IF(RawData!A43914<>\"\",ROW(RawData!A43914),0)","v":0},{"$f":"IF(RawData!A43914=\"\",\"blank\",\"\")","v":"blank"}]
[null,null,null,null,null,null,null,null,null,null,null,null,null,null,null,null,null,null,null,null,null,{"$f":"IF(RawData!A43963<>\"\",ROW(RawData!A43963),0)","v":0},{"$f":"IF(RawData!A43963=\"\",\"blank\",\"\")","v":"blank"}]
[null,null,null,null,null,null,null,null,null,null,null,null,null,null,null,null,null,null,null,null,null,{"$f":"IF(RawData!A44012<>\"\",ROW(RawData!A44012),0)","v":0},{"$f":"IF(RawData!A44012=\"\",\"blank\",\"\")","v":"blank"}]
[null,null,null,null,null,null,null,null,null,null,null,null,null,null,null,null,null,null,null,null,null,{"$f":"IF(RawData!A44091<>\"\",ROW(RawData!A44091),0)","v":0},{"$f":"IF(RawData!A44091=\"\",\"blank\",\"\")","v":"blank"}]
[null,null,null,null,null,null,null,null,null,null,null,null,null,null,null,null,null,null,null,null,null,{"$f":"IF(RawData!A44175<>\"\",ROW(RawData!A44175),0)","v":0},{"$f":"IF(RawData!A44175=\"\",\"blank\",\"\")","v":"blank"}]
[null,null,null,null,null,null,null,null,null,null,null,null,null,null,null,null,null,null,null,null,null,{"$f":"IF(RawData!A44224<>\"\",ROW(RawData!A44224),0)","v":0},{"$f":"IF(RawData!A44224=\"\",\"blank\",\"\")","v":"blank"}]
[null,null,null,null,null,null,null,null,null,null,null,null,null,null,null,null,null,null,null,null,null,{"$f":"IF(RawData!A44271<>\"\",ROW(RawData!A44271),0)","v":0},{"$f":"IF(RawData!A44271=\"\",\"blank\",\"\")","v":"blank"}]
[null,null,null,null,null,null,null,null,null,null,null,null,null,null,null,null,null,null,null,null,null,{"$f":"IF(RawData!A44387<>\"\",ROW(RawData!A44387),0)","v":0},{"$f":"IF(RawData!A44387=\"\",\"blank\",\"\")","v":"blank"}]
[null,null,null,null,null,null,null,null,null,null,null,null,null,null,null,null,null,null,null,null,null,{"$f":"IF(RawData!A44436<>\"\",ROW(RawData!A44436),0)","v":0},{"$f":"IF(RawData!A44436=\"\",\"blank\",\"\")","v":"blank"}]
[null,null,null,null,null,null,null,null,null,null,null,null,null,null,null,null,null,null,null,null,null,{"$f":"IF(RawData!A44485<>\"\",ROW(RawData!A44485),0)","v":0},{"$f":"IF(RawData!A44485=\"\",\"blank\",\"\")","v":"blank"}]
[null,null,null,null,null,null,null,null,null,null,null,null,null,null,null,null,null,null,null,null,null,{"$f":"IF(RawData!A44539<>\"\",ROW(RawData!A44539),0)","v":0},{"$f":"IF(RawData!A44539=\"\",\"blank\",\"\")","v":"blank"}]
[null,null,null,null,null,null,null,null,null,null,null,null,null,null,null,null,null,null,null,null,null,{"$f":"IF(RawData!A44648<>\"\",ROW(RawData!A44648),0)","v":0},{"$f":"IF(RawData!A44648=\"\",\"blank\",\"\")","v":"blank"}]
[null,null,null,null,null,null,null,null,null,null,null,null,null,null,null,null,null,null,null,null,null,{"$f":"IF(RawData!A44697<>\"\",ROW(RawData!A44697),0)","v":0},{"$f":"IF(RawData!A44697=\"\",\"blank\",\"\")","v":"blank"}]
[null,null,null,null,null,null,null,null,null,null,null,null,null,null,null,null,null,null,null,null,null,{"$f":"IF(RawData!A44723<>\"\",ROW(RawData!A44723),0)","v":0},{"$f":"IF(RawData!A44723=\"\",\"blank\",\"\")","v":"blank"}]
[null,null,null,null,null,null,null,null,null,null,null,null,null,null,null,null,null,null,null,null,null,{"$f":"IF(RawData!A44796<>\"\",ROW(RawData!A44796),0)","v":0},{"$f":"IF(RawData!A44796=\"\",\"blank\",\"\")","v":"blank"}]
[null,null,null,null,null,null,null,null,null,null,null,null,null,null,null,null,null,null,null,null,null,{"$f":"IF(RawData!A44845<>\"\",ROW(RawData!A44845),0)","v":0},{"$f":"IF(RawData!A44845=\"\",\"blank\",\"\")","v":"blank"}]
[null,null,null,null,null,null,null,null,null,null,null,null,null,null,null,null,null,null,null,null,null,{"$f":"IF(RawData!A44958<>\"\",ROW(RawData!A44958),0)","v":0},{"$f":"IF(RawData!A44958=\"\",\"blank\",\"\")","v":"blank"}]
[null,null,null,null,null,null,null,null,null,null,null,null,null,null,null,null,null,null,null,null,null,{"$f":"IF(RawData!A44987<>\"\",ROW(RawData!A44987),0)","v":0},{"$f":"IF(RawData!A44987=\"\",\"blank\",\"\")","v":"blank"}]
[null,null,null,null,null,null,null,null,null,null,null,null,null,null,null,null,null,null,null,null,null,{"$f":"IF(RawData!A45057<>\"\",ROW(RawData!A45057),0)","v":0},{"$f":"IF(RawData!A45057=\"\",\"blank\",\"\")","v":"blank"}]
[null,null,null,null,null,null,null,null,null,null,null,null,null,null,null,null,null,null,null,null,null,{"$f":"IF(RawData!A45106<>\"\",ROW(RawData!A45106),0)","v":0},{"$f":"IF(RawData!A45106=\"\",\"blank\",\"\")","v":"blank"}]
[null,null,null,null,null,null,null,null,null,null,null,null,null,null,null,null,null,null,null,null,null,{"$f":"IF(RawData!A45171<>\"\",ROW(RawData!A45171),0)","v":0},{"$f":"IF(RawData!A45171=\"\",\"blank\",\"\")","v":"blank"}]
[null,null,null,null,null,null,null,null,null,null,null,null,null,null,null,null,null,null,null,null,null,{"$f":"IF(RawData!A45269<>\"\",ROW(RawData!A45269),0)","v":0},{"$f":"IF(RawData!A45269=\"\",\"blank\",\"\")","v":"blank"}]
[null,null,null,null,null,null,null,null,null,null,null,null,null,null,null,null,null,null,null,null,null,{"$f":"IF(RawData!A45318<>\"\",ROW(RawData!A45318),0)","v":0},{"$f":"IF(RawData!A45318=\"\",\"blank\",\"\")","v":"blank"}]
[null,null,null,null,null,null,null,null,null,null,null,null,null,null,null,null,null,null,null,null,null,{"$f":"IF(RawData!A45420<>\"\",ROW(RawData!A45420),0)","v":0},{"$f":"IF(RawData!A45420=\"\",\"blank\",\"\")","v":"blank"}]
[null,null,null,null,null,null,null,null,null,null,null,null,null,null,null,null,null,null,null,null,null,{"$f":"IF(RawData!A45481<>\"\",ROW(RawData!A45481),0)","v":0},{"$f":"IF(RawData!A45481=\"\",\"blank\",\"\")","v":"blank"}]
[null,null,null,null,null,null,null,null,null,null,null,null,null,null,null,null,null,null,null,null,null,{"$f":"IF(RawData!A45530<>\"\",ROW(RawData!A45530),0)","v":0},{"$f":"IF(RawData!A45530=\"\",\"blank\",\"\")","v":"blank"}]
[null,null,null,null,null,null,null,null,null,null,null,null,null,null,null,null,null,null,null,null,null,{"$f":"IF(RawData!A45579<>\"\",ROW(RawData!A45579),0)","v":0},{"$f":"IF(RawData!A45579=\"\",\"blank\",\"\")","v":"blank"}]
[null,null,null,null,null,null,null,null,null,null,null,null,null,null,null,null,null,null,null,null,null,{"$f":"IF(RawData!A45619<>\"\",ROW(RawData!A45619),0)","v":0},{"$f":"IF(RawData!A45619=\"\",\"blank\",\"\")","v":"blank"}]
[null,null,null,null,null,null,null,null,null,null,null,null,null,null,null,null,null,null,null,null,null,{"$f":"IF(RawData!A45678<>\"\",ROW(RawData!A45678),0)","v":0},{"$f":"IF(RawData!A45678=\"\",\"blank\",\"\")","v":"blank"}]
[null,null,null,null,null,null,null,null,null,null,null,null,null,null,null,null,null,null,null,null,null,{"$f":"IF(RawData!A45791<>\"\",ROW(RawData!A45791),0)","v":0},{"$f":"IF(RawData!A45791=\"\",\"blank\",\"\")","v":"blank"}]
[null,null,null,null,null,null,null,null,null,null,null,null,null,null,null,null,null,null,null,null,null,{"$f":"IF(RawData!A45868<>\"\",ROW(RawData!A45868),0)","v":0},{"$f":"IF(RawData!A45868=\"\",\"blank\",\"\")","v":"blank"}]
[null,null,null,null,null,null,null,null,null,null,null,null,null,null,null,null,null,null,null,null,null,{"$f":"IF(RawData!A45890<>\"\",ROW(RawData!A45890),0)","v":0},{"$f":"IF(RawData!A45890=\"\",\"blank\",\"\")","v":"blank"}]
[null,null,null,null,null,null,null,null,null,null,null,null,null,null,null,null,null,null,null,null,null,{"$f":"IF(RawData!A45939<>\"\",ROW(RawData!A45939),0)","v":0},{"$f":"IF(RawData!A45939=\"\",\"blank\",\"\")","v":"blank"}]
[null,null,null,null,null,null,null,null,null,null,null,null,null,null,null,null,null,null,null,null,null,{"$f":"IF(RawData!A46052<>\"\",ROW(RawData!A46052),0)","v":0},{"$f":"IF(RawData!A46052=\"\",\"blank\",\"\")","v":"blank"}]
[null,null,null,null,null,null,null,null,null,null,null,null,null,null,null,null,null,null,null,null,null,{"$f":"IF(RawData!A46071<>\"\",ROW(RawData!A46071),0)","v":0},{"$f":"IF(RawData!A46071=\"\",\"blank\",\"\")","v":"blank"}]
[null,null,null,null,null,null,null,null,null,null,null,null,null,null,null,null,null,null,null,null,null,{"$f":"IF(RawData!A46151<>\"\",ROW(RawData!A46151),0)","v":0},{"$f":"IF(RawData!A46151=\"\",\"blank\",\"\")","v":"blank"}]
[null,null,null,null,null,null,null,null,null,null,null,null,null,null,null,null,null,null,null,null,null,{"$f":"IF(RawData!A46200<>\"\",ROW(RawData!A46200),0)","v":0},{"$f":"IF(RawData!A46200=\"\",\"blank\",\"\")","v":"blank"}]
[null,null,null,null,null,null,null,null,null,null,null,null,null,null,null,null,null,null,null,null,null,{"$f":"IF(RawData!A46320<>\"\",ROW(RawData!A46320),0)","v":0},{"$f":"IF(RawData!A46320=\"\",\"blank\",\"\")","v":"blank"}]
[null,null,null,null,null,null,null,null,null,null,null,null,null,null,null,null,null,null,null,null,null,{"$f":"IF(RawData!A46363<>\"\",ROW(RawData!A46363),0)","v":0},{"$f":"IF(RawData!A46363=\"\",\"blank\",\"\")","v":"blank"}]
[null,null,null,null,null,null,null,null,null,null,null,null,null,null,null,null,null,null,null,null,null,{"$f":"IF(RawData!A46412<>\"\",ROW(RawData!A46412),0)","v":0},{"$f":"IF(RawData!A46412=\"\",\"blank\",\"\")","v":"blank"}]
[null,null,null,null,null,null,null,null,null,null,null,null,null,null,null,null,null,null,null,null,null,{"$f":"IF(RawData!A46461<>\"\",ROW(RawData!A46461),0)","v":0},{"$f":"IF(RawData!A46461=\"\",\"blank\",\"\")","v":"blank"}]
[null,null,null,null,null,null,null,null,null,null,null,null,null,null,null,null,null,null,null,null,null,{"$f":"IF(RawData!A46519<>\"\",ROW(RawData!A46519),0)","v":0},{"$f":"IF(RawData!A46519=\"\",\"blank\",\"\")","v":"blank"}]
[null,null,null,null,null,null,null,null,null,null,null,null,null,null,null,null,null,null,null,null,null,{"$f":"IF(RawData!A46624<>\"\",ROW(RawData!A46624),0)","v":0},{"$f":"IF(RawData!A46624=\"\",\"blank\",\"\")","v":"blank"}]
[null,null,null,null,null,null,null,null,null,null,null,null,null,null,null,null,null,null,null,null,null,{"$f":"IF(RawData!A46673<>\"\",ROW(RawData!A46673),0)","v":0},{"$f":"IF(RawData!A46673=\"\",\"blank\",\"\")","v":"blank"}]
[null,null,null,null,null,null,null,null,null,null,null,null,null,null,null,null,null,null,null,null,null,{"$f":"IF(RawData!A46768<>\"\",ROW(RawData!A46768),0)","v":0},{"$f":"IF(RawData!A46768=\"\",\"blank\",\"\")","v":"blank"}]
[null,null,null,null,null,null,null,null,null,null,null,null,null,null,null,null,null,null,null,null,null,{"$f":"IF(RawData!A46772<>\"\",ROW(RawData!A46772),0)","v":0},{"$f":"IF(RawData!A46772=\"\",\"blank\",\"\")","v":"blank"}]
[null,null,null,null,null,null,null,null,null,null,null,null,null,null,null,null,null,null,null,null,null,{"$f":"IF(RawData!A46885<>\"\",ROW(RawData!A46885),0)","v":0},{"$f":"IF(RawData!A46885=\"\",\"blank\",\"\")","v":"blank"}]
[null,null,null,null,null,null,null,null,null,null,null,null,null,null,null,null,null,null,null,null,null,{"$f":"IF(RawData!A46934<>\"\",ROW(RawData!A46934),0)","v":0},{"$f":"IF(RawData!A46934=\"\",\"blank\",\"\")","v":"blank"}]
[null,null,null,null,null,null,null,null,null,null,null,null,null,null,null,null,null,null,null,null,null,{"$f":"IF(RawData!A46967<>\"\",ROW(RawData!A46967),0)","v":0},{"$f":"IF(RawData!A46967=\"\",\"blank\",\"\")","v":"blank"}]
[null,null,null,null,null,null,null,null,null,null,null,null,null,null,null,null,null,null,null,null,null,{"$f":"IF(RawData!A47033<>\"\",ROW(RawData!A47033),0)","v":0},{"$f":"IF(RawData!A47033=\"\",\"blank\",\"\")","v":"blank"}]
[null,null,null,null,null,null,null,null,null,null,null,null,null,null,null,null,null,null,null,null,null,{"$f":"IF(RawData!A47146<>\"\",ROW(RawData!A47146),0)","v":0},{"$f":"IF(RawData!A47146=\"\",\"blank\",\"\")","v":"blank"}]
[null,null,null,null,null,null,null,null,null,null,null,null,null,null,null,null,null,null,null,null,null,{"$f":"IF(RawData!A47216<>\"\",ROW(RawData!A47216),0)","v":0},{"$f":"IF(RawData!A47216=\"\",\"blank\",\"\")","v":"blank"}]
[null,null,null,null,null,null,null,null,null,null,null,null,null,null,null,null,null,null,null,null,null,{"$f":"IF(RawData!A47245<>\"\",ROW(RawData!A47245),0)","v":0},{"$f":"IF(RawData!A47245=\"\",\"blank\",\"\")","v":"blank"}]
[null,null,null,null,null,null,null,null,null,null,null,null,null,null,null,null,null,null,null,null,null,{"$f":"IF(RawData!A47294<>\"\",ROW(RawData!A47294),0)","v":0},{"$f":"IF(RawData!A47294=\"\",\"blank\",\"\")","v":"blank"}]
[null,null,null,null,null,null,null,null,null,null,null,null,null,null,null,null,null,null,null,null,null,{"$f":"IF(RawData!A47407<>\"\",ROW(RawData!A47407),0)","v":0},{"$f":"IF(RawData!A47407=\"\",\"blank\",\"\")","v":"blank"}]
[null,null,null,null,null,null,null,null,null,null,null,null,null,null,null,null,null,null,null,null,null,{"$f":"IF(RawData!A47419<>\"\",ROW(RawData!A47419),0)","v":0},{"$f":"IF(RawData!A47419=\"\",\"blank\",\"\")","v":"blank"}]
[null,null,null,null,null,null,null,null,null,null,null,null,null,null,null,null,null,null,null,null,null,{"$f":"IF(RawData!A47506<>\"\",ROW(RawData!A47506),0)","v":0},{"$f":"IF(RawData!A47506=\"\",\"blank\",\"\")","v":"blank"}]
[null,null,null,null,null,null,null,null,null,null,null,null,null,null,null,null,null,null,null,null,null,{"$f":"IF(RawData!A47555<>\"\",ROW(RawData!A47555),0)","v":0},{"$f":"IF(RawData!A47555=\"\",\"blank\",\"\")","v":"blank"}]
[null,null,null,null,null,null,null,null,null,null,null,null,null,null,null,null,null,null,null,null,null,{"$f":"IF(RawData!A47668<>\"\",ROW(RawData!A47668),0)","v":0},{"$f":"IF(RawData!A47668=\"\",\"blank\",\"\")","v":"blank"}]
[null,null,null,null,null,null,null,null,null,null,null,null,null,null,null,null,null,null,null,null,null,{"$f":"IF(RawData!A47718<>\"\",ROW(RawData!A47718),0)","v":0},{"$f":"IF(RawData!A47718=\"\",\"blank\",\"\")","v":"blank"}]
[null,null,null,null,null,null,null,null,null,null,null,null,null,null,null,null,null,null,null,null,null,{"$f":"IF(RawData!A47767<>\"\",ROW(RawData!A47767),0)","v":0},{"$f":"IF(RawData!A47767=\"\",\"blank\",\"\")","v":"blank"}]
[null,null,null,null,null,null,null,null,null,null,null,null,null,null,null,null,null,null,null,null,null,{"$f":"IF(RawData!A47816<>\"\",ROW(RawData!A47816),0)","v":0},{"$f":"IF(RawData!A47816=\"\",\"blank\",\"\")","v":"blank"}]
[null,null,null,null,null,null,null,null,null,null,null,null,null,null,null,null,null,null,null,null,null,{"$f":"IF(RawData!A47867<>\"\",ROW(RawData!A47867),0)","v":0},{"$f":"IF(RawData!A47867=\"\",\"blank\",\"\")","v":"blank"}]
[null,null,null,null,null,null,null,null,null,null,null,null,null,null,null,null,null,null,null,null,null,{"$f":"IF(RawData!A47979<>\"\",ROW(RawData!A47979),0)","v":0},{"$f":"IF(RawData!A47979=\"\",\"blank\",\"\")","v":"blank"}]
[null,null,null,null,null,null,null,null,null,null,null,null,null,null,null,null,null,null,null,null,null,{"$f":"IF(RawData!A48028<>\"\",ROW(RawData!A48028),0)","v":0},{"$f":"IF(RawData!A48028=\"\",\"blank\",\"\")","v":"blank"}]
[null,null,null,null,null,null,null,null,null,null,null,null,null,null,null,null,null,null,null,null,null,{"$f":"IF(RawData!A48116<>\"\",ROW(RawData!A48116),0)","v":0},{"$f":"IF(RawData!A48116=\"\",\"blank\",\"\")","v":"blank"}]
[null,null,null,null,null,null,null,null,null,null,null,null,null,null,null,null,null,null,null,null,null,{"$f":"IF(RawData!A48127<>\"\",ROW(RawData!A48127),0)","v":0},{"$f":"IF(RawData!A48127=\"\",\"blank\",\"\")","v":"blank"}]
[null,null,null,null,null,null,null,null,null,null,null,null,null,null,null,null,null,null,null,null,null,{"$f":"IF(RawData!A48240<>\"\",ROW(RawData!A48240),0)","v":0},{"$f":"IF(RawData!A48240=\"\",\"blank\",\"\")","v":"blank"}]
[null,null,null,null,null,null,null,null,null,null,null,null,null,null,null,null,null,null,null,null,null,{"$f":"IF(RawData!A48289<>\"\",ROW(RawData!A48289),0)","v":0},{"$f":"IF(RawData!A48289=\"\",\"blank\",\"\")","v":"blank"}]
[null,null,null,null,null,null,null,null,null,null,null,null,null,null,null,null,null,null,null,null,null,{"$f":"IF(RawData!A48315<>\"\",ROW(RawData!A48315),0)","v":0},{"$f":"IF(RawData!A48315=\"\",\"blank\",\"\")","v":"blank"}]
[null,null,null,null,null,null,null,null,null,null,null,null,null,null,null,null,null,null,null,null,null,{"$f":"IF(RawData!A48388<>\"\",ROW(RawData!A48388),0)","v":0},{"$f":"IF(RawData!A48388=\"\",\"blank\",\"\")","v":"blank"}]
[null,null,null,null,null,null,null,null,null,null,null,null,null,null,null,null,null,null,null,null,null,{"$f":"IF(RawData!A48501<>\"\",ROW(RawData!A48501),0)","v":0},{"$f":"IF(RawData!A48501=\"\",\"blank\",\"\")","v":"blank"}]
[null,null,null,null,null,null,null,null,null,null,null,null,null,null,null,null,null,null,null,null,null,{"$f":"IF(RawData!A48564<>\"\",ROW(RawData!A48564),0)","v":0},{"$f":"IF(RawData!A48564=\"\",\"blank\",\"\")","v":"blank"}]
[null,null,null,null,null,null,null,null,null,null,null,null,null,null,null,null,null,null,null,null,null,{"$f":"IF(RawData!A48600<>\"\",ROW(RawData!A48600),0)","v":0},{"$f":"IF(RawData!A48600=\"\",\"blank\",\"\")","v":"blank"}]
[null,null,null,null,null,null,null,null,null,null,null,null,null,null,null,null,null,null,null,null,null,{"$f":"IF(RawData!A48649<>\"\",ROW(RawData!A48649),0)","v":0},{"$f":"IF(RawData!A48649=\"\",\"blank\",\"\")","v":"blank"}]
[null,null,null,null,null,null,null,null,null,null,null,null,null,null,null,null,null,null,null,null,null,{"$f":"IF(RawData!A48762<>\"\",ROW(RawData!A48762),0)","v":0},{"$f":"IF(RawData!A48762=\"\",\"blank\",\"\")","v":"blank"}]
[null,null,null,null,null,null,null,null,null,null,null,null,null,null,null,null,null,null,null,null,null,{"$f":"IF(RawData!A48767<>\"\",ROW(RawData!A48767),0)","v":0},{"$f":"IF(RawData!A48767=\"\",\"blank\",\"\")","v":"blank"}]
[null,null,null,null,null,null,null,null,null,null,null,null,null,null,null,null,null,null,null,null,null,{"$f":"IF(RawData!A48861<>\"\",ROW(RawData!A48861),0)","v":0},{"$f":"IF(RawData!A48861=\"\",\"blank\",\"\")","v":"blank"}]
[null,null,null,null,null,null,null,null,null,null,null,null,null,null,null,null,null,null,null,null,null,{"$f":"IF(RawData!A48910<>\"\",ROW(RawData!A48910),0)","v":0},{"$f":"IF(RawData!A48910=\"\",\"blank\",\"\")","v":"blank"}]
[null,null,null,null,null,null,null,null,null,null,null,null,null,null,null,null,null,null,null,null,null,{"$f":"IF(RawData!A49016<>\"\",ROW(RawData!A49016),0)","v":0},{"$f":"IF(RawData!A49016=\"\",\"blank\",\"\")","v":"blank"}]
[null,null,null,null,null,null,null,null,null,null,null,null,null,null,null,null,null,null,null,null,null,{"$f":"IF(RawData!A49073<>\"\",ROW(RawData!A49073),0)","v":0},{"$f":"IF(RawData!A49073=\"\",\"blank\",\"\")","v":"blank"}]
[null,null,null,null,null,null,null,null,null,null,null,null,null,null,null,null,null,null,null,null,null,{"$f":"IF(RawData!A49122<>\"\",ROW(RawData!A49122),0)","v":0},{"$f":"IF(RawData!A49122=\"\",\"blank\",\"\")","v":"blank"}]
[null,null,null,null,null,null,null,null,null,null,null,null,null,null,null,null,null,null,null,null,null,{"$f":"IF(RawData!A49196<>\"\",ROW(RawData!A49196),0)","v":0},{"$f":"IF(RawData!A49196=\"\",\"blank\",\"\")","v":"blank"}]
[null,null,null,null,null,null,null,null,null,null,null,null,null,null,null,null,null,null,null,null,null,{"$f":"IF(RawData!A49221<>\"\",ROW(RawData!A49221),0)","v":0},{"$f":"IF(RawData!A49221=\"\",\"blank\",\"\")","v":"blank"}]
[null,null,null,null,null,null,null,null,null,null,null,null,null,null,null,null,null,null,null,null,null,{"$f":"IF(RawData!A49334<>\"\",ROW(RawData!A49334),0)","v":0},{"$f":"IF(RawData!A49334=\"\",\"blank\",\"\")","v":"blank"}]
[null,null,null,null,null,null,null,null,null,null,null,null,null,null,null,null,null,null,null,null,null,{"$f":"IF(RawData!A49383<>\"\",ROW(RawData!A49383),0)","v":0},{"$f":"IF(RawData!A49383=\"\",\"blank\",\"\")","v":"blank"}]
[null,null,null,null,null,null,null,null,null,null,null,null,null,null,null,null,null,null,null,null,null,{"$f":"IF(RawData!A49464<>\"\",ROW(RawData!A49464),0)","v":0},{"$f":"IF(RawData!A49464=\"\",\"blank\",\"\")","v":"blank"}]
[null,null,null,null,null,null,null,null,null,null,null,null,null,null,null,null,null,null,null,null,null,{"$f":"IF(RawData!A49482<>\"\",ROW(RawData!A49482),0)","v":0},{"$f":"IF(RawData!A49482=\"\",\"blank\",\"\")","v":"blank"}]
[null,null,null,null,null,null,null,null,null,null,null,null,null,null,null,null,null,null,null,null,null,{"$f":"IF(RawData!A49595<>\"\",ROW(RawData!A49595),0)","v":0},{"$f":"IF(RawData!A49595=\"\",\"blank\",\"\")","v":"blank"}]
[null,null,null,null,null,null,null,null,null,null,null,null,null,null,null,null,null,null,null,null,null,{"$f":"IF(RawData!A49648<>\"\",ROW(RawData!A49648),0)","v":0},{"$f":"IF(RawData!A49648=\"\",\"blank\",\"\")","v":"blank"}]
[null,null,null,null,null,null,null,null,null,null,null,null,null,null,null,null,null,null,null,null,null,{"$f":"IF(RawData!A49694<>\"\",ROW(RawData!A49694),0)","v":0},{"$f":"IF(RawData!A49694=\"\",\"blank\",\"\")","v":"blank"}]
[null,null,null,null,null,null,null,null,null,null,null,null,null,null,null,null,null,null,null,null,null,{"$f":"IF(RawData!A49743<>\"\",ROW(RawData!A49743),0)","v":0},{"$f":"IF(RawData!A49743=\"\",\"blank\",\"\")","v":"blank"}]
[null,null,null,null,null,null,null,null,null,null,null,null,null,null,null,null,null,null,null,null,null,{"$f":"IF(RawData!A49792<>\"\",ROW(RawData!A49792),0)","v":0},{"$f":"IF(RawData!A49792=\"\",\"blank\",\"\")","v":"blank"}]
[null,null,null,null,null,null,null,null,null,null,null,null,null,null,null,null,null,null,null,null,null,{"$f":"IF(RawData!A49912<>\"\",ROW(RawData!A49912),0)","v":0},{"$f":"IF(RawData!A49912=\"\",\"blank\",\"\")","v":"blank"}]
[null,null,null,null,null,null,null,null,null,null,null,null,null,null,null,null,null,null,null,null,null,{"$f":"IF(RawData!A49955<>\"\",ROW(RawData!A49955),0)","v":0},{"$f":"IF(RawData!A49955=\"\",\"blank\",\"\")","v":"blank"}]
[null,null,null,null,null,null,null,null,null,null,null,null,null,null,null,null,null,null,null,null,null,{"$f":"IF(RawData!A50004<>\"\",ROW(RawData!A50004),0)","v":0},{"$f":"IF(RawData!A50004=\"\",\"blank\",\"\")","v":"blank"}]
[null,null,null,null,null,null,null,null,null,null,null,null,null,null,null,null,null,null,null,null,null,{"$f":"IF(RawData!A50096<>\"\",ROW(RawData!A50096),0)","v":0},{"$f":"IF(RawData!A50096=\"\",\"blank\",\"\")","v":"blank"}]
[null,null,null,null,null,null,null,null,null,null,null,null,null,null,null,null,null,null,null,null,null,{"$f":"IF(RawData!A50167<>\"\",ROW(RawData!A50167),0)","v":0},{"$f":"IF(RawData!A50167=\"\",\"blank\",\"\")","v":"blank"}]
[null,null,null,null,null,null,null,null,null,null,null,null,null,null,null,null,null,null,null,null,null,{"$f":"IF(RawData!A50216<>\"\",ROW(RawData!A50216),0)","v":0},{"$f":"IF(RawData!A50216=\"\",\"blank\",\"\")","v":"blank"}]
[null,null,null,null,null,null,null,null,null,null,null,null,null,null,null,null,null,null,null,null,null,{"$f":"IF(RawData!A50265<>\"\",ROW(RawData!A50265),0)","v":0},{"$f":"IF(RawData!A50265=\"\",\"blank\",\"\")","v":"blank"}]
[null,null,null,null,null,null,null,null,null,null,null,null,null,null,null,null,null,null,null,null,null,{"$f":"IF(RawData!A50364<>\"\",ROW(RawData!A50364),0)","v":0},{"$f":"IF(RawData!A50364=\"\",\"blank\",\"\")","v":"blank"}]
[null,null,null,null,null,null,null,null,null,null,null,null,null,null,null,null,null,null,null,null,null,{"$f":"IF(RawData!A50428<>\"\",ROW(RawData!A50428),0)","v":0},{"$f":"IF(RawData!A50428=\"\",\"blank\",\"\")","v":"blank"}]
[null,null,null,null,null,null,null,null,null,null,null,null,null,null,null,null,null,null,null,null,null,{"$f":"IF(RawData!A50477<>\"\",ROW(RawData!A50477),0)","v":0},{"$f":"IF(RawData!A50477=\"\",\"blank\",\"\")","v":"blank"}]
[null,null,null,null,null,null,null,null,null,null,null,null,null,null,null,null,null,null,null,null,null,{"$f":"IF(RawData!A50544<>\"\",ROW(RawData!A50544),0)","v":0},{"$f":"IF(RawData!A50544=\"\",\"blank\",\"\")","v":"blank"}]
[null,null,null,null,null,null,null,null,null,null,null,null,null,null,null,null,null,null,null,null,null,{"$f":"IF(RawData!A50576<>\"\",ROW(RawData!A50576),0)","v":0},{"$f":"IF(RawData!A50576=\"\",\"blank\",\"\")","v":"blank"}]
[null,null,null,null,null,null,null,null,null,null,null,null,null,null,null,null,null,null,null,null,null,{"$f":"IF(RawData!A50689<>\"\",ROW(RawData!A50689),0)","v":0},{"$f":"IF(RawData!A50689=\"\",\"blank\",\"\")","v":"blank"}]
[null,null,null,null,null,null,null,null,null,null,null,null,null,null,null,null,null,null,null,null,null,{"$f":"IF(RawData!A50738<>\"\",ROW(RawData!A50738),0)","v":0},{"$f":"IF(RawData!A50738=\"\",\"blank\",\"\")","v":"blank"}]
[null,null,null,null,null,null,null,null,null,null,null,null,null,null,null,null,null,null,null,null,null,{"$f":"IF(RawData!A50812<>\"\",ROW(RawData!A50812),0)","v":0},{"$f":"IF(RawData!A50812=\"\",\"blank\",\"\")","v":"blank"}]
[null,null,null,null,null,null,null,null,null,null,null,null,null,null,null,null,null,null,null,null,null,{"$f":"IF(RawData!A50837<>\"\",ROW(RawData!A50837),0)","v":0},{"$f":"IF(RawData!A50837=\"\",\"blank\",\"\")","v":"blank"}]
[null,null,null,null,null,null,null,null,null,null,null,null,null,null,null,null,null,null,null,null,null,{"$f":"IF(RawData!A50886<>\"\",ROW(RawData!A50886),0)","v":0},{"$f":"IF(RawData!A50886=\"\",\"blank\",\"\")","v":"blank"}]
[null,null,null,null,null,null,null,null,null,null,null,null,null,null,null,null,null,null,null,null,null,{"$f":"IF(RawData!A50996<>\"\",ROW(RawData!A50996),0)","v":0},{"$f":"IF(RawData!A50996=\"\",\"blank\",\"\")","v":"blank"}]
[null,null,null,null,null,null,null,null,null,null,null,null,null,null,null,null,null,null,null,null,null,{"$f":"IF(RawData!A51049<>\"\",ROW(RawData!A51049),0)","v":0},{"$f":"IF(RawData!A51049=\"\",\"blank\",\"\")","v":"blank"}]
[null,null,null,null,null,null,null,null,null,null,null,null,null,null,null,null,null,null,null,null,null,{"$f":"IF(RawData!A51098<>\"\",ROW(RawData!A51098),0)","v":0},{"$f":"IF(RawData!A51098=\"\",\"blank\",\"\")","v":"blank"}]
[null,null,null,null,null,null,null,null,null,null,null,null,null,null,null,null,null,null,null,null,null,{"$f":"IF(RawData!A51147<>\"\",ROW(RawData!A51147),0)","v":0},{"$f":"IF(RawData!A51147=\"\",\"blank\",\"\")","v":"blank"}]
[null,null,null,null,null,null,null,null,null,null,null,null,null,null,null,null,null,null,null,null,null,{"$f":"IF(RawData!A51260<>\"\",ROW(RawData!A51260),0)","v":0},{"$f":"IF(RawData!A51260=\"\",\"blank\",\"\")","v":"blank"}]
[null,null,null,null,null,null,null,null,null,null,null,null,null,null,null,null,null,null,null,null,null,{"$f":"IF(RawData!A51310<>\"\",ROW(RawData!A51310),0)","v":0},{"$f":"IF(RawData!A51310=\"\",\"blank\",\"\")","v":"blank"}]
[null,null,null,null,null,null,null,null,null,null,null,null,null,null,null,null,null,null,null,null,null,{"$f":"IF(RawData!A51359<>\"\",ROW(RawData!A51359),0)","v":0},{"$f":"IF(RawData!A51359=\"\",\"blank\",\"\")","v":"blank"}]
[null,null,null,null,null,null,null,null,null,null,null,null,null,null,null,null,null,null,null,null,null,{"$f":"IF(RawData!A51444<>\"\",ROW(RawData!A51444),0)","v":0},{"$f":"IF(RawData!A51444=\"\",\"blank\",\"\")","v":"blank"}]
[null,null,null,null,null,null,null,null,null,null,null,null,null,null,null,null,null,null,null,null,null,{"$f":"IF(RawData!A51522<>\"\",ROW(RawData!A51522),0)","v":0},{"$f":"IF(RawData!A51522=\"\",\"blank\",\"\")","v":"blank"}]
[null,null,null,null,null,null,null,null,null,null,null,null,null,null,null,null,null,null,null,null,null,{"$f":"IF(RawData!A51571<>\"\",ROW(RawData!A51571),0)","v":0},{"$f":"IF(RawData!A51571=\"\",\"blank\",\"\")","v":"blank"}]
[null,null,null,null,null,null,null,null,null,null,null,null,null,null,null,null,null,null,null,null,null,{"$f":"IF(RawData!A51620<>\"\",ROW(RawData!A51620),0)","v":0},{"$f":"IF(RawData!A51620=\"\",\"blank\",\"\")","v":"blank"}]
[null,null,null,null,null,null,null,null,null,null,null,null,null,null,null,null,null,null,null,null,null,{"$f":"IF(RawData!A51712<>\"\",ROW(RawData!A51712),0)","v":0},{"$f":"IF(RawData!A51712=\"\",\"blank\",\"\")","v":"blank"}]
[null,null,null,null,null,null,null,null,null,null,null,null,null,null,null,null,null,null,null,null,null,{"$f":"IF(RawData!A51783<>\"\",ROW(RawData!A51783),0)","v":0},{"$f":"IF(RawData!A51783=\"\",\"blank\",\"\")","v":"blank"}]
[null,null,null,null,null,null,null,null,null,null,null,null,null,null,null,null,null,null,null,null,null,{"$f":"IF(RawData!A51832<>\"\",ROW(RawData!A51832),0)","v":0},{"$f":"IF(RawData!A51832=\"\",\"blank\",\"\")","v":"blank"}]
[null,null,null,null,null,null,null,null,null,null,null,null,null,null,null,null,null,null,null,null,null,{"$f":"IF(RawData!A51892<>\"\",ROW(RawData!A51892),0)","v":0},{"$f":"IF(RawData!A51892=\"\",\"blank\",\"\")","v":"blank"}]
[null,null,null,null,null,null,null,null,null,null,null,null,null,null,null,null,null,null,null,null,null,{"$f":"IF(RawData!A51931<>\"\",ROW(RawData!A51931),0)","v":0},{"$f":"IF(RawData!A51931=\"\",\"blank\",\"\")","v":"blank"}]
[null,null,null,null,null,null,null,null,null,null,null,null,null,null,null,null,null,null,null,null,null,{"$f":"IF(RawData!A51980<>\"\",ROW(RawData!A51980),0)","v":0},{"$f":"IF(RawData!A51980=\"\",\"blank\",\"\")","v":"blank"}]
[null,null,null,null,null,null,null,null,null,null,null,null,null,null,null,null,null,null,null,null,null,{"$f":"IF(RawData!A52093<>\"\",ROW(RawData!A52093),0)","v":0},{"$f":"IF(RawData!A52093=\"\",\"blank\",\"\")","v":"blank"}]
[null,null,null,null,null,null,null,null,null,null,null,null,null,null,null,null,null,null,null,null,null,{"$f":"IF(RawData!A52160<>\"\",ROW(RawData!A52160),0)","v":0},{"$f":"IF(RawData!A52160=\"\",\"blank\",\"\")","v":"blank"}]
[null,null,null,null,null,null,null,null,null,null,null,null,null,null,null,null,null,null,null,null,null,{"$f":"IF(RawData!A52192<>\"\",ROW(RawData!A52192),0)","v":0},{"$f":"IF(RawData!A52192=\"\",\"blank\",\"\")","v":"blank"}]
[null,null,null,null,null,null,null,null,null,null,null,null,null,null,null,null,null,null,null,null,null,{"$f":"IF(RawData!A52241<>\"\",ROW(RawData!A52241),0)","v":0},{"$f":"IF(RawData!A52241=\"\",\"blank\",\"\")","v":"blank"}]
[null,null,null,null,null,null,null,null,null,null,null,null,null,null,null,null,null,null,null,null,null,{"$f":"IF(RawData!A52344<>\"\",ROW(RawData!A52344),0)","v":0},{"$f":"IF(RawData!A52344=\"\",\"blank\",\"\")","v":"blank"}]
[null,null,null,null,null,null,null,null,null,null,null,null,null,null,null,null,null,null,null,null,null,{"$f":"IF(RawData!A52404<>\"\",ROW(RawData!A52404),0)","v":0},{"$f":"IF(RawData!A52404=\"\",\"blank\",\"\")","v":"blank"}]
[null,null,null,null,null,null,null,null,null,null,null,null,null,null,null,null,null,null,null,null,null,{"$f":"IF(RawData!A52453<>\"\",ROW(RawData!A52453),0)","v":0},{"$f":"IF(RawData!A52453=\"\",\"blank\",\"\")","v":"blank"}]
[null,null,null,null,null,null,null,null,null,null,null,null,null,null,null,null,null,null,null,null,null,{"$f":"IF(RawData!A52502<>\"\",ROW(RawData!A52502),0)","v":0},{"$f":"IF(RawData!A52502=\"\",\"blank\",\"\")","v":"blank"}]
[null,null,null,null,null,null,null,null,null,null,null,null,null,null,null,null,null,null,null,null,null,{"$f":"IF(RawData!A52608<>\"\",ROW(RawData!A52608),0)","v":0},{"$f":"IF(RawData!A52608=\"\",\"blank\",\"\")","v":"blank"}]
[null,null,null,null,null,null,null,null,null,null,null,null,null,null,null,null,null,null,null,null,null,{"$f":"IF(RawData!A52665<>\"\",ROW(RawData!A52665),0)","v":0},{"$f":"IF(RawData!A52665=\"\",\"blank\",\"\")","v":"blank"}]
[null,null,null,null,null,null,null,null,null,null,null,null,null,null,null,null,null,null,null,null,null,{"$f":"IF(RawData!A52714<>\"\",ROW(RawData!A52714),0)","v":0},{"$f":"IF(RawData!A52714=\"\",\"blank\",\"\")","v":"blank"}]
[null,null,null,null,null,null,null,null,null,null,null,null,null,null,null,null,null,null,null,null,null,{"$f":"IF(RawData!A52792<>\"\",ROW(RawData!A52792),0)","v":0},{"$f":"IF(RawData!A52792=\"\",\"blank\",\"\")","v":"blank"}]
[null,null,null,null,null,null,null,null,null,null,null,null,null,null,null,null,null,null,null,null,null,{"$f":"IF(RawData!A52877<>\"\",ROW(RawData!A52877),0)","v":0},{"$f":"IF(RawData!A52877=\"\",\"blank\",\"\")","v":"blank"}]
[null,null,null,null,null,null,null,null,null,null,null,null,null,null,null,null,null,null,null,null,null,{"$f":"IF(RawData!A52926<>\"\",ROW(RawData!A52926),0)","v":0},{"$f":"IF(RawData!A52926=\"\",\"blank\",\"\")","v":"blank"}]
[null,null,null,null,null,null,null,null,null,null,null,null,null,null,null,null,null,null,null,null,null,{"$f":"IF(RawData!A52975<>\"\",ROW(RawData!A52975),0)","v":0},{"$f":"IF(RawData!A52975=\"\",\"blank\",\"\")","v":"blank"}]
[null,null,null,null,null,null,null,null,null,null,null,null,null,null,null,null,null,null,null,null,null,{"$f":"IF(RawData!A53056<>\"\",ROW(RawData!A53056),0)","v":0},{"$f":"IF(RawData!A53056=\"\",\"blank\",\"\")","v":"blank"}]
[null,null,null,null,null,null,null,null,null,null,null,null,null,null,null,null,null,null,null,null,null,{"$f":"IF(RawData!A53074<>\"\",ROW(RawData!A53074),0)","v":0},{"$f":"IF(RawData!A53074=\"\",\"blank\",\"\")","v":"blank"}]
[null,null,null,null,null,null,null,null,null,null,null,null,null,null,null,null,null,null,null,null,null,{"$f":"IF(RawData!A53187<>\"\",ROW(RawData!A53187),0)","v":0},{"$f":"IF(RawData!A53187=\"\",\"blank\",\"\")","v":"blank"}]
[null,null,null,null,null,null,null,null,null,null,null,null,null,null,null,null,null,null,null,null,null,{"$f":"IF(RawData!A53240<>\"\",ROW(RawData!A53240),0)","v":0},{"$f":"IF(RawData!A53240=\"\",\"blank\",\"\")","v":"blank"}]
[null,null,null,null,null,null,null,null,null,null,null,null,null,null,null,null,null,null,null,null,null,{"$f":"IF(RawData!A53286<>\"\",ROW(RawData!A53286),0)","v":0},{"$f":"IF(RawData!A53286=\"\",\"blank\",\"\")","v":"blank"}]
[null,null,null,null,null,null,null,null,null,null,null,null,null,null,null,null,null,null,null,null,null,{"$f":"IF(RawData!A53335<>\"\",ROW(RawData!A53335),0)","v":0},{"$f":"IF(RawData!A53335=\"\",\"blank\",\"\")","v":"blank"}]
[null,null,null,null,null,null,null,null,null,null,null,null,null,null,null,null,null,null,null,null,null,{"$f":"IF(RawData!A53424<>\"\",ROW(RawData!A53424),0)","v":0},{"$f":"IF(RawData!A53424=\"\",\"blank\",\"\")","v":"blank"}]
[null,null,null,null,null,null,null,null,null,null,null,null,null,null,null,null,null,null,null,null,null,{"$f":"IF(RawData!A53498<>\"\",ROW(RawData!A53498),0)","v":0},{"$f":"IF(RawData!A53498=\"\",\"blank\",\"\")","v":"blank"}]
[null,null,null,null,null,null,null,null,null,null,null,null,null,null,null,null,null,null,null,null,null,{"$f":"IF(RawData!A53547<>\"\",ROW(RawData!A53547),0)","v":0},{"$f":"IF(RawData!A53547=\"\",\"blank\",\"\")","v":"blank"}]
[null,null,null,null,null,null,null,null,null,null,null,null,null,null,null,null,null,null,null,null,null,{"$f":"IF(RawData!A53596<>\"\",ROW(RawData!A53596),0)","v":0},{"$f":"IF(RawData!A53596=\"\",\"blank\",\"\")","v":"blank"}]
[null,null,null,null,null,null,null,null,null,null,null,null,null,null,null,null,null,null,null,null,null,{"$f":"IF(RawData!A53692<>\"\",ROW(RawData!A53692),0)","v":0},{"$f":"IF(RawData!A53692=\"\",\"blank\",\"\")","v":"blank"}]
[null,null,null,null,null,null,null,null,null,null,null,null,null,null,null,null,null,null,null,null,null,{"$f":"IF(RawData!A53759<>\"\",ROW(RawData!A53759),0)","v":0},{"$f":"IF(RawData!A53759=\"\",\"blank\",\"\")","v":"blank"}]
[null,null,null,null,null,null,null,null,null,null,null,null,null,null,null,null,null,null,null,null,null,{"$f":"IF(RawData!A53808<>\"\",ROW(RawData!A53808),0)","v":0},{"$f":"IF(RawData!A53808=\"\",\"blank\",\"\")","v":"blank"}]
[null,null,null,null,null,null,null,null,null,null,null,null,null,null,null,null,null,null,null,null,null,{"$f":"IF(RawData!A53876<>\"\",ROW(RawData!A53876),0)","v":0},{"$f":"IF(RawData!A53876=\"\",\"blank\",\"\")","v":"blank"}]
[null,null,null,null,null,null,null,null,null,null,null,null,null,null,null,null,null,null,null,null,null,{"$f":"IF(RawData!A53907<>\"\",ROW(RawData!A53907),0)","v":0},{"$f":"IF(RawData!A53907=\"\",\"blank\",\"\")","v":"blank"}]
[null,null,null,null,null,null,null,null,null,null,null,null,null,null,null,null,null,null,null,null,null,{"$f":"IF(RawData!A54020<>\"\",ROW(RawData!A54020),0)","v":0},{"$f":"IF(RawData!A54020=\"\",\"blank\",\"\")","v":"blank"}]
[null,null,null,null,null,null,null,null,null,null,null,null,null,null,null,null,null,null,null,null,null,{"$f":"IF(RawData!A54069<>\"\",ROW(RawData!A54069),0)","v":0},{"$f":"IF(RawData!A54069=\"\",\"blank\",\"\")","v":"blank"}]
[null,null,null,null,null,null,null,null,null,null,null,null,null,null,null,null,null,null,null,null,null,{"$f":"IF(RawData!A54140<>\"\",ROW(RawData!A54140),0)","v":0},{"$f":"IF(RawData!A54140=\"\",\"blank\",\"\")","v":"blank"}]
[null,null,null,null,null,null,null,null,null,null,null,null,null,null,null,null,null,null,null,null,null,{"$f":"IF(RawData!A54168<>\"\",ROW(RawData!A54168),0)","v":0},{"$f":"IF(RawData!A54168=\"\",\"blank\",\"\")","v":"blank"}]
[null,null,null,null,null,null,null,null,null,null,null,null,null,null,null,null,null,null,null,null,null,{"$f":"IF(RawData!A54281<>\"\",ROW(RawData!A54281),0)","v":0},{"$f":"IF(RawData!A54281=\"\",\"blank\",\"\")","v":"blank"}]
[null,null,null,null,null,null,null,null,null,null,null,null,null,null,null,null,null,null,null,null,null,{"$f":"IF(RawData!A54324<>\"\",ROW(RawData!A54324),0)","v":0},{"$f":"IF(RawData!A54324=\"\",\"blank\",\"\")","v":"blank"}]
[null,null,null,null,null,null,null,null,null,null,null,null,null,null,null,null,null,null,null,null,null,{"$f":"IF(RawData!A54380<>\"\",ROW(RawData!A54380),0)","v":0},{"$f":"IF(RawData!A54380=\"\",\"blank\",\"\")","v":"blank"}]
[null,null,null,null,null,null,null,null,null,null,null,null,null,null,null,null,null,null,null,null,null,{"$f":"IF(RawData!A54429<>\"\",ROW(RawData!A54429),0)","v":0},{"$f":"IF(RawData!A54429=\"\",\"blank\",\"\")","v":"blank"}]
[null,null,null,null,null,null,null,null,null,null,null,null,null,null,null,null,null,null,null,null,null,{"$f":"IF(RawData!A54542<>\"\",ROW(RawData!A54542),0)","v":0},{"$f":"IF(RawData!A54542=\"\",\"blank\",\"\")","v":"blank"}]
[null,null,null,null,null,null,null,null,null,null,null,null,null,null,null,null,null,null,null,null,null,{"$f":"IF(RawData!A54588<>\"\",ROW(RawData!A54588),0)","v":0},{"$f":"IF(RawData!A54588=\"\",\"blank\",\"\")","v":"blank"}]
[null,null,null,null,null,null,null,null,null,null,null,null,null,null,null,null,null,null,null,null,null,{"$f":"IF(RawData!A54641<>\"\",ROW(RawData!A54641),0)","v":0},{"$f":"IF(RawData!A54641=\"\",\"blank\",\"\")","v":"blank"}]
[null,null,null,null,null,null,null,null,null,null,null,null,null,null,null,null,null,null,null,null,null,{"$f":"IF(RawData!A54690<>\"\",ROW(RawData!A54690),0)","v":0},{"$f":"IF(RawData!A54690=\"\",\"blank\",\"\")","v":"blank"}]
[null,null,null,null,null,null,null,null,null,null,null,null,null,null,null,null,null,null,null,null,null,{"$f":"IF(RawData!A54772<>\"\",ROW(RawData!A54772),0)","v":0},{"$f":"IF(RawData!A54772=\"\",\"blank\",\"\")","v":"blank"}]
[null,null,null,null,null,null,null,null,null,null,null,null,null,null,null,null,null,null,null,null,null,{"$f":"IF(RawData!A54853<>\"\",ROW(RawData!A54853),0)","v":0},{"$f":"IF(RawData!A54853=\"\",\"blank\",\"\")","v":"blank"}]
[null,null,null,null,null,null,null,null,null,null,null,null,null,null,null,null,null,null,null,null,null,{"$f":"IF(RawData!A54902<>\"\",ROW(RawData!A54902),0)","v":0},{"$f":"IF(RawData!A54902=\"\",\"blank\",\"\")","v":"blank"}]
[null,null,null,null,null,null,null,null,null,null,null,null,null,null,null,null,null,null,null,null,null,{"$f":"IF(RawData!A54951<>\"\",ROW(RawData!A54951),0)","v":0},{"$f":"IF(RawData!A54951=\"\",\"blank\",\"\")","v":"blank"}]
[null,null,null,null,null,null,null,null,null,null,null,null,null,null,null,null,null,null,null,null,null,{"$f":"IF(RawData!A55040<>\"\",ROW(RawData!A55040),0)","v":0},{"$f":"IF(RawData!A55040=\"\",\"blank\",\"\")","v":"blank"}]
[null,null,null,null,null,null,null,null,null,null,null,null,null,null,null,null,null,null,null,null,null,{"$f":"IF(RawData!A55114<>\"\",ROW(RawData!A55114),0)","v":0},{"$f":"IF(RawData!A55114=\"\",\"blank\",\"\")","v":"blank"}]
[null,null,null,null,null,null,null,null,null,null,null,null,null,null,null,null,null,null,null,null,null,{"$f":"IF(RawData!A55163<>\"\",ROW(RawData!A55163),0)","v":0},{"$f":"IF(RawData!A55163=\"\",\"blank\",\"\")","v":"blank"}]
[null,null,null,null,null,null,null,null,null,null,null,null,null,null,null,null,null,null,null,null,null,{"$f":"IF(RawData!A55224<>\"\",ROW(RawData!A55224),0)","v":0},{"$f":"IF(RawData!A55224=\"\",\"blank\",\"\")","v":"blank"}]
[null,null,null,null,null,null,null,null,null,null,null,null,null,null,null,null,null,null,null,null,null,{"$f":"IF(RawData!A55262<>\"\",ROW(RawData!A55262),0)","v":0},{"$f":"IF(RawData!A55262=\"\",\"blank\",\"\")","v":"blank"}]
[null,null,null,null,null,null,null,null,null,null,null,null,null,null,null,null,null,null,null,null,null,{"$f":"IF(RawData!A55375<>\"\",ROW(RawData!A55375),0)","v":0},{"$f":"IF(RawData!A55375=\"\",\"blank\",\"\")","v":"blank"}]
[null,null,null,null,null,null,null,null,null,null,null,null,null,null,null,null,null,null,null,null,null,{"$f":"IF(RawData!A55424<>\"\",ROW(RawData!A55424),0)","v":0},{"$f":"IF(RawData!A55424=\"\",\"blank\",\"\")","v":"blank"}]
[null,null,null,null,null,null,null,null,null,null,null,null,null,null,null,null,null,null,null,null,null,{"$f":"IF(RawData!A55488<>\"\",ROW(RawData!A55488),0)","v":0},{"$f":"IF(RawData!A55488=\"\",\"blank\",\"\")","v":"blank"}]
[null,null,null,null,null,null,null,null,null,null,null,null,null,null,null,null,null,null,null,null,null,{"$f":"IF(RawData!A55523<>\"\",ROW(RawData!A55523),0)","v":0},{"$f":"IF(RawData!A55523=\"\",\"blank\",\"\")","v":"blank"}]
[null,null,null,null,null,null,null,null,null,null,null,null,null,null,null,null,null,null,null,null,null,{"$f":"IF(RawData!A55636<>\"\",ROW(RawData!A55636),0)","v":0},{"$f":"IF(RawData!A55636=\"\",\"blank\",\"\")","v":"blank"}]
[null,null,null,null,null,null,null,null,null,null,null,null,null,null,null,null,null,null,null,null,null,{"$f":"IF(RawData!A55672<>\"\",ROW(RawData!A55672),0)","v":0},{"$f":"IF(RawData!A55672=\"\",\"blank\",\"\")","v":"blank"}]
[null,null,null,null,null,null,null,null,null,null,null,null,null,null,null,null,null,null,null,null,null,{"$f":"IF(RawData!A55735<>\"\",ROW(RawData!A55735),0)","v":0},{"$f":"IF(RawData!A55735=\"\",\"blank\",\"\")","v":"blank"}]
[null,null,null,null,null,null,null,null,null,null,null,null,null,null,null,null,null,null,null,null,null,{"$f":"IF(RawData!A55784<>\"\",ROW(RawData!A55784),0)","v":0},{"$f":"IF(RawData!A55784=\"\",\"blank\",\"\")","v":"blank"}]
[null,null,null,null,null,null,null,null,null,null,null,null,null,null,null,null,null,null,null,null,null,{"$f":"IF(RawData!A55897<>\"\",ROW(RawData!A55897),0)","v":0},{"$f":"IF(RawData!A55897=\"\",\"blank\",\"\")","v":"blank"}]
[null,null,null,null,null,null,null,null,null,null,null,null,null,null,null,null,null,null,null,null,null,{"$f":"IF(RawData!A55936<>\"\",ROW(RawData!A55936),0)","v":0},{"$f":"IF(RawData!A55936=\"\",\"blank\",\"\")","v":"blank"}]
[null,null,null,null,null,null,null,null,null,null,null,null,null,null,null,null,null,null,null,null,null,{"$f":"IF(RawData!A55996<>\"\",ROW(RawData!A55996),0)","v":0},{"$f":"IF(RawData!A55996=\"\",\"blank\",\"\")","v":"blank"}]
[null,null,null,null,null,null,null,null,null,null,null,null,null,null,null,null,null,null,null,null,null,{"$f":"IF(RawData!A56045<>\"\",ROW(RawData!A56045),0)","v":0},{"$f":"IF(RawData!A56045=\"\",\"blank\",\"\")","v":"blank"}]
[null,null,null,null,null,null,null,null,null,null,null,null,null,null,null,null,null,null,null,null,null,{"$f":"IF(RawData!A56120<>\"\",ROW(RawData!A56120),0)","v":0},{"$f":"IF(RawData!A56120=\"\",\"blank\",\"\")","v":"blank"}]
[null,null,null,null,null,null,null,null,null,null,null,null,null,null,null,null,null,null,null,null,null,{"$f":"IF(RawData!A56208<>\"\",ROW(RawData!A56208),0)","v":0},{"$f":"IF(RawData!A56208=\"\",\"blank\",\"\")","v":"blank"}]
[null,null,null,null,null,null,null,null,null,null,null,null,null,null,null,null,null,null,null,null,null,{"$f":"IF(RawData!A56257<>\"\",ROW(RawData!A56257),0)","v":0},{"$f":"IF(RawData!A56257=\"\",\"blank\",\"\")","v":"blank"}]
[null,null,null,null,null,null,null,null,null,null,null,null,null,null,null,null,null,null,null,null,null,{"$f":"IF(RawData!A56306<>\"\",ROW(RawData!A56306),0)","v":0},{"$f":"IF(RawData!A56306=\"\",\"blank\",\"\")","v":"blank"}]
[null,null,null,null,null,null,null,null,null,null,null,null,null,null,null,null,null,null,null,null,null,{"$f":"IF(RawData!A56388<>\"\",ROW(RawData!A56388),0)","v":0},{"$f":"IF(RawData!A56388=\"\",\"blank\",\"\")","v":"blank"}]
[null,null,null,null,null,null,null,null,null,null,null,null,null,null,null,null,null,null,null,null,null,{"$f":"IF(RawData!A56469<>\"\",ROW(RawData!A56469),0)","v":0},{"$f":"IF(RawData!A56469=\"\",\"blank\",\"\")","v":"blank"}]
[null,null,null,null,null,null,null,null,null,null,null,null,null,null,null,null,null,null,null,null,null,{"$f":"IF(RawData!A56518<>\"\",ROW(RawData!A56518),0)","v":0},{"$f":"IF(RawData!A56518=\"\",\"blank\",\"\")","v":"blank"}]
[null,null,null,null,null,null,null,null,null,null,null,null,null,null,null,null,null,null,null,null,null,{"$f":"IF(RawData!A56568<>\"\",ROW(RawData!A56568),0)","v":0},{"$f":"IF(RawData!A56568=\"\",\"blank\",\"\")","v":"blank"}]
[null,null,null,null,null,null,null,null,null,null,null,null,null,null,null,null,null,null,null,null,null,{"$f":"IF(RawData!A56617<>\"\",ROW(RawData!A56617),0)","v":0},{"$f":"IF(RawData!A56617=\"\",\"blank\",\"\")","v":"blank"}]
[null,null,null,null,null,null,null,null,null,null,null,null,null,null,null,null,null,null,null,null,null,{"$f":"IF(RawData!A56730<>\"\",ROW(RawData!A56730),0)","v":0},{"$f":"IF(RawData!A56730=\"\",\"blank\",\"\")","v":"blank"}]
[null,null,null,null,null,null,null,null,null,null,null,null,null,null,null,null,null,null,null,null,null,{"$f":"IF(RawData!A56779<>\"\",ROW(RawData!A56779),0)","v":0},{"$f":"IF(RawData!A56779=\"\",\"blank\",\"\")","v":"blank"}]
[null,null,null,null,null,null,null,null,null,null,null,null,null,null,null,null,null,null,null,null,null,{"$f":"IF(RawData!A56836<>\"\",ROW(RawData!A56836),0)","v":0},{"$f":"IF(RawData!A56836=\"\",\"blank\",\"\")","v":"blank"}]
[null,null,null,null,null,null,null,null,null,null,null,null,null,null,null,null,null,null,null,null,null,{"$f":"IF(RawData!A56878<>\"\",ROW(RawData!A56878),0)","v":0},{"$f":"IF(RawData!A56878=\"\",\"blank\",\"\")","v":"blank"}]
[null,null,null,null,null,null,null,null,null,null,null,null,null,null,null,null,null,null,null,null,null,{"$f":"IF(RawData!A56991<>\"\",ROW(RawData!A56991),0)","v":0},{"$f":"IF(RawData!A56991=\"\",\"blank\",\"\")","v":"blank"}]
[null,null,null,null,null,null,null,null,null,null,null,null,null,null,null,null,null,null,null,null,null,{"$f":"IF(RawData!A57020<>\"\",ROW(RawData!A57020),0)","v":0},{"$f":"IF(RawData!A57020=\"\",\"blank\",\"\")","v":"blank"}]
[null,null,null,null,null,null,null,null,null,null,null,null,null,null,null,null,null,null,null,null,null,{"$f":"IF(RawData!A57090<>\"\",ROW(RawData!A57090),0)","v":0},{"$f":"IF(RawData!A57090=\"\",\"blank\",\"\")","v":"blank"}]
[null,null,null,null,null,null,null,null,null,null,null,null,null,null,null,null,null,null,null,null,null,{"$f":"IF(RawData!A57139<>\"\",ROW(RawData!A57139),0)","v":0},{"$f":"IF(RawData!A57139=\"\",\"blank\",\"\")","v":"blank"}]
[null,null,null,null,null,null,null,null,null,null,null,null,null,null,null,null,null,null,null,null,null,{"$f":"IF(RawData!A57204<>\"\",ROW(RawData!A57204),0)","v":0},{"$f":"IF(RawData!A57204=\"\",\"blank\",\"\")","v":"blank"}]
[null,null,null,null,null,null,null,null,null,null,null,null,null,null,null,null,null,null,null,null,null,{"$f":"IF(RawData!A57302<>\"\",ROW(RawData!A57302),0)","v":0},{"$f":"IF(RawData!A57302=\"\",\"blank\",\"\")","v":"blank"}]
[null,null,null,null,null,null,null,null,null,null,null,null,null,null,null,null,null,null,null,null,null,{"$f":"IF(RawData!A57351<>\"\",ROW(RawData!A57351),0)","v":0},{"$f":"IF(RawData!A57351=\"\",\"blank\",\"\")","v":"blank"}]
[null,null,null,null,null,null,null,null,null,null,null,null,null,null,null,null,null,null,null,null,null,{"$f":"IF(RawData!A57400<>\"\",ROW(RawData!A57400),0)","v":0},{"$f":"IF(RawData!A57400=\"\",\"blank\",\"\")","v":"blank"}]
[null,null,null,null,null,null,null,null,null,null,null,null,null,null,null,null,null,null,null,null,null,{"$f":"IF(RawData!A57468<>\"\",ROW(RawData!A57468),0)","v":0},{"$f":"IF(RawData!A57468=\"\",\"blank\",\"\")","v":"blank"}]
[null,null,null,null,null,null,null,null,null,null,null,null,null,null,null,null,null,null,null,null,null,{"$f":"IF(RawData!A57563<>\"\",ROW(RawData!A57563),0)","v":0},{"$f":"IF(RawData!A57563=\"\",\"blank\",\"\")","v":"blank"}]
[null,null,null,null,null,null,null,null,null,null,null,null,null,null,null,null,null,null,null,null,null,{"$f":"IF(RawData!A57612<>\"\",ROW(RawData!A57612),0)","v":0},{"$f":"IF(RawData!A57612=\"\",\"blank\",\"\")","v":"blank"}]
[null,null,null,null,null,null,null,null,null,null,null,null,null,null,null,null,null,null,null,null,null,{"$f":"IF(RawData!A57652<>\"\",ROW(RawData!A57652),0)","v":0},{"$f":"IF(RawData!A57652=\"\",\"blank\",\"\")","v":"blank"}]
[null,null,null,null,null,null,null,null,null,null,null,null,null,null,null,null,null,null,null,null,null,{"$f":"IF(RawData!A57711<>\"\",ROW(RawData!A57711),0)","v":0},{"$f":"IF(RawData!A57711=\"\",\"blank\",\"\")","v":"blank"}]
[null,null,null,null,null,null,null,null,null,null,null,null,null,null,null,null,null,null,null,null,null,{"$f":"IF(RawData!A57824<>\"\",ROW(RawData!A57824),0)","v":0},{"$f":"IF(RawData!A57824=\"\",\"blank\",\"\")","v":"blank"}]
[null,null,null,null,null,null,null,null,null,null,null,null,null,null,null,null,null,null,null,null,null,{"$f":"IF(RawData!A57873<>\"\",ROW(RawData!A57873),0)","v":0},{"$f":"IF(RawData!A57873=\"\",\"blank\",\"\")","v":"blank"}]
[null,null,null,null,null,null,null,null,null,null,null,null,null,null,null,null,null,null,null,null,null,{"$f":"IF(RawData!A57916<>\"\",ROW(RawData!A57916),0)","v":0},{"$f":"IF(RawData!A57916=\"\",\"blank\",\"\")","v":"blank"}]
[null,null,null,null,null,null,null,null,null,null,null,null,null,null,null,null,null,null,null,null,null,{"$f":"IF(RawData!A57972<>\"\",ROW(RawData!A57972),0)","v":0},{"$f":"IF(RawData!A57972=\"\",\"blank\",\"\")","v":"blank"}]
[null,null,null,null,null,null,null,null,null,null,null,null,null,null,null,null,null,null,null,null,null,{"$f":"IF(RawData!A58021<>\"\",ROW(RawData!A58021),0)","v":0},{"$f":"IF(RawData!A58021=\"\",\"blank\",\"\")","v":"blank"}]
[null,null,null,null,null,null,null,null,null,null,null,null,null,null,null,null,null,null,null,null,null,{"$f":"IF(RawData!A58100<>\"\",ROW(RawData!A58100),0)","v":0},{"$f":"IF(RawData!A58100=\"\",\"blank\",\"\")","v":"blank"}]
[null,null,null,null,null,null,null,null,null,null,null,null,null,null,null,null,null,null,null,null,null,{"$f":"IF(RawData!A58184<>\"\",ROW(RawData!A58184),0)","v":0},{"$f":"IF(RawData!A58184=\"\",\"blank\",\"\")","v":"blank"}]
[null,null,null,null,null,null,null,null,null,null,null,null,null,null,null,null,null,null,null,null,null,{"$f":"IF(RawData!A58233<>\"\",ROW(RawData!A58233),0)","v":0},{"$f":"IF(RawData!A58233=\"\",\"blank\",\"\")","v":"blank"}]
[null,null,null,null,null,null,null,null,null,null,null,null,null,null,null,null,null,null,null,null,null,{"$f":"IF(RawData!A58282<>\"\",ROW(RawData!A58282),0)","v":0},{"$f":"IF(RawData!A58282=\"\",\"blank\",\"\")","v":"blank"}]
[null,null,null,null,null,null,null,null,null,null,null,null,null,null,null,null,null,null,null,null,null,{"$f":"IF(RawData!A58368<>\"\",ROW(RawData!A58368),0)","v":0},{"$f":"IF(RawData!A58368=\"\",\"blank\",\"\")","v":"blank"}]
[null,null,null,null,null,null,null,null,null,null,null,null,null,null,null,null,null,null,null,null,null,{"$f":"IF(RawData!A58445<>\"\",ROW(RawData!A58445),0)","v":0},{"$f":"IF(RawData!A58445=\"\",\"blank\",\"\")","v":"blank"}]
[null,null,null,null,null,null,null,null,null,null,null,null,null,null,null,null,null,null,null,null,null,{"$f":"IF(RawData!A58494<>\"\",ROW(RawData!A58494),0)","v":0},{"$f":"IF(RawData!A58494=\"\",\"blank\",\"\")","v":"blank"}]
[null,null,null,null,null,null,null,null,null,null,null,null,null,null,null,null,null,null,null,null,null,{"$f":"IF(RawData!A58552<>\"\",ROW(RawData!A58552),0)","v":0},{"$f":"IF(RawData!A58552=\"\",\"blank\",\"\")","v":"blank"}]
[null,null,null,null,null,null,null,null,null,null,null,null,null,null,null,null,null,null,null,null,null,{"$f":"IF(RawData!A58657<>\"\",ROW(RawData!A58657),0)","v":0},{"$f":"IF(RawData!A58657=\"\",\"blank\",\"\")","v":"blank"}]
[null,null,null,null,null,null,null,null,null,null,null,null,null,null,null,null,null,null,null,null,null,{"$f":"IF(RawData!A58706<>\"\",ROW(RawData!A58706),0)","v":0},{"$f":"IF(RawData!A58706=\"\",\"blank\",\"\")","v":"blank"}]
[null,null,null,null,null,null,null,null,null,null,null,null,null,null,null,null,null,null,null,null,null,{"$f":"IF(RawData!A58755<>\"\",ROW(RawData!A58755),0)","v":0},{"$f":"IF(RawData!A58755=\"\",\"blank\",\"\")","v":"blank"}]
[null,null,null,null,null,null,null,null,null,null,null,null,null,null,null,null,null,null,null,null,null,{"$f":"IF(RawData!A58816<>\"\",ROW(RawData!A58816),0)","v":0},{"$f":"IF(RawData!A58816=\"\",\"blank\",\"\")","v":"blank"}]
[null,null,null,null,null,null,null,null,null,null,null,null,null,null,null,null,null,null,null,null,null,{"$f":"IF(RawData!A58918<>\"\",ROW(RawData!A58918),0)","v":0},{"$f":"IF(RawData!A58918=\"\",\"blank\",\"\")","v":"blank"}]
[null,null,null,null,null,null,null,null,null,null,null,null,null,null,null,null,null,null,null,null,null,{"$f":"IF(RawData!A58967<>\"\",ROW(RawData!A58967),0)","v":0},{"$f":"IF(RawData!A58967=\"\",\"blank\",\"\")","v":"blank"}]
[null,null,null,null,null,null,null,null,null,null,null,null,null,null,null,null,null,null,null,null,null,{"$f":"IF(RawData!A59000<>\"\",ROW(RawData!A59000),0)","v":0},{"$f":"IF(RawData!A59000=\"\",\"blank\",\"\")","v":"blank"}]
[null,null,null,null,null,null,null,null,null,null,null,null,null,null,null,null,null,null,null,null,null,{"$f":"IF(RawData!A59066<>\"\",ROW(RawData!A59066),0)","v":0},{"$f":"IF(RawData!A59066=\"\",\"blank\",\"\")","v":"blank"}]
[null,null,null,null,null,null,null,null,null,null,null,null,null,null,null,null,null,null,null,null,null,{"$f":"IF(RawData!A59115<>\"\",ROW(RawData!A59115),0)","v":0},{"$f":"IF(RawData!A59115=\"\",\"blank\",\"\")","v":"blank"}]
[null,null,null,null,null,null,null,null,null,null,null,null,null,null,null,null,null,null,null,null,null,{"$f":"IF(RawData!A59228<>\"\",ROW(RawData!A59228),0)","v":0},{"$f":"IF(RawData!A59228=\"\",\"blank\",\"\")","v":"blank"}]
[null,null,null,null,null,null,null,null,null,null,null,null,null,null,null,null,null,null,null,null,null,{"$f":"IF(RawData!A59264<>\"\",ROW(RawData!A59264),0)","v":0},{"$f":"IF(RawData!A59264=\"\",\"blank\",\"\")","v":"blank"}]
[null,null,null,null,null,null,null,null,null,null,null,null,null,null,null,null,null,null,null,null,null,{"$f":"IF(RawData!A59327<>\"\",ROW(RawData!A59327),0)","v":0},{"$f":"IF(RawData!A59327=\"\",\"blank\",\"\")","v":"blank"}]
[null,null,null,null,null,null,null,null,null,null,null,null,null,null,null,null,null,null,null,null,null,{"$f":"IF(RawData!A59376<>\"\",ROW(RawData!A59376),0)","v":0},{"$f":"IF(RawData!A59376=\"\",\"blank\",\"\")","v":"blank"}]
[null,null,null,null,null,null,null,null,null,null,null,null,null,null,null,null,null,null,null,null,null,{"$f":"IF(RawData!A59448<>\"\",ROW(RawData!A59448),0)","v":0},{"$f":"IF(RawData!A59448=\"\",\"blank\",\"\")","v":"blank"}]
[null,null,null,null,null,null,null,null,null,null,null,null,null,null,null,null,null,null,null,null,null,{"$f":"IF(RawData!A59539<>\"\",ROW(RawData!A59539),0)","v":0},{"$f":"IF(RawData!A59539=\"\",\"blank\",\"\")","v":"blank"}]
[null,null,null,null,null,null,null,null,null,null,null,null,null,null,null,null,null,null,null,null,null,{"$f":"IF(RawData!A59588<>\"\",ROW(RawData!A59588),0)","v":0},{"$f":"IF(RawData!A59588=\"\",\"blank\",\"\")","v":"blank"}]
[null,null,null,null,null,null,null,null,null,null,null,null,null,null,null,null,null,null,null,null,null,{"$f":"IF(RawData!A59637<>\"\",ROW(RawData!A59637),0)","v":0},{"$f":"IF(RawData!A59637=\"\",\"blank\",\"\")","v":"blank"}]
[null,null,null,null,null,null,null,null,null,null,null,null,null,null,null,null,null,null,null,null,null,{"$f":"IF(RawData!A59716<>\"\",ROW(RawData!A59716),0)","v":0},{"$f":"IF(RawData!A59716=\"\",\"blank\",\"\")","v":"blank"}]
[null,null,null,null,null,null,null,null,null,null,null,null,null,null,null,null,null,null,null,null,null,{"$f":"IF(RawData!A59800<>\"\",ROW(RawData!A59800),0)","v":0},{"$f":"IF(RawData!A59800=\"\",\"blank\",\"\")","v":"blank"}]
[null,null,null,null,null,null,null,null,null,null,null,null,null,null,null,null,null,null,null,null,null,{"$f":"IF(RawData!A59849<>\"\",ROW(RawData!A59849),0)","v":0},{"$f":"IF(RawData!A59849=\"\",\"blank\",\"\")","v":"blank"}]
[null,null,null,null,null,null,null,null,null,null,null,null,null,null,null,null,null,null,null,null,null,{"$f":"IF(RawData!A59900<>\"\",ROW(RawData!A59900),0)","v":0},{"$f":"IF(RawData!A59900=\"\",\"blank\",\"\")","v":"blank"}]
[null,null,null,null,null,null,null,null,null,null,null,null,null,null,null,null,null,null,null,null,null,{"$f":"IF(RawData!A60012<>\"\",ROW(RawData!A60012),0)","v":0},{"$f":"IF(RawData!A60012=\"\",\"blank\",\"\")","v":"blank"}]
[null,null,null,null,null,null,null,null,null,null,null,null,null,null,null,null,null,null,null,null,null,{"$f":"IF(RawData!A60061<>\"\",ROW(RawData!A60061),0)","v":0},{"$f":"IF(RawData!A60061=\"\",\"blank\",\"\")","v":"blank"}]
[null,null,null,null,null,null,null,null,null,null,null,null,null,null,null,null,null,null,null,null,null,{"$f":"IF(RawData!A60110<>\"\",ROW(RawData!A60110),0)","v":0},{"$f":"IF(RawData!A60110=\"\",\"blank\",\"\")","v":"blank"}]
[null,null,null,null,null,null,null,null,null,null,null,null,null,null,null,null,null,null,null,null,null,{"$f":"IF(RawData!A60164<>\"\",ROW(RawData!A60164),0)","v":0},{"$f":"IF(RawData!A60164=\"\",\"blank\",\"\")","v":"blank"}]
[null,null,null,null,null,null,null,null,null,null,null,null,null,null,null,null,null,null,null,null,null,{"$f":"IF(RawData!A60209<>\"\",ROW(RawData!A60209),0)","v":0},{"$f":"IF(RawData!A60209=\"\",\"blank\",\"\")","v":"blank"}]
[null,null,null,null,null,null,null,null,null,null,null,null,null,null,null,null,null,null,null,null,null,{"$f":"IF(RawData!A60322<>\"\",ROW(RawData!A60322),0)","v":0},{"$f":"IF(RawData!A60322=\"\",\"blank\",\"\")","v":"blank"}]
[null,null,null,null,null,null,null,null,null,null,null,null,null,null,null,null,null,null,null,null,null,{"$f":"IF(RawData!A60348<>\"\",ROW(RawData!A60348),0)","v":0},{"$f":"IF(RawData!A60348=\"\",\"blank\",\"\")","v":"blank"}]
[null,null,null,null,null,null,null,null,null,null,null,null,null,null,null,null,null,null,null,null,null,{"$f":"IF(RawData!A60421<>\"\",ROW(RawData!A60421),0)","v":0},{"$f":"IF(RawData!A60421=\"\",\"blank\",\"\")","v":"blank"}]
[null,null,null,null,null,null,null,null,null,null,null,null,null,null,null,null,null,null,null,null,null,{"$f":"IF(RawData!A60470<>\"\",ROW(RawData!A60470),0)","v":0},{"$f":"IF(RawData!A60470=\"\",\"blank\",\"\")","v":"blank"}]
[null,null,null,null,null,null,null,null,null,null,null,null,null,null,null,null,null,null,null,null,null,{"$f":"IF(RawData!A60583<>\"\",ROW(RawData!A60583),0)","v":0},{"$f":"IF(RawData!A60583=\"\",\"blank\",\"\")","v":"blank"}]
[null,null,null,null,null,null,null,null,null,null,null,null,null,null,null,null,null,null,null,null,null,{"$f":"IF(RawData!A60612<>\"\",ROW(RawData!A60612),0)","v":0},{"$f":"IF(RawData!A60612=\"\",\"blank\",\"\")","v":"blank"}]
[null,null,null,null,null,null,null,null,null,null,null,null,null,null,null,null,null,null,null,null,null,{"$f":"IF(RawData!A60682<>\"\",ROW(RawData!A60682),0)","v":0},{"$f":"IF(RawData!A60682=\"\",\"blank\",\"\")","v":"blank"}]
[null,null,null,null,null,null,null,null,null,null,null,null,null,null,null,null,null,null,null,null,null,{"$f":"IF(RawData!A60731<>\"\",ROW(RawData!A60731),0)","v":0},{"$f":"IF(RawData!A60731=\"\",\"blank\",\"\")","v":"blank"}]
[null,null,null,null,null,null,null,null,null,null,null,null,null,null,null,null,null,null,null,null,null,{"$f":"IF(RawData!A60796<>\"\",ROW(RawData!A60796),0)","v":0},{"$f":"IF(RawData!A60796=\"\",\"blank\",\"\")","v":"blank"}]
[null,null,null,null,null,null,null,null,null,null,null,null,null,null,null,null,null,null,null,null,null,{"$f":"IF(RawData!A60894<>\"\",ROW(RawData!A60894),0)","v":0},{"$f":"IF(RawData!A60894=\"\",\"blank\",\"\")","v":"blank"}]
[null,null,null,null,null,null,null,null,null,null,null,null,null,null,null,null,null,null,null,null,null,{"$f":"IF(RawData!A60943<>\"\",ROW(RawData!A60943),0)","v":0},{"$f":"IF(RawData!A60943=\"\",\"blank\",\"\")","v":"blank"}]
[null,null,null,null,null,null,null,null,null,null,null,null,null,null,null,null,null,null,null,null,null,{"$f":"IF(RawData!A60992<>\"\",ROW(RawData!A60992),0)","v":0},{"$f":"IF(RawData!A60992=\"\",\"blank\",\"\")","v":"blank"}]
[null,null,null,null,null,null,null,null,null,null,null,null,null,null,null,null,null,null,null,null,null,{"$f":"IF(RawData!A61064<>\"\",ROW(RawData!A61064),0)","v":0},{"$f":"IF(RawData!A61064=\"\",\"blank\",\"\")","v":"blank"}]
[null,null,null,null,null,null,null,null,null,null,null,null,null,null,null,null,null,null,null,null,null,{"$f":"IF(RawData!A61155<>\"\",ROW(RawData!A61155),0)","v":0},{"$f":"IF(RawData!A61155=\"\",\"blank\",\"\")","v":"blank"}]
[null,null,null,null,null,null,null,null,null,null,null,null,null,null,null,null,null,null,null,null,null,{"$f":"IF(RawData!A61204<>\"\",ROW(RawData!A61204),0)","v":0},{"$f":"IF(RawData!A61204=\"\",\"blank\",\"\")","v":"blank"}]
[null,null,null,null,null,null,null,null,null,null,null,null,null,null,null,null,null,null,null,null,null,{"$f":"IF(RawData!A61248<>\"\",ROW(RawData!A61248),0)","v":0},{"$f":"IF(RawData!A61248=\"\",\"blank\",\"\")","v":"blank"}]
[null,null,null,null,null,null,null,null,null,null,null,null,null,null,null,null,null,null,null,null,null,{"$f":"IF(RawData!A61303<>\"\",ROW(RawData!A61303),0)","v":0},{"$f":"IF(RawData!A61303=\"\",\"blank\",\"\")","v":"blank"}]
[null,null,null,null,null,null,null,null,null,null,null,null,null,null,null,null,null,null,null,null,null,{"$f":"IF(RawData!A61416<>\"\",ROW(RawData!A61416),0)","v":0},{"$f":"IF(RawData!A61416=\"\",\"blank\",\"\")","v":"blank"}]
[null,null,null,null,null,null,null,null,null,null,null,null,null,null,null,null,null,null,null,null,null,{"$f":"IF(RawData!A61428<>\"\",ROW(RawData!A61428),0)","v":0},{"$f":"IF(RawData!A61428=\"\",\"blank\",\"\")","v":"blank"}]
[null,null,null,null,null,null,null,null,null,null,null,null,null,null,null,null,null,null,null,null,null,{"$f":"IF(RawData!A61515<>\"\",ROW(RawData!A61515),0)","v":0},{"$f":"IF(RawData!A61515=\"\",\"blank\",\"\")","v":"blank"}]
[null,null,null,null,null,null,null,null,null,null,null,null,null,null,null,null,null,null,null,null,null,{"$f":"IF(RawData!A61564<>\"\",ROW(RawData!A61564),0)","v":0},{"$f":"IF(RawData!A61564=\"\",\"blank\",\"\")","v":"blank"}]
[null,null,null,null,null,null,null,null,null,null,null,null,null,null,null,null,null,null,null,null,null,{"$f":"IF(RawData!A61677<>\"\",ROW(RawData!A61677),0)","v":0},{"$f":"IF(RawData!A61677=\"\",\"blank\",\"\")","v":"blank"}]
[null,null,null,null,null,null,null,null,null,null,null,null,null,null,null,null,null,null,null,null,null,{"$f":"IF(RawData!A61696<>\"\",ROW(RawData!A61696),0)","v":0},{"$f":"IF(RawData!A61696=\"\",\"blank\",\"\")","v":"blank"}]
[null,null,null,null,null,null,null,null,null,null,null,null,null,null,null,null,null,null,null,null,null,{"$f":"IF(RawData!A61776<>\"\",ROW(RawData!A61776),0)","v":0},{"$f":"IF(RawData!A61776=\"\",\"blank\",\"\")","v":"blank"}]
[null,null,null,null,null,null,null,null,null,null,null,null,null,null,null,null,null,null,null,null,null,{"$f":"IF(RawData!A61825<>\"\",ROW(RawData!A61825),0)","v":0},{"$f":"IF(RawData!A61825=\"\",\"blank\",\"\")","v":"blank"}]
[null,null,null,null,null,null,null,null,null,null,null,null,null,null,null,null,null,null,null,null,null,{"$f":"IF(RawData!A61880<>\"\",ROW(RawData!A61880),0)","v":0},{"$f":"IF(RawData!A61880=\"\",\"blank\",\"\")","v":"blank"}]
[null,null,null,null,null,null,null,null,null,null,null,null,null,null,null,null,null,null,null,null,null,{"$f":"IF(RawData!A61988<>\"\",ROW(RawData!A61988),0)","v":0},{"$f":"IF(RawData!A61988=\"\",\"blank\",\"\")","v":"blank"}]
[null,null,null,null,null,null,null,null,null,null,null,null,null,null,null,null,null,null,null,null,null,{"$f":"IF(RawData!A62037<>\"\",ROW(RawData!A62037),0)","v":0},{"$f":"IF(RawData!A62037=\"\",\"blank\",\"\")","v":"blank"}]
[null,null,null,null,null,null,null,null,null,null,null,null,null,null,null,null,null,null,null,null,null,{"$f":"IF(RawData!A62086<>\"\",ROW(RawData!A62086),0)","v":0},{"$f":"IF(RawData!A62086=\"\",\"blank\",\"\")","v":"blank"}]
[null,null,null,null,null,null,null,null,null,null,null,null,null,null,null,null,null,null,null,null,null,{"$f":"IF(RawData!A62144<>\"\",ROW(RawData!A62144),0)","v":0},{"$f":"IF(RawData!A62144=\"\",\"blank\",\"\")","v":"blank"}]
[null,null,null,null,null,null,null,null,null,null,null,null,null,null,null,null,null,null,null,null,null,{"$f":"IF(RawData!A62249<>\"\",ROW(RawData!A62249),0)","v":0},{"$f":"IF(RawData!A62249=\"\",\"blank\",\"\")","v":"blank"}]
[null,null,null,null,null,null,null,null,null,null,null,null,null,null,null,null,null,null,null,null,null,{"$f":"IF(RawData!A62298<>\"\",ROW(RawData!A62298),0)","v":0},{"$f":"IF(RawData!A62298=\"\",\"blank\",\"\")","v":"blank"}]
[null,null,null,null,null,null,null,null,null,null,null,null,null,null,null,null,null,null,null,null,null,{"$f":"IF(RawData!A62328<>\"\",ROW(RawData!A62328),0)","v":0},{"$f":"IF(RawData!A62328=\"\",\"blank\",\"\")","v":"blank"}]
[null,null,null,null,null,null,null,null,null,null,null,null,null,null,null,null,null,null,null,null,null,{"$f":"IF(RawData!A62397<>\"\",ROW(RawData!A62397),0)","v":0},{"$f":"IF(RawData!A62397=\"\",\"blank\",\"\")","v":"blank"}]
[null,null,null,null,null,null,null,null,null,null,null,null,null,null,null,null,null,null,null,null,null,{"$f":"IF(RawData!A62510<>\"\",ROW(RawData!A62510),0)","v":0},{"$f":"IF(RawData!A62510=\"\",\"blank\",\"\")","v":"blank"}]
[null,null,null,null,null,null,null,null,null,null,null,null,null,null,null,null,null,null,null,null,null,{"$f":"IF(RawData!A62559<>\"\",ROW(RawData!A62559),0)","v":0},{"$f":"IF(RawData!A62559=\"\",\"blank\",\"\")","v":"blank"}]
[null,null,null,null,null,null,null,null,null,null,null,null,null,null,null,null,null,null,null,null,null,{"$f":"IF(RawData!A62596<>\"\",ROW(RawData!A62596),0)","v":0},{"$f":"IF(RawData!A62596=\"\",\"blank\",\"\")","v":"blank"}]
[null,null,null,null,null,null,null,null,null,null,null,null,null,null,null,null,null,null,null,null,null,{"$f":"IF(RawData!A62658<>\"\",ROW(RawData!A62658),0)","v":0},{"$f":"IF(RawData!A62658=\"\",\"blank\",\"\")","v":"blank"}]
[null,null,null,null,null,null,null,null,null,null,null,null,null,null,null,null,null,null,null,null,null,{"$f":"IF(RawData!A62771<>\"\",ROW(RawData!A62771),0)","v":0},{"$f":"IF(RawData!A62771=\"\",\"blank\",\"\")","v":"blank"}]
[null,null,null,null,null,null,null,null,null,null,null,null,null,null,null,null,null,null,null,null,null,{"$f":"IF(RawData!A62841<>\"\",ROW(RawData!A62841),0)","v":0},{"$f":"IF(RawData!A62841=\"\",\"blank\",\"\")","v":"blank"}]
[null,null,null,null,null,null,null,null,null,null,null,null,null,null,null,null,null,null,null,null,null,{"$f":"IF(RawData!A62870<>\"\",ROW(RawData!A62870),0)","v":0},{"$f":"IF(RawData!A62870=\"\",\"blank\",\"\")","v":"blank"}]
[null,null,null,null,null,null,null,null,null,null,null,null,null,null,null,null,null,null,null,null,null,{"$f":"IF(RawData!A62919<>\"\",ROW(RawData!A62919),0)","v":0},{"$f":"IF(RawData!A62919=\"\",\"blank\",\"\")","v":"blank"}]
[null,null,null,null,null,null,null,null,null,null,null,null,null,null,null,null,null,null,null,null,null,{"$f":"IF(RawData!A63032<>\"\",ROW(RawData!A63032),0)","v":0},{"$f":"IF(RawData!A63032=\"\",\"blank\",\"\")","v":"blank"}]
[null,null,null,null,null,null,null,null,null,null,null,null,null,null,null,null,null,null,null,null,null,{"$f":"IF(RawData!A63044<>\"\",ROW(RawData!A63044),0)","v":0},{"$f":"IF(RawData!A63044=\"\",\"blank\",\"\")","v":"blank"}]
[null,null,null,null,null,null,null,null,null,null,null,null,null,null,null,null,null,null,null,null,null,{"$f":"IF(RawData!A63131<>\"\",ROW(RawData!A63131),0)","v":0},{"$f":"IF(RawData!A63131=\"\",\"blank\",\"\")","v":"blank"}]
[null,null,null,null,null,null,null,null,null,null,null,null,null,null,null,null,null,null,null,null,null,{"$f":"IF(RawData!A63180<>\"\",ROW(RawData!A63180),0)","v":0},{"$f":"IF(RawData!A63180=\"\",\"blank\",\"\")","v":"blank"}]
[null,null,null,null,null,null,null,null,null,null,null,null,null,null,null,null,null,null,null,null,null,{"$f":"IF(RawData!A63228<>\"\",ROW(RawData!A63228),0)","v":0},{"$f":"IF(RawData!A63228=\"\",\"blank\",\"\")","v":"blank"}]
[null,null,null,null,null,null,null,null,null,null,null,null,null,null,null,null,null,null,null,null,null,{"$f":"IF(RawData!A63343<>\"\",ROW(RawData!A63343),0)","v":0},{"$f":"IF(RawData!A63343=\"\",\"blank\",\"\")","v":"blank"}]
[null,null,null,null,null,null,null,null,null,null,null,null,null,null,null,null,null,null,null,null,null,{"$f":"IF(RawData!A63392<>\"\",ROW(RawData!A63392),0)","v":0},{"$f":"IF(RawData!A63392=\"\",\"blank\",\"\")","v":"blank"}]
[null,null,null,null,null,null,null,null,null,null,null,null,null,null,null,null,null,null,null,null,null,{"$f":"IF(RawData!A63441<>\"\",ROW(RawData!A63441),0)","v":0},{"$f":"IF(RawData!A63441=\"\",\"blank\",\"\")","v":"blank"}]
[null,null,null,null,null,null,null,null,null,null,null,null,null,null,null,null,null,null,null,null,null,{"$f":"IF(RawData!A63492<>\"\",ROW(RawData!A63492),0)","v":0},{"$f":"IF(RawData!A63492=\"\",\"blank\",\"\")","v":"blank"}]
[null,null,null,null,null,null,null,null,null,null,null,null,null,null,null,null,null,null,null,null,null,{"$f":"IF(RawData!A63604<>\"\",ROW(RawData!A63604),0)","v":0},{"$f":"IF(RawData!A63604=\"\",\"blank\",\"\")","v":"blank"}]
[null,null,null,null,null,null,null,null,null,null,null,null,null,null,null,null,null,null,null,null,null,{"$f":"IF(RawData!A63653<>\"\",ROW(RawData!A63653),0)","v":0},{"$f":"IF(RawData!A63653=\"\",\"blank\",\"\")","v":"blank"}]
[null,null,null,null,null,null,null,null,null,null,null,null,null,null,null,null,null,null,null,null,null,{"$f":"IF(RawData!A63741<>\"\",ROW(RawData!A63741),0)","v":0},{"$f":"IF(RawData!A63741=\"\",\"blank\",\"\")","v":"blank"}]
[null,null,null,null,null,null,null,null,null,null,null,null,null,null,null,null,null,null,null,null,null,{"$f":"IF(RawData!A63752<>\"\",ROW(RawData!A63752),0)","v":0},{"$f":"IF(RawData!A63752=\"\",\"blank\",\"\")","v":"blank"}]
[null,null,null,null,null,null,null,null,null,null,null,null,null,null,null,null,null,null,null,null,null,{"$f":"IF(RawData!A63865<>\"\",ROW(RawData!A63865),0)","v":0},{"$f":"IF(RawData!A63865=\"\",\"blank\",\"\")","v":"blank"}]
[null,null,null,null,null,null,null,null,null,null,null,null,null,null,null,null,null,null,null,null,null,{"$f":"IF(RawData!A63914<>\"\",ROW(RawData!A63914),0)","v":0},{"$f":"IF(RawData!A63914=\"\",\"blank\",\"\")","v":"blank"}]
[null,null,null,null,null,null,null,null,null,null,null,null,null,null,null,null,null,null,null,null,null,{"$f":"IF(RawData!A63944<>\"\",ROW(RawData!A63944),0)","v":0},{"$f":"IF(RawData!A63944=\"\",\"blank\",\"\")","v":"blank"}]
[null,null,null,null,null,null,null,null,null,null,null,null,null,null,null,null,null,null,null,null,null,{"$f":"IF(RawData!A64013<>\"\",ROW(RawData!A64013),0)","v":0},{"$f":"IF(RawData!A64013=\"\",\"blank\",\"\")","v":"blank"}]
[null,null,null,null,null,null,null,null,null,null,null,null,null,null,null,null,null,null,null,null,null,{"$f":"IF(RawData!A64126<>\"\",ROW(RawData!A64126),0)","v":0},{"$f":"IF(RawData!A64126=\"\",\"blank\",\"\")","v":"blank"}]
[null,null,null,null,null,null,null,null,null,null,null,null,null,null,null,null,null,null,null,null,null,{"$f":"IF(RawData!A64189<>\"\",ROW(RawData!A64189),0)","v":0},{"$f":"IF(RawData!A64189=\"\",\"blank\",\"\")","v":"blank"}]
[null,null,null,null,null,null,null,null,null,null,null,null,null,null,null,null,null,null,null,null,null,{"$f":"IF(RawData!A64225<>\"\",ROW(RawData!A64225),0)","v":0},{"$f":"IF(RawData!A64225=\"\",\"blank\",\"\")","v":"blank"}]
[null,null,null,null,null,null,null,null,null,null,null,null,null,null,null,null,null,null,null,null,null,{"$f":"IF(RawData!A64274<>\"\",ROW(RawData!A64274),0)","v":0},{"$f":"IF(RawData!A64274=\"\",\"blank\",\"\")","v":"blank"}]
[null,null,null,null,null,null,null,null,null,null,null,null,null,null,null,null,null,null,null,null,null,{"$f":"IF(RawData!A64323<>\"\",ROW(RawData!A64323),0)","v":0},{"$f":"IF(RawData!A64323=\"\",\"blank\",\"\")","v":"blank"}]
[null,null,null,null,null,null,null,null,null,null,null,null,null,null,null,null,null,null,null,null,null,{"$f":"IF(RawData!A64392<>\"\",ROW(RawData!A64392),0)","v":0},{"$f":"IF(RawData!A64392=\"\",\"blank\",\"\")","v":"blank"}]
[null,null,null,null,null,null,null,null,null,null,null,null,null,null,null,null,null,null,null,null,null,{"$f":"IF(RawData!A64486<>\"\",ROW(RawData!A64486),0)","v":0},{"$f":"IF(RawData!A64486=\"\",\"blank\",\"\")","v":"blank"}]
[null,null,null,null,null,null,null,null,null,null,null,null,null,null,null,null,null,null,null,null,null,{"$f":"IF(RawData!A64535<>\"\",ROW(RawData!A64535),0)","v":0},{"$f":"IF(RawData!A64535=\"\",\"blank\",\"\")","v":"blank"}]
[null,null,null,null,null,null,null,null,null,null,null,null,null,null,null,null,null,null,null,null,null,{"$f":"IF(RawData!A64641<>\"\",ROW(RawData!A64641),0)","v":0},{"$f":"IF(RawData!A64641=\"\",\"blank\",\"\")","v":"blank"}]
[null,null,null,null,null,null,null,null,null,null,null,null,null,null,null,null,null,null,null,null,null,{"$f":"IF(RawData!A64698<>\"\",ROW(RawData!A64698),0)","v":0},{"$f":"IF(RawData!A64698=\"\",\"blank\",\"\")","v":"blank"}]
[null,null,null,null,null,null,null,null,null,null,null,null,null,null,null,null,null,null,null,null,null,{"$f":"IF(RawData!A64747<>\"\",ROW(RawData!A64747),0)","v":0},{"$f":"IF(RawData!A64747=\"\",\"blank\",\"\")","v":"blank"}]
[null,null,null,null,null,null,null,null,null,null,null,null,null,null,null,null,null,null,null,null,null,{"$f":"IF(RawData!A64796<>\"\",ROW(RawData!A64796),0)","v":0},{"$f":"IF(RawData!A64796=\"\",\"blank\",\"\")","v":"blank"}]
[null,null,null,null,null,null,null,null,null,null,null,null,null,null,null,null,null,null,null,null,null,{"$f":"IF(RawData!A64840<>\"\",ROW(RawData!A64840),0)","v":0},{"$f":"IF(RawData!A64840=\"\",\"blank\",\"\")","v":"blank"}]
[null,null,null,null,null,null,null,null,null,null,null,null,null,null,null,null,null,null,null,null,null,{"$f":"IF(RawData!A64959<>\"\",ROW(RawData!A64959),0)","v":0},{"$f":"IF(RawData!A64959=\"\",\"blank\",\"\")","v":"blank"}]
[null,null,null,null,null,null,null,null,null,null,null,null,null,null,null,null,null,null,null,null,null,{"$f":"IF(RawData!A65008<>\"\",ROW(RawData!A65008),0)","v":0},{"$f":"IF(RawData!A65008=\"\",\"blank\",\"\")","v":"blank"}]
[null,null,null,null,null,null,null,null,null,null,null,null,null,null,null,null,null,null,null,null,null,{"$f":"IF(RawData!A65089<>\"\",ROW(RawData!A65089),0)","v":0},{"$f":"IF(RawData!A65089=\"\",\"blank\",\"\")","v":"blank"}]
[null,null,null,null,null,null,null,null,null,null,null,null,null,null,null,null,null,null,null,null,null,{"$f":"IF(RawData!A65107<>\"\",ROW(RawData!A65107),0)","v":0},{"$f":"IF(RawData!A65107=\"\",\"blank\",\"\")","v":"blank"}]
[null,null,null,null,null,null,null,null,null,null,null,null,null,null,null,null,null,null,null,null,null,{"$f":"IF(RawData!A65220<>\"\",ROW(RawData!A65220),0)","v":0},{"$f":"IF(RawData!A65220=\"\",\"blank\",\"\")","v":"blank"}]
[null,null,null,null,null,null,null,null,null,null,null,null,null,null,null,null,null,null,null,null,null,{"$f":"IF(RawData!A65273<>\"\",ROW(RawData!A65273),0)","v":0},{"$f":"IF(RawData!A65273=\"\",\"blank\",\"\")","v":"blank"}]
[null,null,null,null,null,null,null,null,null,null,null,null,null,null,null,null,null,null,null,null,null,{"$f":"IF(RawData!A65286<>\"\",ROW(RawData!A65286),0)","v":0},{"$f":"IF(RawData!A65286=\"\",\"blank\",\"\")","v":"blank"}]
[null,null,null,null,null,null,null,null,null,null,null,null,null,null,null,null,null,null,null,null,null,{"$f":"IF(RawData!A65287<>\"\",ROW(RawData!A65287),0)","v":0},{"$f":"IF(RawData!A65287=\"\",\"blank\",\"\")","v":"blank"}]
[null,null,null,null,null,null,null,null,null,null,null,null,null,null,null,null,null,null,null,null,null,{"$f":"IF(RawData!A65288<>\"\",ROW(RawData!A65288),0)","v":0},{"$f":"IF(RawData!A65288=\"\",\"blank\",\"\")","v":"blank"}]
[null,null,null,null,null,null,null,null,null,null,null,null,null,null,null,null,null,null,null,null,null,{"$f":"IF(RawData!A65289<>\"\",ROW(RawData!A65289),0)","v":0},{"$f":"IF(RawData!A65289=\"\",\"blank\",\"\")","v":"blank"}]
[null,null,null,null,null,null,null,null,null,null,null,null,null,null,null,null,null,null,null,null,null,{"$f":"IF(RawData!A65290<>\"\",ROW(RawData!A65290),0)","v":0},{"$f":"IF(RawData!A65290=\"\",\"blank\",\"\")","v":"blank"}]
[null,null,null,null,null,null,null,null,null,null,null,null,null,null,null,null,null,null,null,null,null,{"$f":"IF(RawData!A65291<>\"\",ROW(RawData!A65291),0)","v":0},{"$f":"IF(RawData!A65291=\"\",\"blank\",\"\")","v":"blank"}]
[null,null,null,null,null,null,null,null,null,null,null,null,null,null,null,null,null,null,null,null,null,{"$f":"IF(RawData!A65292<>\"\",ROW(RawData!A65292),0)","v":0},{"$f":"IF(RawData!A65292=\"\",\"blank\",\"\")","v":"blank"}]
[null,null,null,null,null,null,null,null,null,null,null,null,null,null,null,null,null,null,null,null,null,{"$f":"IF(RawData!A65293<>\"\",ROW(RawData!A65293),0)","v":0},{"$f":"IF(RawData!A65293=\"\",\"blank\",\"\")","v":"blank"}]
[null,null,null,null,null,null,null,null,null,null,null,null,null,null,null,null,null,null,null,null,null,{"$f":"IF(RawData!A65294<>\"\",ROW(RawData!A65294),0)","v":0},{"$f":"IF(RawData!A65294=\"\",\"blank\",\"\")","v":"blank"}]
[null,null,null,null,null,null,null,null,null,null,null,null,null,null,null,null,null,null,null,null,null,{"$f":"IF(RawData!A65295<>\"\",ROW(RawData!A65295),0)","v":0},{"$f":"IF(RawData!A65295=\"\",\"blank\",\"\")","v":"blank"}]
[null,null,null,null,null,null,null,null,null,null,null,null,null,null,null,null,null,null,null,null,null,{"$f":"IF(RawData!A65296<>\"\",ROW(RawData!A65296),0)","v":0},{"$f":"IF(RawData!A65296=\"\",\"blank\",\"\")","v":"blank"}]
[null,null,null,null,null,null,null,null,null,null,null,null,null,null,null,null,null,null,null,null,null,{"$f":"IF(RawData!A65297<>\"\",ROW(RawData!A65297),0)","v":0},{"$f":"IF(RawData!A65297=\"\",\"blank\",\"\")","v":"blank"}]
[null,null,null,null,null,null,null,null,null,null,null,null,null,null,null,null,null,null,null,null,null,{"$f":"IF(RawData!A65298<>\"\",ROW(RawData!A65298),0)","v":0},{"$f":"IF(RawData!A65298=\"\",\"blank\",\"\")","v":"blank"}]
[null,null,null,null,null,null,null,null,null,null,null,null,null,null,null,null,null,null,null,null,null,{"$f":"IF(RawData!A65299<>\"\",ROW(RawData!A65299),0)","v":0},{"$f":"IF(RawData!A65299=\"\",\"blank\",\"\")","v":"blank"}]
[null,null,null,null,null,null,null,null,null,null,null,null,null,null,null,null,null,null,null,null,null,{"$f":"IF(RawData!A65300<>\"\",ROW(RawData!A65300),0)","v":0},{"$f":"IF(RawData!A65300=\"\",\"blank\",\"\")","v":"blank"}]
[null,null,null,null,null,null,null,null,null,null,null,null,null,null,null,null,null,null,null,null,null,{"$f":"IF(RawData!A65301<>\"\",ROW(RawData!A65301),0)","v":0},{"$f":"IF(RawData!A65301=\"\",\"blank\",\"\")","v":"blank"}]
[null,null,null,null,null,null,null,null,null,null,null,null,null,null,null,null,null,null,null,null,null,{"$f":"IF(RawData!A65302<>\"\",ROW(RawData!A65302),0)","v":0},{"$f":"IF(RawData!A65302=\"\",\"blank\",\"\")","v":"blank"}]
[null,null,null,null,null,null,null,null,null,null,null,null,null,null,null,null,null,null,null,null,null,{"$f":"IF(RawData!A65303<>\"\",ROW(RawData!A65303),0)","v":0},{"$f":"IF(RawData!A65303=\"\",\"blank\",\"\")","v":"blank"}]
[null,null,null,null,null,null,null,null,null,null,null,null,null,null,null,null,null,null,null,null,null,{"$f":"IF(RawData!A65304<>\"\",ROW(RawData!A65304),0)","v":0},{"$f":"IF(RawData!A65304=\"\",\"blank\",\"\")","v":"blank"}]
[null,null,null,null,null,null,null,null,null,null,null,null,null,null,null,null,null,null,null,null,null,{"$f":"IF(RawData!A65305<>\"\",ROW(RawData!A65305),0)","v":0},{"$f":"IF(RawData!A65305=\"\",\"blank\",\"\")","v":"blank"}]
[null,null,null,null,null,null,null,null,null,null,null,null,null,null,null,null,null,null,null,null,null,{"$f":"IF(RawData!A65306<>\"\",ROW(RawData!A65306),0)","v":0},{"$f":"IF(RawData!A65306=\"\",\"blank\",\"\")","v":"blank"}]
[null,null,null,null,null,null,null,null,null,null,null,null,null,null,null,null,null,null,null,null,null,{"$f":"IF(RawData!A65307<>\"\",ROW(RawData!A65307),0)","v":0},{"$f":"IF(RawData!A65307=\"\",\"blank\",\"\")","v":"blank"}]
[null,null,null,null,null,null,null,null,null,null,null,null,null,null,null,null,null,null,null,null,null,{"$f":"IF(RawData!A65308<>\"\",ROW(RawData!A65308),0)","v":0},{"$f":"IF(RawData!A65308=\"\",\"blank\",\"\")","v":"blank"}]
[null,null,null,null,null,null,null,null,null,null,null,null,null,null,null,null,null,null,null,null,null,{"$f":"IF(RawData!A65309<>\"\",ROW(RawData!A65309),0)","v":0},{"$f":"IF(RawData!A65309=\"\",\"blank\",\"\")","v":"blank"}]
[null,null,null,null,null,null,null,null,null,null,null,null,null,null,null,null,null,null,null,null,null,{"$f":"IF(RawData!A65310<>\"\",ROW(RawData!A65310),0)","v":0},{"$f":"IF(RawData!A65310=\"\",\"blank\",\"\")","v":"blank"}]
[null,null,null,null,null,null,null,null,null,null,null,null,null,null,null,null,null,null,null,null,null,{"$f":"IF(RawData!A65311<>\"\",ROW(RawData!A65311),0)","v":0},{"$f":"IF(RawData!A65311=\"\",\"blank\",\"\")","v":"blank"}]
[null,null,null,null,null,null,null,null,null,null,null,null,null,null,null,null,null,null,null,null,null,{"$f":"IF(RawData!A65312<>\"\",ROW(RawData!A65312),0)","v":0},{"$f":"IF(RawData!A65312=\"\",\"blank\",\"\")","v":"blank"}]
[null,null,null,null,null,null,null,null,null,null,null,null,null,null,null,null,null,null,null,null,null,{"$f":"IF(RawData!A65313<>\"\",ROW(RawData!A65313),0)","v":0},{"$f":"IF(RawData!A65313=\"\",\"blank\",\"\")","v":"blank"}]
[null,null,null,null,null,null,null,null,null,null,null,null,null,null,null,null,null,null,null,null,null,{"$f":"IF(RawData!A65314<>\"\",ROW(RawData!A65314),0)","v":0},{"$f":"IF(RawData!A65314=\"\",\"blank\",\"\")","v":"blank"}]
[null,null,null,null,null,null,null,null,null,null,null,null,null,null,null,null,null,null,null,null,null,{"$f":"IF(RawData!A65315<>\"\",ROW(RawData!A65315),0)","v":0},{"$f":"IF(RawData!A65315=\"\",\"blank\",\"\")","v":"blank"}]
[null,null,null,null,null,null,null,null,null,null,null,null,null,null,null,null,null,null,null,null,null,{"$f":"IF(RawData!A65316<>\"\",ROW(RawData!A65316),0)","v":0},{"$f":"IF(RawData!A65316=\"\",\"blank\",\"\")","v":"blank"}]
[null,null,null,null,null,null,null,null,null,null,null,null,null,null,null,null,null,null,null,null,null,{"$f":"IF(RawData!A65317<>\"\",ROW(RawData!A65317),0)","v":0},{"$f":"IF(RawData!A65317=\"\",\"blank\",\"\")","v":"blank"}]
[null,null,null,null,null,null,null,null,null,null,null,null,null,null,null,null,null,null,null,null,null,{"$f":"IF(RawData!A65318<>\"\",ROW(RawData!A65318),0)","v":0},{"$f":"IF(RawData!A65318=\"\",\"blank\",\"\")","v":"blank"}]
[null,null,null,null,null,null,null,null,null,null,null,null,null,null,null,null,null,null,null,null,null,{"$f":"IF(RawData!A65319<>\"\",ROW(RawData!A65319),0)","v":0},{"$f":"IF(RawData!A65319=\"\",\"blank\",\"\")","v":"blank"}]
[null,null,null,null,null,null,null,null,null,null,null,null,null,null,null,null,null,null,null,null,null,{"$f":"IF(RawData!A65320<>\"\",ROW(RawData!A65320),0)","v":0},{"$f":"IF(RawData!A65320=\"\",\"blank\",\"\")","v":"blank"}]
[null,null,null,null,null,null,null,null,null,null,null,null,null,null,null,null,null,null,null,null,null,{"$f":"IF(RawData!A65321<>\"\",ROW(RawData!A65321),0)","v":0},{"$f":"IF(RawData!A65321=\"\",\"blank\",\"\")","v":"blank"}]
[null,null,null,null,null,null,null,null,null,null,null,null,null,null,null,null,null,null,null,null,null,{"$f":"IF(RawData!A65322<>\"\",ROW(RawData!A65322),0)","v":0},{"$f":"IF(RawData!A65322=\"\",\"blank\",\"\")","v":"blank"}]
[null,null,null,null,null,null,null,null,null,null,null,null,null,null,null,null,null,null,null,null,null,{"$f":"IF(RawData!A65323<>\"\",ROW(RawData!A65323),0)","v":0},{"$f":"IF(RawData!A65323=\"\",\"blank\",\"\")","v":"blank"}]
[null,null,null,null,null,null,null,null,null,null,null,null,null,null,null,null,null,null,null,null,null,{"$f":"IF(RawData!A65324<>\"\",ROW(RawData!A65324),0)","v":0},{"$f":"IF(RawData!A65324=\"\",\"blank\",\"\")","v":"blank"}]
[null,null,null,null,null,null,null,null,null,null,null,null,null,null,null,null,null,null,null,null,null,{"$f":"IF(RawData!A65325<>\"\",ROW(RawData!A65325),0)","v":0},{"$f":"IF(RawData!A65325=\"\",\"blank\",\"\")","v":"blank"}]
[null,null,null,null,null,null,null,null,null,null,null,null,null,null,null,null,null,null,null,null,null,{"$f":"IF(RawData!A65326<>\"\",ROW(RawData!A65326),0)","v":0},{"$f":"IF(RawData!A65326=\"\",\"blank\",\"\")","v":"blank"}]
[null,null,null,null,null,null,null,null,null,null,null,null,null,null,null,null,null,null,null,null,null,{"$f":"IF(RawData!A65327<>\"\",ROW(RawData!A65327),0)","v":0},{"$f":"IF(RawData!A65327=\"\",\"blank\",\"\")","v":"blank"}]
[null,null,null,null,null,null,null,null,null,null,null,null,null,null,null,null,null,null,null,null,null,{"$f":"IF(RawData!A65328<>\"\",ROW(RawData!A65328),0)","v":0},{"$f":"IF(RawData!A65328=\"\",\"blank\",\"\")","v":"blank"}]
[null,null,null,null,null,null,null,null,null,null,null,null,null,null,null,null,null,null,null,null,null,{"$f":"IF(RawData!A65329<>\"\",ROW(RawData!A65329),0)","v":0},{"$f":"IF(RawData!A65329=\"\",\"blank\",\"\")","v":"blank"}]
[null,null,null,null,null,null,null,null,null,null,null,null,null,null,null,null,null,null,null,null,null,{"$f":"IF(RawData!A65330<>\"\",ROW(RawData!A65330),0)","v":0},{"$f":"IF(RawData!A65330=\"\",\"blank\",\"\")","v":"blank"}]
[null,null,null,null,null,null,null,null,null,null,null,null,null,null,null,null,null,null,null,null,null,{"$f":"IF(RawData!A65331<>\"\",ROW(RawData!A65331),0)","v":0},{"$f":"IF(RawData!A65331=\"\",\"blank\",\"\")","v":"blank"}]
[null,null,null,null,null,null,null,null,null,null,null,null,null,null,null,null,null,null,null,null,null,{"$f":"IF(RawData!A65332<>\"\",ROW(RawData!A65332),0)","v":0},{"$f":"IF(RawData!A65332=\"\",\"blank\",\"\")","v":"blank"}]
[null,null,null,null,null,null,null,null,null,null,null,null,null,null,null,null,null,null,null,null,null,{"$f":"IF(RawData!A65333<>\"\",ROW(RawData!A65333),0)","v":0},{"$f":"IF(RawData!A65333=\"\",\"blank\",\"\")","v":"blank"}]
[null,null,null,null,null,null,null,null,null,null,null,null,null,null,null,null,null,null,null,null,null,{"$f":"IF(RawData!A65334<>\"\",ROW(RawData!A65334),0)","v":0},{"$f":"IF(RawData!A65334=\"\",\"blank\",\"\")","v":"blank"}]
[null,null,null,null,null,null,null,null,null,null,null,null,null,null,null,null,null,null,null,null,null,{"$f":"IF(RawData!A65335<>\"\",ROW(RawData!A65335),0)","v":0},{"$f":"IF(RawData!A65335=\"\",\"blank\",\"\")","v":"blank"}]
[null,null,null,null,null,null,null,null,null,null,null,null,null,null,null,null,null,null,null,null,null,{"$f":"IF(RawData!A65336<>\"\",ROW(RawData!A65336),0)","v":0},{"$f":"IF(RawData!A65336=\"\",\"blank\",\"\")","v":"blank"}]
[null,null,null,null,null,null,null,null,null,null,null,null,null,null,null,null,null,null,null,null,null,{"$f":"IF(RawData!A65337<>\"\",ROW(RawData!A65337),0)","v":0},{"$f":"IF(RawData!A65337=\"\",\"blank\",\"\")","v":"blank"}]
[null,null,null,null,null,null,null,null,null,null,null,null,null,null,null,null,null,null,null,null,null,{"$f":"IF(RawData!A65338<>\"\",ROW(RawData!A65338),0)","v":0},{"$f":"IF(RawData!A65338=\"\",\"blank\",\"\")","v":"blank"}]
[null,null,null,null,null,null,null,null,null,null,null,null,null,null,null,null,null,null,null,null,null,{"$f":"IF(RawData!A65339<>\"\",ROW(RawData!A65339),0)","v":0},{"$f":"IF(RawData!A65339=\"\",\"blank\",\"\")","v":"blank"}]
[null,null,null,null,null,null,null,null,null,null,null,null,null,null,null,null,null,null,null,null,null,{"$f":"IF(RawData!A65340<>\"\",ROW(RawData!A65340),0)","v":0},{"$f":"IF(RawData!A65340=\"\",\"blank\",\"\")","v":"blank"}]
[null,null,null,null,null,null,null,null,null,null,null,null,null,null,null,null,null,null,null,null,null,{"$f":"IF(RawData!A65341<>\"\",ROW(RawData!A65341),0)","v":0},{"$f":"IF(RawData!A65341=\"\",\"blank\",\"\")","v":"blank"}]
[null,null,null,null,null,null,null,null,null,null,null,null,null,null,null,null,null,null,null,null,null,{"$f":"IF(RawData!A65342<>\"\",ROW(RawData!A65342),0)","v":0},{"$f":"IF(RawData!A65342=\"\",\"blank\",\"\")","v":"blank"}]
[null,null,null,null,null,null,null,null,null,null,null,null,null,null,null,null,null,null,null,null,null,{"$f":"IF(RawData!A65343<>\"\",ROW(RawData!A65343),0)","v":0},{"$f":"IF(RawData!A65343=\"\",\"blank\",\"\")","v":"blank"}]
[null,null,null,null,null,null,null,null,null,null,null,null,null,null,null,null,null,null,null,null,null,{"$f":"IF(RawData!A65344<>\"\",ROW(RawData!A65344),0)","v":0},{"$f":"IF(RawData!A65344=\"\",\"blank\",\"\")","v":"blank"}]
[null,null,null,null,null,null,null,null,null,null,null,null,null,null,null,null,null,null,null,null,null,{"$f":"IF(RawData!A65345<>\"\",ROW(RawData!A65345),0)","v":0},{"$f":"IF(RawData!A65345=\"\",\"blank\",\"\")","v":"blank"}]
[null,null,null,null,null,null,null,null,null,null,null,null,null,null,null,null,null,null,null,null,null,{"$f":"IF(RawData!A65346<>\"\",ROW(RawData!A65346),0)","v":0},{"$f":"IF(RawData!A65346=\"\",\"blank\",\"\")","v":"blank"}]
[null,null,null,null,null,null,null,null,null,null,null,null,null,null,null,null,null,null,null,null,null,{"$f":"IF(RawData!A65347<>\"\",ROW(RawData!A65347),0)","v":0},{"$f":"IF(RawData!A65347=\"\",\"blank\",\"\")","v":"blank"}]
[null,null,null,null,null,null,null,null,null,null,null,null,null,null,null,null,null,null,null,null,null,{"$f":"IF(RawData!A65348<>\"\",ROW(RawData!A65348),0)","v":0},{"$f":"IF(RawData!A65348=\"\",\"blank\",\"\")","v":"blank"}]
[null,null,null,null,null,null,null,null,null,null,null,null,null,null,null,null,null,null,null,null,null,{"$f":"IF(RawData!A65349<>\"\",ROW(RawData!A65349),0)","v":0},{"$f":"IF(RawData!A65349=\"\",\"blank\",\"\")","v":"blank"}]
[null,null,null,null,null,null,null,null,null,null,null,null,null,null,null,null,null,null,null,null,null,{"$f":"IF(RawData!A65350<>\"\",ROW(RawData!A65350),0)","v":0},{"$f":"IF(RawData!A65350=\"\",\"blank\",\"\")","v":"blank"}]
[null,null,null,null,null,null,null,null,null,null,null,null,null,null,null,null,null,null,null,null,null,{"$f":"IF(RawData!A65351<>\"\",ROW(RawData!A65351),0)","v":0},{"$f":"IF(RawData!A65351=\"\",\"blank\",\"\")","v":"blank"}]
[null,null,null,null,null,null,null,null,null,null,null,null,null,null,null,null,null,null,null,null,null,{"$f":"IF(RawData!A65352<>\"\",ROW(RawData!A65352),0)","v":0},{"$f":"IF(RawData!A65352=\"\",\"blank\",\"\")","v":"blank"}]
[null,null,null,null,null,null,null,null,null,null,null,null,null,null,null,null,null,null,null,null,null,{"$f":"IF(RawData!A65353<>\"\",ROW(RawData!A65353),0)","v":0},{"$f":"IF(RawData!A65353=\"\",\"blank\",\"\")","v":"blank"}]
[null,null,null,null,null,null,null,null,null,null,null,null,null,null,null,null,null,null,null,null,null,{"$f":"IF(RawData!A65354<>\"\",ROW(RawData!A65354),0)","v":0},{"$f":"IF(RawData!A65354=\"\",\"blank\",\"\")","v":"blank"}]
[null,null,null,null,null,null,null,null,null,null,null,null,null,null,null,null,null,null,null,null,null,{"$f":"IF(RawData!A65355<>\"\",ROW(RawData!A65355),0)","v":0},{"$f":"IF(RawData!A65355=\"\",\"blank\",\"\")","v":"blank"}]
[null,null,null,null,null,null,null,null,null,null,null,null,null,null,null,null,null,null,null,null,null,{"$f":"IF(RawData!A65356<>\"\",ROW(RawData!A65356),0)","v":0},{"$f":"IF(RawData!A65356=\"\",\"blank\",\"\")","v":"blank"}]
[null,null,null,null,null,null,null,null,null,null,null,null,null,null,null,null,null,null,null,null,null,{"$f":"IF(RawData!A65357<>\"\",ROW(RawData!A65357),0)","v":0},{"$f":"IF(RawData!A65357=\"\",\"blank\",\"\")","v":"blank"}]
[null,null,null,null,null,null,null,null,null,null,null,null,null,null,null,null,null,null,null,null,null,{"$f":"IF(RawData!A65358<>\"\",ROW(RawData!A65358),0)","v":0},{"$f":"IF(RawData!A65358=\"\",\"blank\",\"\")","v":"blank"}]
[null,null,null,null,null,null,null,null,null,null,null,null,null,null,null,null,null,null,null,null,null,{"$f":"IF(RawData!A65359<>\"\",ROW(RawData!A65359),0)","v":0},{"$f":"IF(RawData!A65359=\"\",\"blank\",\"\")","v":"blank"}]
[null,null,null,null,null,null,null,null,null,null,null,null,null,null,null,null,null,null,null,null,null,{"$f":"IF(RawData!A65360<>\"\",ROW(RawData!A65360),0)","v":0},{"$f":"IF(RawData!A65360=\"\",\"blank\",\"\")","v":"blank"}]
[null,null,null,null,null,null,null,null,null,null,null,null,null,null,null,null,null,null,null,null,null,{"$f":"IF(RawData!A65361<>\"\",ROW(RawData!A65361),0)","v":0},{"$f":"IF(RawData!A65361=\"\",\"blank\",\"\")","v":"blank"}]
[null,null,null,null,null,null,null,null,null,null,null,null,null,null,null,null,null,null,null,null,null,{"$f":"IF(RawData!A65362<>\"\",ROW(RawData!A65362),0)","v":0},{"$f":"IF(RawData!A65362=\"\",\"blank\",\"\")","v":"blank"}]
[null,null,null,null,null,null,null,null,null,null,null,null,null,null,null,null,null,null,null,null,null,{"$f":"IF(RawData!A65363<>\"\",ROW(RawData!A65363),0)","v":0},{"$f":"IF(RawData!A65363=\"\",\"blank\",\"\")","v":"blank"}]
[null,null,null,null,null,null,null,null,null,null,null,null,null,null,null,null,null,null,null,null,null,{"$f":"IF(RawData!A65364<>\"\",ROW(RawData!A65364),0)","v":0},{"$f":"IF(RawData!A65364=\"\",\"blank\",\"\")","v":"blank"}]
[null,null,null,null,null,null,null,null,null,null,null,null,null,null,null,null,null,null,null,null,null,{"$f":"IF(RawData!A65365<>\"\",ROW(RawData!A65365),0)","v":0},{"$f":"IF(RawData!A65365=\"\",\"blank\",\"\")","v":"blank"}]
[null,null,null,null,null,null,null,null,null,null,null,null,null,null,null,null,null,null,null,null,null,{"$f":"IF(RawData!A65366<>\"\",ROW(RawData!A65366),0)","v":0},{"$f":"IF(RawData!A65366=\"\",\"blank\",\"\")","v":"blank"}]
[null,null,null,null,null,null,null,null,null,null,null,null,null,null,null,null,null,null,null,null,null,{"$f":"IF(RawData!A65367<>\"\",ROW(RawData!A65367),0)","v":0},{"$f":"IF(RawData!A65367=\"\",\"blank\",\"\")","v":"blank"}]
[null,null,null,null,null,null,null,null,null,null,null,null,null,null,null,null,null,null,null,null,null,{"$f":"IF(RawData!A65368<>\"\",ROW(RawData!A65368),0)","v":0},{"$f":"IF(RawData!A65368=\"\",\"blank\",\"\")","v":"blank"}]
[null,null,null,null,null,null,null,null,null,null,null,null,null,null,null,null,null,null,null,null,null,{"$f":"IF(RawData!A65369<>\"\",ROW(RawData!A65369),0)","v":0},{"$f":"IF(RawData!A65369=\"\",\"blank\",\"\")","v":"blank"}]
[null,null,null,null,null,null,null,null,null,null,null,null,null,null,null,null,null,null,null,null,null,{"$f":"IF(RawData!A65370<>\"\",ROW(RawData!A65370),0)","v":0},{"$f":"IF(RawData!A65370=\"\",\"blank\",\"\")","v":"blank"}]
[null,null,null,null,null,null,null,null,null,null,null,null,null,null,null,null,null,null,null,null,null,{"$f":"IF(RawData!A65371<>\"\",ROW(RawData!A65371),0)","v":0},{"$f":"IF(RawData!A65371=\"\",\"blank\",\"\")","v":"blank"}]
[null,null,null,null,null,null,null,null,null,null,null,null,null,null,null,null,null,null,null,null,null,{"$f":"IF(RawData!A65372<>\"\",ROW(RawData!A65372),0)","v":0},{"$f":"IF(RawData!A65372=\"\",\"blank\",\"\")","v":"blank"}]
[null,null,null,null,null,null,null,null,null,null,null,null,null,null,null,null,null,null,null,null,null,{"$f":"IF(RawData!A65373<>\"\",ROW(RawData!A65373),0)","v":0},{"$f":"IF(RawData!A65373=\"\",\"blank\",\"\")","v":"blank"}]
[null,null,null,null,null,null,null,null,null,null,null,null,null,null,null,null,null,null,null,null,null,{"$f":"IF(RawData!A65374<>\"\",ROW(RawData!A65374),0)","v":0},{"$f":"IF(RawData!A65374=\"\",\"blank\",\"\")","v":"blank"}]
[null,null,null,null,null,null,null,null,null,null,null,null,null,null,null,null,null,null,null,null,null,{"$f":"IF(RawData!A65375<>\"\",ROW(RawData!A65375),0)","v":0},{"$f":"IF(RawData!A65375=\"\",\"blank\",\"\")","v":"blank"}]
[null,null,null,null,null,null,null,null,null,null,null,null,null,null,null,null,null,null,null,null,null,{"$f":"IF(RawData!A65376<>\"\",ROW(RawData!A65376),0)","v":0},{"$f":"IF(RawData!A65376=\"\",\"blank\",\"\")","v":"blank"}]
[null,null,null,null,null,null,null,null,null,null,null,null,null,null,null,null,null,null,null,null,null,{"$f":"IF(RawData!A65377<>\"\",ROW(RawData!A65377),0)","v":0},{"$f":"IF(RawData!A65377=\"\",\"blank\",\"\")","v":"blank"}]
[null,null,null,null,null,null,null,null,null,null,null,null,null,null,null,null,null,null,null,null,null,{"$f":"IF(RawData!A65378<>\"\",ROW(RawData!A65378),0)","v":0},{"$f":"IF(RawData!A65378=\"\",\"blank\",\"\")","v":"blank"}]
[null,null,null,null,null,null,null,null,null,null,null,null,null,null,null,null,null,null,null,null,null,{"$f":"IF(RawData!A65379<>\"\",ROW(RawData!A65379),0)","v":0},{"$f":"IF(RawData!A65379=\"\",\"blank\",\"\")","v":"blank"}]
[null,null,null,null,null,null,null,null,null,null,null,null,null,null,null,null,null,null,null,null,null,{"$f":"IF(RawData!A65380<>\"\",ROW(RawData!A65380),0)","v":0},{"$f":"IF(RawData!A65380=\"\",\"blank\",\"\")","v":"blank"}]
[null,null,null,null,null,null,null,null,null,null,null,null,null,null,null,null,null,null,null,null,null,{"$f":"IF(RawData!A65381<>\"\",ROW(RawData!A65381),0)","v":0},{"$f":"IF(RawData!A65381=\"\",\"blank\",\"\")","v":"blank"}]
[null,null,null,null,null,null,null,null,null,null,null,null,null,null,null,null,null,null,null,null,null,{"$f":"IF(RawData!A65382<>\"\",ROW(RawData!A65382),0)","v":0},{"$f":"IF(RawData!A65382=\"\",\"blank\",\"\")","v":"blank"}]
[null,null,null,null,null,null,null,null,null,null,null,null,null,null,null,null,null,null,null,null,null,{"$f":"IF(RawData!A65383<>\"\",ROW(RawData!A65383),0)","v":0},{"$f":"IF(RawData!A65383=\"\",\"blank\",\"\")","v":"blank"}]
[null,null,null,null,null,null,null,null,null,null,null,null,null,null,null,null,null,null,null,null,null,{"$f":"IF(RawData!A65384<>\"\",ROW(RawData!A65384),0)","v":0},{"$f":"IF(RawData!A65384=\"\",\"blank\",\"\")","v":"blank"}]
[null,null,null,null,null,null,null,null,null,null,null,null,null,null,null,null,null,null,null,null,null,{"$f":"IF(RawData!A65385<>\"\",ROW(RawData!A65385),0)","v":0},{"$f":"IF(RawData!A65385=\"\",\"blank\",\"\")","v":"blank"}]
[null,null,null,null,null,null,null,null,null,null,null,null,null,null,null,null,null,null,null,null,null,{"$f":"IF(RawData!A65386<>\"\",ROW(RawData!A65386),0)","v":0},{"$f":"IF(RawData!A65386=\"\",\"blank\",\"\")","v":"blank"}]
[null,null,null,null,null,null,null,null,null,null,null,null,null,null,null,null,null,null,null,null,null,{"$f":"IF(RawData!A65387<>\"\",ROW(RawData!A65387),0)","v":0},{"$f":"IF(RawData!A65387=\"\",\"blank\",\"\")","v":"blank"}]
[null,null,null,null,null,null,null,null,null,null,null,null,null,null,null,null,null,null,null,null,null,{"$f":"IF(RawData!A65388<>\"\",ROW(RawData!A65388),0)","v":0},{"$f":"IF(RawData!A65388=\"\",\"blank\",\"\")","v":"blank"}]
[null,null,null,null,null,null,null,null,null,null,null,null,null,null,null,null,null,null,null,null,null,{"$f":"IF(RawData!A65389<>\"\",ROW(RawData!A65389),0)","v":0},{"$f":"IF(RawData!A65389=\"\",\"blank\",\"\")","v":"blank"}]
[null,null,null,null,null,null,null,null,null,null,null,null,null,null,null,null,null,null,null,null,null,{"$f":"IF(RawData!A65390<>\"\",ROW(RawData!A65390),0)","v":0},{"$f":"IF(RawData!A65390=\"\",\"blank\",\"\")","v":"blank"}]
[null,null,null,null,null,null,null,null,null,null,null,null,null,null,null,null,null,null,null,null,null,{"$f":"IF(RawData!A65391<>\"\",ROW(RawData!A65391),0)","v":0},{"$f":"IF(RawData!A65391=\"\",\"blank\",\"\")","v":"blank"}]
[null,null,null,null,null,null,null,null,null,null,null,null,null,null,null,null,null,null,null,null,null,{"$f":"IF(RawData!A65392<>\"\",ROW(RawData!A65392),0)","v":0},{"$f":"IF(RawData!A65392=\"\",\"blank\",\"\")","v":"blank"}]
[null,null,null,null,null,null,null,null,null,null,null,null,null,null,null,null,null,null,null,null,null,{"$f":"IF(RawData!A65393<>\"\",ROW(RawData!A65393),0)","v":0},{"$f":"IF(RawData!A65393=\"\",\"blank\",\"\")","v":"blank"}]
[null,null,null,null,null,null,null,null,null,null,null,null,null,null,null,null,null,null,null,null,null,{"$f":"IF(RawData!A65394<>\"\",ROW(RawData!A65394),0)","v":0},{"$f":"IF(RawData!A65394=\"\",\"blank\",\"\")","v":"blank"}]
[null,null,null,null,null,null,null,null,null,null,null,null,null,null,null,null,null,null,null,null,null,{"$f":"IF(RawData!A65395<>\"\",ROW(RawData!A65395),0)","v":0},{"$f":"IF(RawData!A65395=\"\",\"blank\",\"\")","v":"blank"}]
[null,null,null,null,null,null,null,null,null,null,null,null,null,null,null,null,null,null,null,null,null,{"$f":"IF(RawData!A65396<>\"\",ROW(RawData!A65396),0)","v":0},{"$f":"IF(RawData!A65396=\"\",\"blank\",\"\")","v":"blank"}]
[null,null,null,null,null,null,null,null,null,null,null,null,null,null,null,null,null,null,null,null,null,{"$f":"IF(RawData!A65397<>\"\",ROW(RawData!A65397),0)","v":0},{"$f":"IF(RawData!A65397=\"\",\"blank\",\"\")","v":"blank"}]
[null,null,null,null,null,null,null,null,null,null,null,null,null,null,null,null,null,null,null,null,null,{"$f":"IF(RawData!A65398<>\"\",ROW(RawData!A65398),0)","v":0},{"$f":"IF(RawData!A65398=\"\",\"blank\",\"\")","v":"blank"}]
[null,null,null,null,null,null,null,null,null,null,null,null,null,null,null,null,null,null,null,null,null,{"$f":"IF(RawData!A65399<>\"\",ROW(RawData!A65399),0)","v":0},{"$f":"IF(RawData!A65399=\"\",\"blank\",\"\")","v":"blank"}]
[null,null,null,null,null,null,null,null,null,null,null,null,null,null,null,null,null,null,null,null,null,{"$f":"IF(RawData!A65400<>\"\",ROW(RawData!A65400),0)","v":0},{"$f":"IF(RawData!A65400=\"\",\"blank\",\"\")","v":"blank"}]
[null,null,null,null,null,null,null,null,null,null,null,null,null,null,null,null,null,null,null,null,null,{"$f":"IF(RawData!A65401<>\"\",ROW(RawData!A65401),0)","v":0},{"$f":"IF(RawData!A65401=\"\",\"blank\",\"\")","v":"blank"}]
[null,null,null,null,null,null,null,null,null,null,null,null,null,null,null,null,null,null,null,null,null,{"$f":"IF(RawData!A65402<>\"\",ROW(RawData!A65402),0)","v":0},{"$f":"IF(RawData!A65402=\"\",\"blank\",\"\")","v":"blank"}]
[null,null,null,null,null,null,null,null,null,null,null,null,null,null,null,null,null,null,null,null,null,{"$f":"IF(RawData!A65403<>\"\",ROW(RawData!A65403),0)","v":0},{"$f":"IF(RawData!A65403=\"\",\"blank\",\"\")","v":"blank"}]
[null,null,null,null,null,null,null,null,null,null,null,null,null,null,null,null,null,null,null,null,null,{"$f":"IF(RawData!A65404<>\"\",ROW(RawData!A65404),0)","v":0},{"$f":"IF(RawData!A65404=\"\",\"blank\",\"\")","v":"blank"}]
[null,null,null,null,null,null,null,null,null,null,null,null,null,null,null,null,null,null,null,null,null,{"$f":"IF(RawData!A65405<>\"\",ROW(RawData!A65405),0)","v":0},{"$f":"IF(RawData!A65405=\"\",\"blank\",\"\")","v":"blank"}]
[null,null,null,null,null,null,null,null,null,null,null,null,null,null,null,null,null,null,null,null,null,{"$f":"IF(RawData!A65406<>\"\",ROW(RawData!A65406),0)","v":0},{"$f":"IF(RawData!A65406=\"\",\"blank\",\"\")","v":"blank"}]
[null,null,null,null,null,null,null,null,null,null,null,null,null,null,null,null,null,null,null,null,null,{"$f":"IF(RawData!A65407<>\"\",ROW(RawData!A65407),0)","v":0},{"$f":"IF(RawData!A65407=\"\",\"blank\",\"\")","v":"blank"}]
[null,null,null,null,null,null,null,null,null,null,null,null,null,null,null,null,null,null,null,null,null,{"$f":"IF(RawData!A65408<>\"\",ROW(RawData!A65408),0)","v":0},{"$f":"IF(RawData!A65408=\"\",\"blank\",\"\")","v":"blank"}]
[null,null,null,null,null,null,null,null,null,null,null,null,null,null,null,null,null,null,null,null,null,{"$f":"IF(RawData!A65409<>\"\",ROW(RawData!A65409),0)","v":0},{"$f":"IF(RawData!A65409=\"\",\"blank\",\"\")","v":"blank"}]
[null,null,null,null,null,null,null,null,null,null,null,null,null,null,null,null,null,null,null,null,null,{"$f":"IF(RawData!A65410<>\"\",ROW(RawData!A65410),0)","v":0},{"$f":"IF(RawData!A65410=\"\",\"blank\",\"\")","v":"blank"}]
[null,null,null,null,null,null,null,null,null,null,null,null,null,null,null,null,null,null,null,null,null,{"$f":"IF(RawData!A65411<>\"\",ROW(RawData!A65411),0)","v":0},{"$f":"IF(RawData!A65411=\"\",\"blank\",\"\")","v":"blank"}]
[null,null,null,null,null,null,null,null,null,null,null,null,null,null,null,null,null,null,null,null,null,{"$f":"IF(RawData!A65412<>\"\",ROW(RawData!A65412),0)","v":0},{"$f":"IF(RawData!A65412=\"\",\"blank\",\"\")","v":"blank"}]
[null,null,null,null,null,null,null,null,null,null,null,null,null,null,null,null,null,null,null,null,null,{"$f":"IF(RawData!A65413<>\"\",ROW(RawData!A65413),0)","v":0},{"$f":"IF(RawData!A65413=\"\",\"blank\",\"\")","v":"blank"}]
[null,null,null,null,null,null,null,null,null,null,null,null,null,null,null,null,null,null,null,null,null,{"$f":"IF(RawData!A65414<>\"\",ROW(RawData!A65414),0)","v":0},{"$f":"IF(RawData!A65414=\"\",\"blank\",\"\")","v":"blank"}]
[null,null,null,null,null,null,null,null,null,null,null,null,null,null,null,null,null,null,null,null,null,{"$f":"IF(RawData!A65415<>\"\",ROW(RawData!A65415),0)","v":0},{"$f":"IF(RawData!A65415=\"\",\"blank\",\"\")","v":"blank"}]
[null,null,null,null,null,null,null,null,null,null,null,null,null,null,null,null,null,null,null,null,null,{"$f":"IF(RawData!A65416<>\"\",ROW(RawData!A65416),0)","v":0},{"$f":"IF(RawData!A65416=\"\",\"blank\",\"\")","v":"blank"}]
[null,null,null,null,null,null,null,null,null,null,null,null,null,null,null,null,null,null,null,null,null,{"$f":"IF(RawData!A65417<>\"\",ROW(RawData!A65417),0)","v":0},{"$f":"IF(RawData!A65417=\"\",\"blank\",\"\")","v":"blank"}]
[null,null,null,null,null,null,null,null,null,null,null,null,null,null,null,null,null,null,null,null,null,{"$f":"IF(RawData!A65418<>\"\",ROW(RawData!A65418),0)","v":0},{"$f":"IF(RawData!A65418=\"\",\"blank\",\"\")","v":"blank"}]
[null,null,null,null,null,null,null,null,null,null,null,null,null,null,null,null,null,null,null,null,null,{"$f":"IF(RawData!A65419<>\"\",ROW(RawData!A65419),0)","v":0},{"$f":"IF(RawData!A65419=\"\",\"blank\",\"\")","v":"blank"}]
[null,null,null,null,null,null,null,null,null,null,null,null,null,null,null,null,null,null,null,null,null,{"$f":"IF(RawData!A65420<>\"\",ROW(RawData!A65420),0)","v":0},{"$f":"IF(RawData!A65420=\"\",\"blank\",\"\")","v":"blank"}]
[null,null,null,null,null,null,null,null,null,null,null,null,null,null,null,null,null,null,null,null,null,{"$f":"IF(RawData!A65421<>\"\",ROW(RawData!A65421),0)","v":0},{"$f":"IF(RawData!A65421=\"\",\"blank\",\"\")","v":"blank"}]
[null,null,null,null,null,null,null,null,null,null,null,null,null,null,null,null,null,null,null,null,null,{"$f":"IF(RawData!A65422<>\"\",ROW(RawData!A65422),0)","v":0},{"$f":"IF(RawData!A65422=\"\",\"blank\",\"\")","v":"blank"}]
[null,null,null,null,null,null,null,null,null,null,null,null,null,null,null,null,null,null,null,null,null,{"$f":"IF(RawData!A65423<>\"\",ROW(RawData!A65423),0)","v":0},{"$f":"IF(RawData!A65423=\"\",\"blank\",\"\")","v":"blank"}]
[null,null,null,null,null,null,null,null,null,null,null,null,null,null,null,null,null,null,null,null,null,{"$f":"IF(RawData!A65424<>\"\",ROW(RawData!A65424),0)","v":0},{"$f":"IF(RawData!A65424=\"\",\"blank\",\"\")","v":"blank"}]
[null,null,null,null,null,null,null,null,null,null,null,null,null,null,null,null,null,null,null,null,null,{"$f":"IF(RawData!A65425<>\"\",ROW(RawData!A65425),0)","v":0},{"$f":"IF(RawData!A65425=\"\",\"blank\",\"\")","v":"blank"}]
[null,null,null,null,null,null,null,null,null,null,null,null,null,null,null,null,null,null,null,null,null,{"$f":"IF(RawData!A65426<>\"\",ROW(RawData!A65426),0)","v":0},{"$f":"IF(RawData!A65426=\"\",\"blank\",\"\")","v":"blank"}]
[null,null,null,null,null,null,null,null,null,null,null,null,null,null,null,null,null,null,null,null,null,{"$f":"IF(RawData!A65427<>\"\",ROW(RawData!A65427),0)","v":0},{"$f":"IF(RawData!A65427=\"\",\"blank\",\"\")","v":"blank"}]
[null,null,null,null,null,null,null,null,null,null,null,null,null,null,null,null,null,null,null,null,null,{"$f":"IF(RawData!A65428<>\"\",ROW(RawData!A65428),0)","v":0},{"$f":"IF(RawData!A65428=\"\",\"blank\",\"\")","v":"blank"}]
[null,null,null,null,null,null,null,null,null,null,null,null,null,null,null,null,null,null,null,null,null,{"$f":"IF(RawData!A65429<>\"\",ROW(RawData!A65429),0)","v":0},{"$f":"IF(RawData!A65429=\"\",\"blank\",\"\")","v":"blank"}]
[null,null,null,null,null,null,null,null,null,null,null,null,null,null,null,null,null,null,null,null,null,{"$f":"IF(RawData!A65430<>\"\",ROW(RawData!A65430),0)","v":0},{"$f":"IF(RawData!A65430=\"\",\"blank\",\"\")","v":"blank"}]
[null,null,null,null,null,null,null,null,null,null,null,null,null,null,null,null,null,null,null,null,null,{"$f":"IF(RawData!A65431<>\"\",ROW(RawData!A65431),0)","v":0},{"$f":"IF(RawData!A65431=\"\",\"blank\",\"\")","v":"blank"}]
[null,null,null,null,null,null,null,null,null,null,null,null,null,null,null,null,null,null,null,null,null,{"$f":"IF(RawData!A65432<>\"\",ROW(RawData!A65432),0)","v":0},{"$f":"IF(RawData!A65432=\"\",\"blank\",\"\")","v":"blank"}]
[null,null,null,null,null,null,null,null,null,null,null,null,null,null,null,null,null,null,null,null,null,{"$f":"IF(RawData!A65433<>\"\",ROW(RawData!A65433),0)","v":0},{"$f":"IF(RawData!A65433=\"\",\"blank\",\"\")","v":"blank"}]
[null,null,null,null,null,null,null,null,null,null,null,null,null,null,null,null,null,null,null,null,null,{"$f":"IF(RawData!A65434<>\"\",ROW(RawData!A65434),0)","v":0},{"$f":"IF(RawData!A65434=\"\",\"blank\",\"\")","v":"blank"}]
[null,null,null,null,null,null,null,null,null,null,null,null,null,null,null,null,null,null,null,null,null,{"$f":"IF(RawData!A65435<>\"\",ROW(RawData!A65435),0)","v":0},{"$f":"IF(RawData!A65435=\"\",\"blank\",\"\")","v":"blank"}]
[null,null,null,null,null,null,null,null,null,null,null,null,null,null,null,null,null,null,null,null,null,{"$f":"IF(RawData!A65436<>\"\",ROW(RawData!A65436),0)","v":0},{"$f":"IF(RawData!A65436=\"\",\"blank\",\"\")","v":"blank"}]
[null,null,null,null,null,null,null,null,null,null,null,null,null,null,null,null,null,null,null,null,null,{"$f":"IF(RawData!A65437<>\"\",ROW(RawData!A65437),0)","v":0},{"$f":"IF(RawData!A65437=\"\",\"blank\",\"\")","v":"blank"}]
[null,null,null,null,null,null,null,null,null,null,null,null,null,null,null,null,null,null,null,null,null,{"$f":"IF(RawData!A65438<>\"\",ROW(RawData!A65438),0)","v":0},{"$f":"IF(RawData!A65438=\"\",\"blank\",\"\")","v":"blank"}]
[null,null,null,null,null,null,null,null,null,null,null,null,null,null,null,null,null,null,null,null,null,{"$f":"IF(RawData!A65439<>\"\",ROW(RawData!A65439),0)","v":0},{"$f":"IF(RawData!A65439=\"\",\"blank\",\"\")","v":"blank"}]
[null,null,null,null,null,null,null,null,null,null,null,null,null,null,null,null,null,null,null,null,null,{"$f":"IF(RawData!A65440<>\"\",ROW(RawData!A65440),0)","v":0},{"$f":"IF(RawData!A65440=\"\",\"blank\",\"\")","v":"blank"}]
[null,null,null,null,null,null,null,null,null,null,null,null,null,null,null,null,null,null,null,null,null,{"$f":"IF(RawData!A65441<>\"\",ROW(RawData!A65441),0)","v":0},{"$f":"IF(RawData!A65441=\"\",\"blank\",\"\")","v":"blank"}]
[null,null,null,null,null,null,null,null,null,null,null,null,null,null,null,null,null,null,null,null,null,{"$f":"IF(RawData!A65442<>\"\",ROW(RawData!A65442),0)","v":0},{"$f":"IF(RawData!A65442=\"\",\"blank\",\"\")","v":"blank"}]
[null,null,null,null,null,null,null,null,null,null,null,null,null,null,null,null,null,null,null,null,null,{"$f":"IF(RawData!A65443<>\"\",ROW(RawData!A65443),0)","v":0},{"$f":"IF(RawData!A65443=\"\",\"blank\",\"\")","v":"blank"}]
[null,null,null,null,null,null,null,null,null,null,null,null,null,null,null,null,null,null,null,null,null,{"$f":"IF(RawData!A65444<>\"\",ROW(RawData!A65444),0)","v":0},{"$f":"IF(RawData!A65444=\"\",\"blank\",\"\")","v":"blank"}]
[null,null,null,null,null,null,null,null,null,null,null,null,null,null,null,null,null,null,null,null,null,{"$f":"IF(RawData!A65445<>\"\",ROW(RawData!A65445),0)","v":0},{"$f":"IF(RawData!A65445=\"\",\"blank\",\"\")","v":"blank"}]
[null,null,null,null,null,null,null,null,null,null,null,null,null,null,null,null,null,null,null,null,null,{"$f":"IF(RawData!A65446<>\"\",ROW(RawData!A65446),0)","v":0},{"$f":"IF(RawData!A65446=\"\",\"blank\",\"\")","v":"blank"}]
[null,null,null,null,null,null,null,null,null,null,null,null,null,null,null,null,null,null,null,null,null,{"$f":"IF(RawData!A65447<>\"\",ROW(RawData!A65447),0)","v":0},{"$f":"IF(RawData!A65447=\"\",\"blank\",\"\")","v":"blank"}]
[null,null,null,null,null,null,null,null,null,null,null,null,null,null,null,null,null,null,null,null,null,{"$f":"IF(RawData!A65448<>\"\",ROW(RawData!A65448),0)","v":0},{"$f":"IF(RawData!A65448=\"\",\"blank\",\"\")","v":"blank"}]
[null,null,null,null,null,null,null,null,null,null,null,null,null,null,null,null,null,null,null,null,null,{"$f":"IF(RawData!A65449<>\"\",ROW(RawData!A65449),0)","v":0},{"$f":"IF(RawData!A65449=\"\",\"blank\",\"\")","v":"blank"}]
[null,null,null,null,null,null,null,null,null,null,null,null,null,null,null,null,null,null,null,null,null,{"$f":"IF(RawData!A65450<>\"\",ROW(RawData!A65450),0)","v":0},{"$f":"IF(RawData!A65450=\"\",\"blank\",\"\")","v":"blank"}]
[null,null,null,null,null,null,null,null,null,null,null,null,null,null,null,null,null,null,null,null,null,{"$f":"IF(RawData!A65451<>\"\",ROW(RawData!A65451),0)","v":0},{"$f":"IF(RawData!A65451=\"\",\"blank\",\"\")","v":"blank"}]
[null,null,null,null,null,null,null,null,null,null,null,null,null,null,null,null,null,null,null,null,null,{"$f":"IF(RawData!A65452<>\"\",ROW(RawData!A65452),0)","v":0},{"$f":"IF(RawData!A65452=\"\",\"blank\",\"\")","v":"blank"}]
[null,null,null,null,null,null,null,null,null,null,null,null,null,null,null,null,null,null,null,null,null,{"$f":"IF(RawData!A65453<>\"\",ROW(RawData!A65453),0)","v":0},{"$f":"IF(RawData!A65453=\"\",\"blank\",\"\")","v":"blank"}]
[null,null,null,null,null,null,null,null,null,null,null,null,null,null,null,null,null,null,null,null,null,{"$f":"IF(RawData!A65454<>\"\",ROW(RawData!A65454),0)","v":0},{"$f":"IF(RawData!A65454=\"\",\"blank\",\"\")","v":"blank"}]
[null,null,null,null,null,null,null,null,null,null,null,null,null,null,null,null,null,null,null,null,null,{"$f":"IF(RawData!A65455<>\"\",ROW(RawData!A65455),0)","v":0},{"$f":"IF(RawData!A65455=\"\",\"blank\",\"\")","v":"blank"}]
[null,null,null,null,null,null,null,null,null,null,null,null,null,null,null,null,null,null,null,null,null,{"$f":"IF(RawData!A65456<>\"\",ROW(RawData!A65456),0)","v":0},{"$f":"IF(RawData!A65456=\"\",\"blank\",\"\")","v":"blank"}]
[null,null,null,null,null,null,null,null,null,null,null,null,null,null,null,null,null,null,null,null,null,{"$f":"IF(RawData!A65457<>\"\",ROW(RawData!A65457),0)","v":0},{"$f":"IF(RawData!A65457=\"\",\"blank\",\"\")","v":"blank"}]
[null,null,null,null,null,null,null,null,null,null,null,null,null,null,null,null,null,null,null,null,null,{"$f":"IF(RawData!A65458<>\"\",ROW(RawData!A65458),0)","v":0},{"$f":"IF(RawData!A65458=\"\",\"blank\",\"\")","v":"blank"}]
[null,null,null,null,null,null,null,null,null,null,null,null,null,null,null,null,null,null,null,null,null,{"$f":"IF(RawData!A65459<>\"\",ROW(RawData!A65459),0)","v":0},{"$f":"IF(RawData!A65459=\"\",\"blank\",\"\")","v":"blank"}]
[null,null,null,null,null,null,null,null,null,null,null,null,null,null,null,null,null,null,null,null,null,{"$f":"IF(RawData!A65460<>\"\",ROW(RawData!A65460),0)","v":0},{"$f":"IF(RawData!A65460=\"\",\"blank\",\"\")","v":"blank"}]
[null,null,null,null,null,null,null,null,null,null,null,null,null,null,null,null,null,null,null,null,null,{"$f":"IF(RawData!A65461<>\"\",ROW(RawData!A65461),0)","v":0},{"$f":"IF(RawData!A65461=\"\",\"blank\",\"\")","v":"blank"}]
[null,null,null,null,null,null,null,null,null,null,null,null,null,null,null,null,null,null,null,null,null,{"$f":"IF(RawData!A65462<>\"\",ROW(RawData!A65462),0)","v":0},{"$f":"IF(RawData!A65462=\"\",\"blank\",\"\")","v":"blank"}]
[null,null,null,null,null,null,null,null,null,null,null,null,null,null,null,null,null,null,null,null,null,{"$f":"IF(RawData!A65463<>\"\",ROW(RawData!A65463),0)","v":0},{"$f":"IF(RawData!A65463=\"\",\"blank\",\"\")","v":"blank"}]
[null,null,null,null,null,null,null,null,null,null,null,null,null,null,null,null,null,null,null,null,null,{"$f":"IF(RawData!A65464<>\"\",ROW(RawData!A65464),0)","v":0},{"$f":"IF(RawData!A65464=\"\",\"blank\",\"\")","v":"blank"}]
[null,null,null,null,null,null,null,null,null,null,null,null,null,null,null,null,null,null,null,null,null,{"$f":"IF(RawData!A65465<>\"\",ROW(RawData!A65465),0)","v":0},{"$f":"IF(RawData!A65465=\"\",\"blank\",\"\")","v":"blank"}]
[null,null,null,null,null,null,null,null,null,null,null,null,null,null,null,null,null,null,null,null,null,{"$f":"IF(RawData!A65466<>\"\",ROW(RawData!A65466),0)","v":0},{"$f":"IF(RawData!A65466=\"\",\"blank\",\"\")","v":"blank"}]
[null,null,null,null,null,null,null,null,null,null,null,null,null,null,null,null,null,null,null,null,null,{"$f":"IF(RawData!A65467<>\"\",ROW(RawData!A65467),0)","v":0},{"$f":"IF(RawData!A65467=\"\",\"blank\",\"\")","v":"blank"}]
[null,null,null,null,null,null,null,null,null,null,null,null,null,null,null,null,null,null,null,null,null,{"$f":"IF(RawData!A65468<>\"\",ROW(RawData!A65468),0)","v":0},{"$f":"IF(RawData!A65468=\"\",\"blank\",\"\")","v":"blank"}]
[null,null,null,null,null,null,null,null,null,null,null,null,null,null,null,null,null,null,null,null,null,{"$f":"IF(RawData!A65469<>\"\",ROW(RawData!A65469),0)","v":0},{"$f":"IF(RawData!A65469=\"\",\"blank\",\"\")","v":"blank"}]
[null,null,null,null,null,null,null,null,null,null,null,null,null,null,null,null,null,null,null,null,null,{"$f":"IF(RawData!A65470<>\"\",ROW(RawData!A65470),0)","v":0},{"$f":"IF(RawData!A65470=\"\",\"blank\",\"\")","v":"blank"}]
[null,null,null,null,null,null,null,null,null,null,null,null,null,null,null,null,null,null,null,null,null,{"$f":"IF(RawData!A65471<>\"\",ROW(RawData!A65471),0)","v":0},{"$f":"IF(RawData!A65471=\"\",\"blank\",\"\")","v":"blank"}]
[null,null,null,null,null,null,null,null,null,null,null,null,null,null,null,null,null,null,null,null,null,{"$f":"IF(RawData!A65472<>\"\",ROW(RawData!A65472),0)","v":0},{"$f":"IF(RawData!A65472=\"\",\"blank\",\"\")","v":"blank"}]
[null,null,null,null,null,null,null,null,null,null,null,null,null,null,null,null,null,null,null,null,null,{"$f":"IF(RawData!A65473<>\"\",ROW(RawData!A65473),0)","v":0},{"$f":"IF(RawData!A65473=\"\",\"blank\",\"\")","v":"blank"}]
[null,null,null,null,null,null,null,null,null,null,null,null,null,null,null,null,null,null,null,null,null,{"$f":"IF(RawData!A65474<>\"\",ROW(RawData!A65474),0)","v":0},{"$f":"IF(RawData!A65474=\"\",\"blank\",\"\")","v":"blank"}]
[null,null,null,null,null,null,null,null,null,null,null,null,null,null,null,null,null,null,null,null,null,{"$f":"IF(RawData!A65475<>\"\",ROW(RawData!A65475),0)","v":0},{"$f":"IF(RawData!A65475=\"\",\"blank\",\"\")","v":"blank"}]
[null,null,null,null,null,null,null,null,null,null,null,null,null,null,null,null,null,null,null,null,null,{"$f":"IF(RawData!A65476<>\"\",ROW(RawData!A65476),0)","v":0},{"$f":"IF(RawData!A65476=\"\",\"blank\",\"\")","v":"blank"}]
[null,null,null,null,null,null,null,null,null,null,null,null,null,null,null,null,null,null,null,null,null,{"$f":"IF(RawData!A65477<>\"\",ROW(RawData!A65477),0)","v":0},{"$f":"IF(RawData!A65477=\"\",\"blank\",\"\")","v":"blank"}]
[null,null,null,null,null,null,null,null,null,null,null,null,null,null,null,null,null,null,null,null,null,{"$f":"IF(RawData!A65478<>\"\",ROW(RawData!A65478),0)","v":0},{"$f":"IF(RawData!A65478=\"\",\"blank\",\"\")","v":"blank"}]
[null,null,null,null,null,null,null,null,null,null,null,null,null,null,null,null,null,null,null,null,null,{"$f":"IF(RawData!A65479<>\"\",ROW(RawData!A65479),0)","v":0},{"$f":"IF(RawData!A65479=\"\",\"blank\",\"\")","v":"blank"}]
[null,null,null,null,null,null,null,null,null,null,null,null,null,null,null,null,null,null,null,null,null,{"$f":"IF(RawData!A65480<>\"\",ROW(RawData!A65480),0)","v":0},{"$f":"IF(RawData!A65480=\"\",\"blank\",\"\")","v":"blank"}]
[null,null,null,null,null,null,null,null,null,null,null,null,null,null,null,null,null,null,null,null,null,{"$f":"IF(RawData!A65481<>\"\",ROW(RawData!A65481),0)","v":0},{"$f":"IF(RawData!A65481=\"\",\"blank\",\"\")","v":"blank"}]
[null,null,null,null,null,null,null,null,null,null,null,null,null,null,null,null,null,null,null,null,null,{"$f":"IF(RawData!A65482<>\"\",ROW(RawData!A65482),0)","v":0},{"$f":"IF(RawData!A65482=\"\",\"blank\",\"\")","v":"blank"}]
[null,null,null,null,null,null,null,null,null,null,null,null,null,null,null,null,null,null,null,null,null,{"$f":"IF(RawData!A65483<>\"\",ROW(RawData!A65483),0)","v":0},{"$f":"IF(RawData!A65483=\"\",\"blank\",\"\")","v":"blank"}]
[null,null,null,null,null,null,null,null,null,null,null,null,null,null,null,null,null,null,null,null,null,{"$f":"IF(RawData!A65484<>\"\",ROW(RawData!A65484),0)","v":0},{"$f":"IF(RawData!A65484=\"\",\"blank\",\"\")","v":"blank"}]
[null,null,null,null,null,null,null,null,null,null,null,null,null,null,null,null,null,null,null,null,null,{"$f":"IF(RawData!A65485<>\"\",ROW(RawData!A65485),0)","v":0},{"$f":"IF(RawData!A65485=\"\",\"blank\",\"\")","v":"blank"}]
[null,null,null,null,null,null,null,null,null,null,null,null,null,null,null,null,null,null,null,null,null,{"$f":"IF(RawData!A65486<>\"\",ROW(RawData!A65486),0)","v":0},{"$f":"IF(RawData!A65486=\"\",\"blank\",\"\")","v":"blank"}]
[null,null,null,null,null,null,null,null,null,null,null,null,null,null,null,null,null,null,null,null,null,{"$f":"IF(RawData!A65487<>\"\",ROW(RawData!A65487),0)","v":0},{"$f":"IF(RawData!A65487=\"\",\"blank\",\"\")","v":"blank"}]
[null,null,null,null,null,null,null,null,null,null,null,null,null,null,null,null,null,null,null,null,null,{"$f":"IF(RawData!A65488<>\"\",ROW(RawData!A65488),0)","v":0},{"$f":"IF(RawData!A65488=\"\",\"blank\",\"\")","v":"blank"}]
[null,null,null,null,null,null,null,null,null,null,null,null,null,null,null,null,null,null,null,null,null,{"$f":"IF(RawData!A65489<>\"\",ROW(RawData!A65489),0)","v":0},{"$f":"IF(RawData!A65489=\"\",\"blank\",\"\")","v":"blank"}]
[null,null,null,null,null,null,null,null,null,null,null,null,null,null,null,null,null,null,null,null,null,{"$f":"IF(RawData!A65490<>\"\",ROW(RawData!A65490),0)","v":0},{"$f":"IF(RawData!A65490=\"\",\"blank\",\"\")","v":"blank"}]
[null,null,null,null,null,null,null,null,null,null,null,null,null,null,null,null,null,null,null,null,null,{"$f":"IF(RawData!A65491<>\"\",ROW(RawData!A65491),0)","v":0},{"$f":"IF(RawData!A65491=\"\",\"blank\",\"\")","v":"blank"}]
[null,null,null,null,null,null,null,null,null,null,null,null,null,null,null,null,null,null,null,null,null,{"$f":"IF(RawData!A65492<>\"\",ROW(RawData!A65492),0)","v":0},{"$f":"IF(RawData!A65492=\"\",\"blank\",\"\")","v":"blank"}]
[null,null,null,null,null,null,null,null,null,null,null,null,null,null,null,null,null,null,null,null,null,{"$f":"IF(RawData!A65493<>\"\",ROW(RawData!A65493),0)","v":0},{"$f":"IF(RawData!A65493=\"\",\"blank\",\"\")","v":"blank"}]
[null,null,null,null,null,null,null,null,null,null,null,null,null,null,null,null,null,null,null,null,null,{"$f":"IF(RawData!A65494<>\"\",ROW(RawData!A65494),0)","v":0},{"$f":"IF(RawData!A65494=\"\",\"blank\",\"\")","v":"blank"}]
[null,null,null,null,null,null,null,null,null,null,null,null,null,null,null,null,null,null,null,null,null,{"$f":"IF(RawData!A65495<>\"\",ROW(RawData!A65495),0)","v":0},{"$f":"IF(RawData!A65495=\"\",\"blank\",\"\")","v":"blank"}]
[null,null,null,null,null,null,null,null,null,null,null,null,null,null,null,null,null,null,null,null,null,{"$f":"IF(RawData!A65496<>\"\",ROW(RawData!A65496),0)","v":0},{"$f":"IF(RawData!A65496=\"\",\"blank\",\"\")","v":"blank"}]
[null,null,null,null,null,null,null,null,null,null,null,null,null,null,null,null,null,null,null,null,null,{"$f":"IF(RawData!A65497<>\"\",ROW(RawData!A65497),0)","v":0},{"$f":"IF(RawData!A65497=\"\",\"blank\",\"\")","v":"blank"}]
[null,null,null,null,null,null,null,null,null,null,null,null,null,null,null,null,null,null,null,null,null,{"$f":"IF(RawData!A65498<>\"\",ROW(RawData!A65498),0)","v":0},{"$f":"IF(RawData!A65498=\"\",\"blank\",\"\")","v":"blank"}]
[null,null,null,null,null,null,null,null,null,null,null,null,null,null,null,null,null,null,null,null,null,{"$f":"IF(RawData!A65499<>\"\",ROW(RawData!A65499),0)","v":0},{"$f":"IF(RawData!A65499=\"\",\"blank\",\"\")","v":"blank"}]
[null,null,null,null,null,null,null,null,null,null,null,null,null,null,null,null,null,null,null,null,null,{"$f":"IF(RawData!A65500<>\"\",ROW(RawData!A65500),0)","v":0},{"$f":"IF(RawData!A65500=\"\",\"blank\",\"\")","v":"blank"}]
[null,null,null,null,null,null,null,null,null,null,null,null,null,null,null,null,null,null,null,null,null,{"$f":"IF(RawData!A65501<>\"\",ROW(RawData!A65501),0)","v":0},{"$f":"IF(RawData!A65501=\"\",\"blank\",\"\")","v":"blank"}]
[null,null,null,null,null,null,null,null,null,null,null,null,null,null,null,null,null,null,null,null,null,{"$f":"IF(RawData!A65502<>\"\",ROW(RawData!A65502),0)","v":0},{"$f":"IF(RawData!A65502=\"\",\"blank\",\"\")","v":"blank"}]
[null,null,null,null,null,null,null,null,null,null,null,null,null,null,null,null,null,null,null,null,null,{"$f":"IF(RawData!A65503<>\"\",ROW(RawData!A65503),0)","v":0},{"$f":"IF(RawData!A65503=\"\",\"blank\",\"\")","v":"blank"}]
[null,null,null,null,null,null,null,null,null,null,null,null,null,null,null,null,null,null,null,null,null,{"$f":"IF(RawData!A65504<>\"\",ROW(RawData!A65504),0)","v":0},{"$f":"IF(RawData!A65504=\"\",\"blank\",\"\")","v":"blank"}]
[null,null,null,null,null,null,null,null,null,null,null,null,null,null,null,null,null,null,null,null,null,{"$f":"IF(RawData!A65505<>\"\",ROW(RawData!A65505),0)","v":0},{"$f":"IF(RawData!A65505=\"\",\"blank\",\"\")","v":"blank"}]
[null,null,null,null,null,null,null,null,null,null,null,null,null,null,null,null,null,null,null,null,null,{"$f":"IF(RawData!A65506<>\"\",ROW(RawData!A65506),0)","v":0},{"$f":"IF(RawData!A65506=\"\",\"blank\",\"\")","v":"blank"}]
[null,null,null,null,null,null,null,null,null,null,null,null,null,null,null,null,null,null,null,null,null,{"$f":"IF(RawData!A65507<>\"\",ROW(RawData!A65507),0)","v":0},{"$f":"IF(RawData!A65507=\"\",\"blank\",\"\")","v":"blank"}]
[null,null,null,null,null,null,null,null,null,null,null,null,null,null,null,null,null,null,null,null,null,{"$f":"IF(RawData!A65508<>\"\",ROW(RawData!A65508),0)","v":0},{"$f":"IF(RawData!A65508=\"\",\"blank\",\"\")","v":"blank"}]
[null,null,null,null,null,null,null,null,null,null,null,null,null,null,null,null,null,null,null,null,null,{"$f":"IF(RawData!A65509<>\"\",ROW(RawData!A65509),0)","v":0},{"$f":"IF(RawData!A65509=\"\",\"blank\",\"\")","v":"blank"}]
[null,null,null,null,null,null,null,null,null,null,null,null,null,null,null,null,null,null,null,null,null,{"$f":"IF(RawData!A65510<>\"\",ROW(RawData!A65510),0)","v":0},{"$f":"IF(RawData!A65510=\"\",\"blank\",\"\")","v":"blank"}]
[null,null,null,null,null,null,null,null,null,null,null,null,null,null,null,null,null,null,null,null,null,{"$f":"IF(RawData!A65511<>\"\",ROW(RawData!A65511),0)","v":0},{"$f":"IF(RawData!A65511=\"\",\"blank\",\"\")","v":"blank"}]
[null,null,null,null,null,null,null,null,null,null,null,null,null,null,null,null,null,null,null,null,null,{"$f":"IF(RawData!A65512<>\"\",ROW(RawData!A65512),0)","v":0},{"$f":"IF(RawData!A65512=\"\",\"blank\",\"\")","v":"blank"}]
[null,null,null,null,null,null,null,null,null,null,null,null,null,null,null,null,null,null,null,null,null,{"$f":"IF(RawData!A65513<>\"\",ROW(RawData!A65513),0)","v":0},{"$f":"IF(RawData!A65513=\"\",\"blank\",\"\")","v":"blank"}]
[null,null,null,null,null,null,null,null,null,null,null,null,null,null,null,null,null,null,null,null,null,{"$f":"IF(RawData!A65514<>\"\",ROW(RawData!A65514),0)","v":0},{"$f":"IF(RawData!A65514=\"\",\"blank\",\"\")","v":"blank"}]
[null,null,null,null,null,null,null,null,null,null,null,null,null,null,null,null,null,null,null,null,null,{"$f":"IF(RawData!A65515<>\"\",ROW(RawData!A65515),0)","v":0},{"$f":"IF(RawData!A65515=\"\",\"blank\",\"\")","v":"blank"}]
[null,null,null,null,null,null,null,null,null,null,null,null,null,null,null,null,null,null,null,null,null,{"$f":"IF(RawData!A65516<>\"\",ROW(RawData!A65516),0)","v":0},{"$f":"IF(RawData!A65516=\"\",\"blank\",\"\")","v":"blank"}]
[null,null,null,null,null,null,null,null,null,null,null,null,null,null,null,null,null,null,null,null,null,{"$f":"IF(RawData!A65517<>\"\",ROW(RawData!A65517),0)","v":0},{"$f":"IF(RawData!A65517=\"\",\"blank\",\"\")","v":"blank"}]
[null,null,null,null,null,null,null,null,null,null,null,null,null,null,null,null,null,null,null,null,null,{"$f":"IF(RawData!A65518<>\"\",ROW(RawData!A65518),0)","v":0},{"$f":"IF(RawData!A65518=\"\",\"blank\",\"\")","v":"blank"}]
[null,null,null,null,null,null,null,null,null,null,null,null,null,null,null,null,null,null,null,null,null,{"$f":"IF(RawData!A65519<>\"\",ROW(RawData!A65519),0)","v":0},{"$f":"IF(RawData!A65519=\"\",\"blank\",\"\")","v":"blank"}]
[null,null,null,null,null,null,null,null,null,null,null,null,null,null,null,null,null,null,null,null,null,{"$f":"IF(RawData!A65520<>\"\",ROW(RawData!A65520),0)","v":0},{"$f":"IF(RawData!A65520=\"\",\"blank\",\"\")","v":"blank"}]
[null,null,null,null,null,null,null,null,null,null,null,null,null,null,null,null,null,null,null,null,null,{"$f":"IF(RawData!A65521<>\"\",ROW(RawData!A65521),0)","v":0},{"$f":"IF(RawData!A65521=\"\",\"blank\",\"\")","v":"blank"}]
[null,null,null,null,null,null,null,null,null,null,null,null,null,null,null,null,null,null,null,null,null,{"$f":"IF(RawData!A65522<>\"\",ROW(RawData!A65522),0)","v":0},{"$f":"IF(RawData!A65522=\"\",\"blank\",\"\")","v":"blank"}]
[null,null,null,null,null,null,null,null,null,null,null,null,null,null,null,null,null,null,null,null,null,{"$f":"IF(RawData!A65523<>\"\",ROW(RawData!A65523),0)","v":0},{"$f":"IF(RawData!A65523=\"\",\"blank\",\"\")","v":"blank"}]
[null,null,null,null,null,null,null,null,null,null,null,null,null,null,null,null,null,null,null,null,null,{"$f":"IF(RawData!A65524<>\"\",ROW(RawData!A65524),0)","v":0},{"$f":"IF(RawData!A65524=\"\",\"blank\",\"\")","v":"blank"}]
[null,null,null,null,null,null,null,null,null,null,null,null,null,null,null,null,null,null,null,null,null,{"$f":"IF(RawData!A65525<>\"\",ROW(RawData!A65525),0)","v":0},{"$f":"IF(RawData!A65525=\"\",\"blank\",\"\")","v":"blank"}]
[null,null,null,null,null,null,null,null,null,null,null,null,null,null,null,null,null,null,null,null,null,{"$f":"IF(RawData!A65526<>\"\",ROW(RawData!A65526),0)","v":0},{"$f":"IF(RawData!A65526=\"\",\"blank\",\"\")","v":"blank"}]
[null,null,null,null,null,null,null,null,null,null,null,null,null,null,null,null,null,null,null,null,null,{"$f":"IF(RawData!A65527<>\"\",ROW(RawData!A65527),0)","v":0},{"$f":"IF(RawData!A65527=\"\",\"blank\",\"\")","v":"blank"}]
[null,null,null,null,null,null,null,null,null,null,null,null,null,null,null,null,null,null,null,null,null,{"$f":"IF(RawData!A65528<>\"\",ROW(RawData!A65528),0)","v":0},{"$f":"IF(RawData!A65528=\"\",\"blank\",\"\")","v":"blank"}]
[null,null,null,null,null,null,null,null,null,null,null,null,null,null,null,null,null,null,null,null,null,{"$f":"IF(RawData!A65529<>\"\",ROW(RawData!A65529),0)","v":0},{"$f":"IF(RawData!A65529=\"\",\"blank\",\"\")","v":"blank"}]
[null,null,null,null,null,null,null,null,null,null,null,null,null,null,null,null,null,null,null,null,null,{"$f":"IF(RawData!A65530<>\"\",ROW(RawData!A65530),0)","v":0},{"$f":"IF(RawData!A65530=\"\",\"blank\",\"\")","v":"blank"}]
[null,null,null,null,null,null,null,null,null,null,null,null,null,null,null,null,null,null,null,null,null,{"$f":"IF(RawData!A65531<>\"\",ROW(RawData!A65531),0)","v":0},{"$f":"IF(RawData!A65531=\"\",\"blank\",\"\")","v":"blank"}]
[null,null,null,null,null,null,null,null,null,null,null,null,null,null,null,null,null,null,null,null,null,{"$f":"IF(RawData!A65532<>\"\",ROW(RawData!A65532),0)","v":0},{"$f":"IF(RawData!A65532=\"\",\"blank\",\"\")","v":"blank"}]
[null,null,null,null,null,null,null,null,null,null,null,null,null,null,null,null,null,null,null,null,null,{"$f":"IF(RawData!A65533<>\"\",ROW(RawData!A65533),0)","v":0},{"$f":"IF(RawData!A65533=\"\",\"blank\",\"\")","v":"blank"}]
[null,null,null,null,null,null,null,null,null,null,null,null,null,null,null,null,null,null,null,null,null,{"$f":"IF(RawData!A65534<>\"\",ROW(RawData!A65534),0)","v":0},{"$f":"IF(RawData!A65534=\"\",\"blank\",\"\")","v":"blank"}]
[null,null,null,null,null,null,null,null,null,null,null,null,null,null,null,null,null,null,null,null,null,{"$f":"IF(RawData!A65535<>\"\",ROW(RawData!A65535),0)","v":0},{"$f":"IF(RawData!A65535=\"\",\"blank\",\"\")","v":"blank"}]

{"sheet":"RawData","index":1,"n_rows":313,"n_cols":8,"rows_kept":313,"cut":false,"hidden":false,"merged":[]}
["Sensor A",null,null,null,"Sensor B"]
["Time","Depth [µm]","oxygen [%]","oxygen [V]","Time","Depth [µm]","Oxygen [%]","Oxygen [V]"]
["13:03:53",-600,21.326000000000001,1.869,"13:03:53",-600,"NAN",8.0704999999999999E-2]
["13:04:00",-400,21.356000000000002,1.8715999999999999,"13:04:00",-400,"NAN",8.0613000000000004E-2]
["13:04:05",-200,21.352,1.8713,"13:04:05",-200,"NAN",8.0568000000000001E-2]
["13:04:12",0,21.382000000000001,1.8738999999999999,"13:04:12",0,"NAN",8.0673999999999996E-2]
["13:04:17",200,21.382000000000001,1.8738999999999999,"13:04:17",200,"NAN",8.0643999999999993E-2]
["13:04:23",400,21.417999999999999,1.8771,"13:04:23",400,"NAN",8.0551999999999999E-2]
["13:04:30",600,21.431999999999999,1.8783000000000001,"13:04:30",600,"NAN",8.0796999999999994E-2]
["13:04:35",800,21.382000000000001,1.8738999999999999,"13:04:35",800,"NAN",8.0704999999999999E-2]
["13:04:41",1000,21.346,1.8708,"13:04:41",1000,"NAN",8.072E-2]
["13:04:47",1200,21.35,1.8711,"13:04:47",1200,"NAN",8.0568000000000001E-2]
["13:04:53",1400,21.419,1.8772,"13:04:53",1400,"NAN",8.0751000000000003E-2]
["13:04:59",1600,21.468,1.8814,"13:04:59",1600,"NAN",8.0643999999999993E-2]
["13:05:05",1800,21.536999999999999,1.8875,"13:05:05",1800,"NAN",8.0598000000000003E-2]
["13:05:11",2000,21.614000000000001,1.8942000000000001,"13:05:11",2000,"NAN",8.0689999999999998E-2]
[]
["13:07:22",-600,21.98,1.9261999999999999,"13:07:22",-600,"NAN",8.0613000000000004E-2]
["13:07:28",-400,21.931000000000001,1.9219999999999999,"13:07:28",-400,"NAN",8.0658999999999995E-2]
["13:07:34",-200,21.905000000000001,1.9197,"13:07:34",-200,"NAN",8.0613000000000004E-2]
["13:07:39",0,21.896000000000001,1.9189000000000001,"13:07:39",0,"NAN",8.0658999999999995E-2]
["13:07:45",200,21.870999999999999,1.9167000000000001,"13:07:45",200,"NAN",8.0796999999999994E-2]
["13:07:51",400,21.867999999999999,1.9165000000000001,"13:07:51",400,"NAN",8.0643999999999993E-2]
["13:07:58",600,21.603000000000002,1.8933,"13:07:58",600,"NAN",8.0735000000000001E-2]
["13:08:04",800,20.728000000000002,1.8167,"13:08:04",800,"NAN",8.0781000000000006E-2]
["13:08:11",1000,20.138999999999999,1.7652000000000001,"13:08:11",1000,"NAN",8.072E-2]
["13:08:16",1200,19.594999999999999,1.7176,"13:08:16",1200,"NAN",8.0796999999999994E-2]
["13:08:23",1400,19.015000000000001,1.6667000000000001,"13:08:23",1400,"NAN",8.072E-2]
["13:08:29",1600,18.472999999999999,1.6194,"13:08:29",1600,"NAN",8.0735000000000001E-2]
["13:08:34",1800,17.856999999999999,1.5653999999999999,"13:08:34",1800,"NAN",8.0766000000000004E-2]
["13:08:41",2000,17.423999999999999,1.5276000000000001,"13:08:41",2000,"NAN",8.0629000000000006E-2]
[]
["13:09:23",-600,21.81,1.9113,"13:09:23",-600,"NAN",8.0766000000000004E-2]
["13:09:29",-400,21.797000000000001,1.9101999999999999,"13:09:29",-400,"NAN",8.0781000000000006E-2]
["13:09:34",-200,21.809000000000001,1.9113,"13:09:34",-200,"NAN",8.0796999999999994E-2]
["13:09:41",0,21.634,1.8958999999999999,"13:09:41",0,"NAN",8.0704999999999999E-2]
["13:09:47",200,21.038,1.8438000000000001,"13:09:47",200,"NAN",8.0643999999999993E-2]
["13:09:53",400,20.3,1.7791999999999999,"13:09:53",400,"NAN",8.0766000000000004E-2]
["13:09:59",600,19.811,1.7363999999999999,"13:09:59",600,"NAN",8.0643999999999993E-2]
["13:10:05",800,19.097000000000001,1.6738999999999999,"13:10:05",800,"NAN",8.0781000000000006E-2]
["13:10:11",1000,18.567,1.6274999999999999,"13:10:11",1000,"NAN",8.0506999999999995E-2]
["13:10:16",1200,18.036000000000001,1.5810999999999999,"13:10:16",1200,"NAN",8.0704999999999999E-2]
["13:10:23",1400,17.478999999999999,1.5324,"13:10:23",1400,"NAN",8.072E-2]
["13:10:28",1600,16.956,1.4865999999999999,"13:10:28",1600,"NAN",8.0658999999999995E-2]
["13:10:34",1800,16.268000000000001,1.4263999999999999,"13:10:34",1800,"NAN",8.072E-2]
["13:10:40",2000,15.544,1.363,"13:10:40",2000,"NAN",8.0704999999999999E-2]
[]
["13:12:29",-600,21.966000000000001,1.925,"13:12:29",-600,"NAN",8.0704999999999999E-2]
["13:12:35",-400,21.937999999999999,1.9226000000000001,"13:12:35",-400,"NAN",8.0735000000000001E-2]
["13:12:41",-200,21.898,1.9191,"13:12:41",-200,"NAN",8.0613000000000004E-2]
["13:12:47",0,21.777000000000001,1.9084000000000001,"13:12:47",0,"NAN",8.0583000000000002E-2]
["13:12:53",200,21.358000000000001,1.8717999999999999,"13:12:53",200,"NAN",8.0781000000000006E-2]
["13:12:59",400,20.974,1.8382000000000001,"13:12:59",400,"NAN",8.0841999999999997E-2]
["13:13:05",600,20.611999999999998,1.8065,"13:13:05",600,"NAN",8.0781000000000006E-2]
["13:13:11",800,20.306000000000001,1.7797000000000001,"13:13:11",800,"NAN",8.0781000000000006E-2]
["13:13:16",1000,19.907,1.7447999999999999,"13:13:16",1000,"NAN",8.0735000000000001E-2]
["13:13:23",1200,19.579000000000001,1.7161,"13:13:23",1200,"NAN",8.0781000000000006E-2]
["13:13:29",1400,19.277999999999999,1.6898,"13:13:29",1400,"NAN",8.0704999999999999E-2]
["13:13:34",1600,18.965,1.6624000000000001,"13:13:34",1600,"NAN",8.0781000000000006E-2]
["13:13:41",1800,18.672000000000001,1.6368,"13:13:41",1800,"NAN",8.0583000000000002E-2]
["13:13:46",2000,18.37,1.6104000000000001,"13:13:46",2000,"NAN",8.0689999999999998E-2]
[]
["13:14:53",-600,23.785,2.0842000000000001,"13:14:53",-600,"NAN",8.0689999999999998E-2]
["13:14:59",-400,19.875,1.742,"13:14:59",-400,"NAN",8.0689999999999998E-2]
["13:15:05",-200,21.094000000000001,1.8487,"13:15:05",-200,"NAN",8.0796999999999994E-2]
["13:15:11",0,21.629000000000001,1.8955,"13:15:11",0,"NAN",8.0811999999999995E-2]
["13:15:17",200,21.227,1.8603000000000001,"13:15:17",200,"NAN",8.072E-2]
["13:15:23",400,21.068999999999999,1.8465,"13:15:23",400,"NAN",8.0704999999999999E-2]
["13:15:30",600,20.805,1.8234999999999999,"13:15:30",600,"NAN",8.0551999999999999E-2]
["13:15:35",800,20.728000000000002,1.8167,"13:15:35",800,"NAN",8.0629000000000006E-2]
["13:15:41",1000,20.513000000000002,1.7978000000000001,"13:15:41",1000,"NAN",8.0613000000000004E-2]
["13:15:47",1200,21.359000000000002,1.8718999999999999,"13:15:47",1200,"NAN",8.0658999999999995E-2]
["13:15:53",1400,14.36,1.2594000000000001,"13:15:53",1400,"NAN",8.0568000000000001E-2]
[]
["13:28:24",-600,2.7983999999999998E-2,5.2643999999999998E-3,"13:28:24",-600,20.966999999999999,0.99775999999999998]
["13:28:31",-400,2.4496E-2,4.9592000000000004E-3,"13:28:31",-400,21.041,1.0023]
["13:28:37",-200,2.7112000000000001E-2,5.1881000000000002E-3,"13:28:37",-200,20.96,0.99729999999999996]
["13:28:42",0,2.8854999999999999E-2,5.3407000000000003E-3,"13:28:42",0,20.869,0.99173999999999995]
["13:28:49",200,2.4496E-2,4.9592000000000004E-3,"13:28:49",200,20.791,0.98692000000000002]
["13:28:55",400,2.8854999999999999E-2,5.3407000000000003E-3,"13:28:55",400,20.617000000000001,0.97624]
["13:29:01",600,2.8854999999999999E-2,5.3407000000000003E-3,"13:29:01",600,20.503,0.96921999999999997]
["13:29:08",800,2.7983999999999998E-2,5.2643999999999998E-3,"13:29:08",800,20.327999999999999,0.95850999999999997]
["13:29:13",1000,2.7112000000000001E-2,5.1881000000000002E-3,"13:29:13",1000,20.145,0.94721999999999995]
["13:29:20",1200,2.6239999999999999E-2,5.1117999999999997E-3,"13:29:20",1200,19.878,0.93086000000000002]
["13:29:25",1400,2.7112000000000001E-2,5.1881000000000002E-3,"13:29:25",1400,19.678999999999998,0.91861999999999999]
["13:29:32",1600,2.7983999999999998E-2,5.2643999999999998E-3,"13:29:32",1600,19.460999999999999,0.9052]
["13:29:37",1800,2.6239999999999999E-2,5.1117999999999997E-3,"13:29:37",1800,19.242999999999999,0.89180000000000004]
["13:29:44",2000,2.8854999999999999E-2,5.3407000000000003E-3,"13:29:44",2000,19.041,0.87938000000000005]
[]
["13:31:31",-600,2.6239999999999999E-2,5.1117999999999997E-3,"13:31:31",-600,21.175999999999998,1.0105999999999999]
["13:31:37",-400,2.8854999999999999E-2,5.3407000000000003E-3,"13:31:37",-400,21.132000000000001,1.0079]
["13:31:43",-200,2.9727E-2,5.4169999999999999E-3,"13:31:43",-200,21.099,1.0059]
["13:31:49",0,2.6239999999999999E-2,5.1117999999999997E-3,"13:31:49",0,21.073,1.0043]
["13:31:55",200,2.9727E-2,5.4169999999999999E-3,"13:31:55",200,20.96,0.99729999999999996]
["13:32:01",400,2.7983999999999998E-2,5.2643999999999998E-3,"13:32:01",400,20.908999999999999,0.99419000000000002]
["13:32:07",600,2.7112000000000001E-2,5.1881000000000002E-3,"13:32:07",600,20.803000000000001,0.98765999999999998]
["13:32:13",800,2.5368000000000002E-2,5.0355E-3,"13:32:13",800,20.722000000000001,0.98270999999999997]
["13:32:20",1000,2.8854999999999999E-2,5.3407000000000003E-3,"13:32:20",1000,20.620999999999999,0.97652000000000005]
["13:32:25",1200,2.7112000000000001E-2,5.1881000000000002E-3,"13:32:25",1200,20.547000000000001,0.97194000000000003]
["13:32:32",1400,2.6239999999999999E-2,5.1117999999999997E-3,"13:32:32",1400,20.452000000000002,0.96611000000000002]
["13:32:38",1600,2.2752000000000001E-2,4.8066000000000003E-3,"13:32:38",1600,20.338999999999999,0.95914999999999995]
["13:32:43",1800,2.7983999999999998E-2,5.2643999999999998E-3,"13:32:43",1800,20.236999999999998,0.95286000000000004]
["13:32:50",2000,2.4496E-2,4.9592000000000004E-3,"13:32:50",2000,20.082000000000001,0.94333999999999996]
[]
["13:33:54",-600,2.6239999999999999E-2,5.1117999999999997E-3,"13:33:54",-600,21.212,1.0127999999999999]
["13:34:01",-400,2.6239999999999999E-2,5.1117999999999997E-3,"13:34:01",-400,21.189,1.0114000000000001]
["13:34:06",-200,2.6239999999999999E-2,5.1117999999999997E-3,"13:34:06",-200,21.137,1.0082]
["13:34:12",0,2.2752000000000001E-2,4.8066000000000003E-3,"13:34:12",0,21.013999999999999,1.0006999999999999]
["13:34:18",200,2.9727E-2,5.4169999999999999E-3,"13:34:18",200,20.824000000000002,0.98897000000000002]
["13:34:24",400,3.0599000000000001E-2,5.4932000000000002E-3,"13:34:24",400,20.628,0.97694000000000003]
["13:34:31",600,2.9727E-2,5.4169999999999999E-3,"13:34:31",600,20.495000000000001,0.96872999999999998]
["13:34:37",800,2.5368000000000002E-2,5.0355E-3,"13:34:37",800,20.292999999999999,0.95630999999999999]
["13:34:43",1000,2.9727E-2,5.4169999999999999E-3,"13:34:43",1000,20.067,0.94245999999999996]
["13:34:49",1200,2.6239999999999999E-2,5.1117999999999997E-3,"13:34:49",1200,19.815000000000001,0.92696000000000001]
["13:34:56",1400,2.9727E-2,5.4169999999999999E-3,"13:34:56",1400,19.606999999999999,0.91417000000000004]
["13:35:01",1600,2.9727E-2,5.4169999999999999E-3,"13:35:01",1600,19.364999999999998,0.89934000000000003]
["13:35:07",1800,2.7983999999999998E-2,5.2643999999999998E-3,"13:35:07",1800,19.207999999999998,0.88966000000000001]
["13:35:13",2000,2.8854999999999999E-2,5.3407000000000003E-3,"13:35:13",2000,18.939,0.87314999999999998]
[]
["13:36:07",-600,2.7983999999999998E-2,5.2643999999999998E-3,"13:36:07",-600,21.157,1.0094000000000001]
["13:36:13",-400,2.8854999999999999E-2,5.3407000000000003E-3,"13:36:13",-400,21.145,1.0086999999999999]
["13:36:19",-200,2.8854999999999999E-2,5.3407000000000003E-3,"13:36:19",-200,21.15,1.0089999999999999]
["13:36:26",0,2.7983999999999998E-2,5.2643999999999998E-3,"13:36:26",0,21.094999999999999,1.0056]
["13:36:32",200,2.6239999999999999E-2,5.1117999999999997E-3,"13:36:32",200,20.998000000000001,0.99965000000000004]
["13:36:38",400,2.7112000000000001E-2,5.1881000000000002E-3,"13:36:38",400,20.913,0.99446000000000001]
["13:36:44",600,2.7112000000000001E-2,5.1881000000000002E-3,"13:36:44",600,20.808,0.98795999999999995]
["13:36:50",800,2.8854999999999999E-2,5.3407000000000003E-3,"13:36:50",800,20.661999999999999,0.97899000000000003]
["13:36:56",1000,2.7112000000000001E-2,5.1881000000000002E-3,"13:36:56",1000,20.625,0.97675999999999996]
["13:37:01",1200,2.9727E-2,5.4169999999999999E-3,"13:37:01",1200,20.466000000000001,0.96699000000000002]
["13:37:08",1400,2.7112000000000001E-2,5.1881000000000002E-3,"13:37:08",1400,20.414999999999999,0.96382000000000001]
["13:37:13",1600,2.7983999999999998E-2,5.2643999999999998E-3,"13:37:13",1600,20.343,0.95943000000000001]
["13:37:19",1800,2.9727E-2,5.4169999999999999E-3,"13:37:19",1800,20.199000000000002,0.95057999999999998]
["13:37:25",2000,2.7112000000000001E-2,5.1881000000000002E-3,"13:37:25",2000,20.087,0.94367999999999996]
[]
["13:38:31",-600,3.0599000000000001E-2,5.4932000000000002E-3,"13:38:31",-600,21.218,1.0132000000000001]
["13:38:37",-400,2.9727E-2,5.4169999999999999E-3,"13:38:37",-400,21.265000000000001,1.0161]
["13:38:43",-200,2.9727E-2,5.4169999999999999E-3,"13:38:43",-200,21.236000000000001,1.0143]
["13:38:49",0,3.0599000000000001E-2,5.4932000000000002E-3,"13:38:49",0,21.135000000000002,1.0081]
["13:38:56",200,3.0599000000000001E-2,5.4932000000000002E-3,"13:38:56",200,21.061,1.0035000000000001]
["13:39:01",400,2.7112000000000001E-2,5.1881000000000002E-3,"13:39:01",400,20.942,0.99619999999999997]
["13:39:08",600,2.7983999999999998E-2,5.2643999999999998E-3,"13:39:08",600,20.875,0.99211000000000005]
["13:39:14",800,2.7983999999999998E-2,5.2643999999999998E-3,"13:39:14",800,20.797000000000001,0.98729]
["13:39:19",1000,2.7983999999999998E-2,5.2643999999999998E-3,"13:39:19",1000,20.777999999999999,0.98612999999999995]
["13:39:26",1200,2.9727E-2,5.4169999999999999E-3,"13:39:26",1200,20.702000000000002,0.98148999999999997]
["13:39:32",1400,2.7983999999999998E-2,5.2643999999999998E-3,"13:39:32",1400,20.638999999999999,0.97760999999999998]
["13:39:38",1600,2.7112000000000001E-2,5.1881000000000002E-3,"13:39:38",1600,20.536999999999999,0.97136]
["13:39:44",1800,2.7983999999999998E-2,5.2643999999999998E-3,"13:39:44",1800,20.48,0.96784999999999999]
["13:39:51",2000,2.9727E-2,5.4169999999999999E-3,"13:39:51",2000,20.427,0.96457999999999999]
[]
["13:40:51",-600,2.7983999999999998E-2,5.2643999999999998E-3,"13:40:51",-600,21.204999999999998,1.0124]
["13:40:56",-400,2.7983999999999998E-2,5.2643999999999998E-3,"13:40:56",-400,21.108000000000001,1.0064]
["13:41:03",-200,2.7112000000000001E-2,5.1881000000000002E-3,"13:41:03",-200,20.869,0.99173999999999995]
["13:41:09",0,2.7983999999999998E-2,5.2643999999999998E-3,"13:41:09",0,20.538,0.97138999999999998]
["13:41:15",200,2.9727E-2,5.4169999999999999E-3,"13:41:15",200,20.132999999999999,0.94652000000000003]
["13:41:21",400,2.8854999999999999E-2,5.3407000000000003E-3,"13:41:21",400,19.774000000000001,0.92442000000000002]
["13:41:28",600,2.8854999999999999E-2,5.3407000000000003E-3,"13:41:28",600,19.408999999999999,0.90202000000000004]
["13:41:34",800,2.8854999999999999E-2,5.3407000000000003E-3,"13:41:34",800,19.052,0.88005]
["13:41:39",1000,2.9727E-2,5.4169999999999999E-3,"13:41:39",1000,18.616,0.85328000000000004]
["13:41:45",1200,2.9727E-2,5.4169999999999999E-3,"13:41:45",1200,18.273,0.83220000000000005]
["13:41:52",1400,2.9727E-2,5.4169999999999999E-3,"13:41:52",1400,17.844000000000001,0.80586000000000002]
["13:41:57",1600,2.6239999999999999E-2,5.1117999999999997E-3,"13:41:57",1600,17.488,0.78398000000000001]
["13:42:04",1800,2.7983999999999998E-2,5.2643999999999998E-3,"13:42:04",1800,17.052,0.75717999999999996]
["13:42:09",2000,2.9727E-2,5.4169999999999999E-3,"13:42:09",2000,16.597000000000001,0.72919999999999996]
[]
["13:43:08",-600,2.9727E-2,5.4169999999999999E-3,"13:43:08",-600,21.196000000000002,1.0118]
["13:43:13",-400,2.7983999999999998E-2,5.2643999999999998E-3,"13:43:13",-400,21.233000000000001,1.0141]
["13:43:20",-200,2.8854999999999999E-2,5.3407000000000003E-3,"13:43:20",-200,21.18,1.0107999999999999]
["13:43:26",0,2.4496E-2,4.9592000000000004E-3,"13:43:26",0,21.007999999999999,1.0003]
["13:43:32",200,3.1470999999999999E-2,5.5694999999999998E-3,"13:43:32",200,20.763999999999999,0.98528000000000004]
["13:43:38",400,2.9727E-2,5.4169999999999999E-3,"13:43:38",400,20.571999999999999,0.97350000000000003]
["13:43:43",600,2.9727E-2,5.4169999999999999E-3,"13:43:43",600,20.384,0.96189999999999998]
["13:43:50",800,2.7112000000000001E-2,5.1881000000000002E-3,"13:43:50",800,20.132000000000001,0.94645999999999997]
["13:43:56",1000,2.8854999999999999E-2,5.3407000000000003E-3,"13:43:56",1000,19.896999999999998,0.93201999999999996]
["13:44:02",1200,2.9727E-2,5.4169999999999999E-3,"13:44:02",1200,19.696000000000002,0.91962999999999995]
["13:44:08",1400,2.7983999999999998E-2,5.2643999999999998E-3,"13:44:08",1400,19.526,0.90919000000000005]
["13:44:14",1600,2.7983999999999998E-2,5.2643999999999998E-3,"13:44:14",1600,19.344000000000001,0.89798999999999995]
["13:44:21",1800,2.7112000000000001E-2,5.1881000000000002E-3,"13:44:21",1800,19.106999999999999,0.88346999999999998]
["13:44:27",2000,2.7983999999999998E-2,5.2643999999999998E-3,"13:44:27",2000,18.864999999999998,0.86856999999999995]
[]
["13:45:39",-600,2.7983999999999998E-2,5.2643999999999998E-3,"13:45:39",-600,21.166,1.01]
["13:45:46",-400,2.8854999999999999E-2,5.3407000000000003E-3,"13:45:46",-400,21.152999999999999,1.0092000000000001]
["13:45:51",-200,2.9727E-2,5.4169999999999999E-3,"13:45:51",-200,21.149000000000001,1.0088999999999999]
["13:45:57",0,2.9727E-2,5.4169999999999999E-3,"13:45:57",0,21.06,1.0035000000000001]
["13:46:03",200,2.7983999999999998E-2,5.2643999999999998E-3,"13:46:03",200,20.957999999999998,0.99717999999999996]
["13:46:09",400,2.9727E-2,5.4169999999999999E-3,"13:46:09",400,20.821999999999999,0.98885000000000001]
["13:46:16",600,2.7112000000000001E-2,5.1881000000000002E-3,"13:46:16",600,20.719000000000001,0.98250000000000004]
["13:46:22",800,2.6239999999999999E-2,5.1117999999999997E-3,"13:46:22",800,20.632999999999999,0.97721999999999998]
["13:46:28",1000,2.8854999999999999E-2,5.3407000000000003E-3,"13:46:28",1000,20.532,0.97099000000000002]
["13:46:34",1200,2.9727E-2,5.4169999999999999E-3,"13:46:34",1200,20.457000000000001,0.96638000000000002]
["13:46:40",1400,2.7983999999999998E-2,5.2643999999999998E-3,"13:46:40",1400,20.353000000000002,0.96001000000000003]
["13:46:46",1600,2.9727E-2,5.4169999999999999E-3,"13:46:46",1600,20.239999999999998,0.95311000000000001]
["13:46:53",1800,3.0599000000000001E-2,5.4932000000000002E-3,"13:46:53",1800,20.11,0.94508000000000003]
["13:46:58",2000,2.9727E-2,5.4169999999999999E-3,"13:46:58",2000,20.001999999999999,0.93842999999999999]
[]
["13:48:03",-600,2.9727E-2,5.4169999999999999E-3,"13:48:03",-600,21.097000000000001,1.0058]
["13:48:10",-400,2.8854999999999999E-2,5.3407000000000003E-3,"13:48:10",-400,21.068000000000001,1.004]
["13:48:16",-200,2.7112000000000001E-2,5.1881000000000002E-3,"13:48:16",-200,21.045000000000002,1.0024999999999999]
["13:48:22",0,3.0599000000000001E-2,5.4932000000000002E-3,"13:48:22",0,20.847000000000001,0.99039999999999995]
["13:48:28",200,2.8854999999999999E-2,5.3407000000000003E-3,"13:48:28",200,20.643999999999998,0.97789000000000004]
["13:48:33",400,2.9727E-2,5.4169999999999999E-3,"13:48:33",400,20.462,0.96672000000000002]
["13:48:40",600,2.8854999999999999E-2,5.3407000000000003E-3,"13:48:40",600,20.216000000000001,0.95157999999999998]
["13:48:45",800,3.0599000000000001E-2,5.4932000000000002E-3,"13:48:45",800,19.989999999999998,0.93769999999999998]
["13:48:51",1000,3.0599000000000001E-2,5.4932000000000002E-3,"13:48:51",1000,19.791,0.92545999999999995]
["13:48:57",1200,2.9727E-2,5.4169999999999999E-3,"13:48:57",1200,19.553999999999998,0.91093000000000002]
["13:49:03",1400,2.9727E-2,5.4169999999999999E-3,"13:49:03",1400,19.335000000000001,0.89744000000000002]
["13:49:09",1600,2.9727E-2,5.4169999999999999E-3,"13:49:09",1600,19.100999999999999,0.8831]
["13:49:15",1800,2.8854999999999999E-2,5.3407000000000003E-3,"13:49:15",1800,18.847999999999999,0.86756999999999995]
["13:49:21",2000,2.9727E-2,5.4169999999999999E-3,"13:49:21",2000,18.603000000000002,0.85246]
[]
["13:50:06",-600,3.0599000000000001E-2,5.4932000000000002E-3,"13:50:06",-600,21.097000000000001,1.0058]
["13:50:12",-400,3.0599000000000001E-2,5.4932000000000002E-3,"13:50:12",-400,21.087,1.0051000000000001]
["13:50:17",-200,2.7112000000000001E-2,5.1881000000000002E-3,"13:50:17",-200,21.085000000000001,1.0049999999999999]
["13:50:23",0,2.8854999999999999E-2,5.3407000000000003E-3,"13:50:23",0,21.003,0.99997999999999998]
["13:50:29",200,3.0599000000000001E-2,5.4932000000000002E-3,"13:50:29",200,20.914000000000001,0.99448999999999999]
["13:50:35",400,2.6239999999999999E-2,5.1117999999999997E-3,"13:50:35",400,20.751999999999999,0.98453999999999997]
["13:50:42",600,2.8854999999999999E-2,5.3407000000000003E-3,"13:50:42",600,20.657,0.97870999999999997]
["13:50:47",800,3.0599000000000001E-2,5.4932000000000002E-3,"13:50:47",800,20.61,0.97584000000000004]
["13:50:54",1000,3.0599000000000001E-2,5.4932000000000002E-3,"13:50:54",1000,20.501000000000001,0.96909999999999996]
["13:50:59",1200,2.6239999999999999E-2,5.1117999999999997E-3,"13:50:59",1200,20.352,0.95998000000000006]
["13:51:05",1400,3.0599000000000001E-2,5.4932000000000002E-3,"13:51:05",1400,20.265000000000001,0.9546]
["13:51:11",1600,2.7983999999999998E-2,5.2643999999999998E-3,"13:51:11",1600,20.204999999999998,0.95094000000000001]
["13:51:18",1800,2.8854999999999999E-2,5.3407000000000003E-3,"13:51:18",1800,20.116,0.94545000000000001]
["13:51:23",2000,2.7112000000000001E-2,5.1881000000000002E-3,"13:51:23",2000,20.013000000000002,0.93913000000000002]
[]
["13:56:39",-600,2.9727E-2,5.4169999999999999E-3,"13:56:39",-600,21.01,1.0004]
["13:56:44",-400,2.7983999999999998E-2,5.2643999999999998E-3,"13:56:44",-400,21.026,1.0014000000000001]
["13:56:51",-200,2.9727E-2,5.4169999999999999E-3,"13:56:51",-200,20.995000000000001,0.99946999999999997]
["13:56:57",0,2.8854999999999999E-2,5.3407000000000003E-3,"13:56:57",0,20.922000000000001,0.99497999999999998]
["13:57:04",200,2.7983999999999998E-2,5.2643999999999998E-3,"13:57:04",200,20.867999999999999,0.99168000000000001]
["13:57:10",400,2.7983999999999998E-2,5.2643999999999998E-3,"13:57:10",400,20.771000000000001,0.98570000000000002]
["13:57:16",600,3.0599000000000001E-2,5.4932000000000002E-3,"13:57:16",600,20.701000000000001,0.98140000000000005]
["13:57:23",800,3.0599000000000001E-2,5.4932000000000002E-3,"13:57:23",800,20.646999999999998,0.97806999999999999]
["13:57:28",1000,2.8854999999999999E-2,5.3407000000000003E-3,"13:57:28",1000,20.568999999999999,0.97328000000000003]
["13:57:35",1200,2.9727E-2,5.4169999999999999E-3,"13:57:35",1200,20.478999999999999,0.96775999999999995]
["13:57:41",1400,2.9727E-2,5.4169999999999999E-3,"13:57:41",1400,20.425000000000001,0.96445999999999998]
["13:57:47",1600,3.1470999999999999E-2,5.5694999999999998E-3,"13:57:47",1600,20.347000000000001,0.95967000000000002]
["13:57:54",1800,2.6239999999999999E-2,5.1117999999999997E-3,"13:57:54",1800,20.27,0.95494000000000001]
["13:58:00",2000,2.7112000000000001E-2,5.1881000000000002E-3,"13:58:00",2000,20.225000000000001,0.95213000000000003]
[]
["13:59:43",-600,2.9727E-2,5.4169999999999999E-3,"13:59:43",-600,21.091999999999999,1.0054000000000001]
["13:59:49",-400,2.9727E-2,5.4169999999999999E-3,"13:59:49",-400,21.013000000000002,1.0005999999999999]
["13:59:55",-200,2.7112000000000001E-2,5.1881000000000002E-3,"13:59:55",-200,20.742000000000001,0.98392999999999997]
["14:00:01",0,2.8854999999999999E-2,5.3407000000000003E-3,"14:00:01",0,20.364999999999998,0.96077000000000001]
["14:00:07",200,2.9727E-2,5.4169999999999999E-3,"14:00:07",200,19.963999999999999,0.93613999999999997]
["14:00:14",400,2.9727E-2,5.4169999999999999E-3,"14:00:14",400,19.565000000000001,0.91156999999999999]
["14:00:20",600,2.9727E-2,5.4169999999999999E-3,"14:00:20",600,19.135000000000002,0.88521000000000005]
["14:00:25",800,2.7983999999999998E-2,5.2643999999999998E-3,"14:00:25",800,18.707999999999998,0.85895999999999995]
["14:00:32",1000,2.6239999999999999E-2,5.1117999999999997E-3,"14:00:32",1000,18.244,0.83043]
["14:00:38",1200,2.7112000000000001E-2,5.1881000000000002E-3,"14:00:38",1200,17.815000000000001,0.80408999999999997]
["14:00:44",1400,2.6239999999999999E-2,5.1117999999999997E-3,"14:00:44",1400,17.376000000000001,0.77707999999999999]
["14:00:50",1600,2.8854999999999999E-2,5.3407000000000003E-3,"14:00:50",1600,16.925000000000001,0.74939999999999996]
["14:00:56",1800,2.7983999999999998E-2,5.2643999999999998E-3,"14:00:56",1800,16.475000000000001,0.72172000000000003]
["14:01:02",2000,2.7983999999999998E-2,5.2643999999999998E-3,"14:01:02",2000,15.997999999999999,0.69242000000000004]
[]
["14:03:03",-600,2.8854999999999999E-2,5.3407000000000003E-3,"14:03:03",-600,21.1,1.0059]
["14:03:10",-400,2.7983999999999998E-2,5.2643999999999998E-3,"14:03:10",-400,21.076000000000001,1.0044]
["14:03:16",-200,2.8854999999999999E-2,5.3407000000000003E-3,"14:03:16",-200,21.006,1.0002]
["14:03:22",0,2.7983999999999998E-2,5.2643999999999998E-3,"14:03:22",0,20.855,0.99085999999999996]
["14:03:29",200,3.1470999999999999E-2,5.5694999999999998E-3,"14:03:29",200,20.617000000000001,0.97624]
["14:03:35",400,2.8854999999999999E-2,5.3407000000000003E-3,"14:03:35",400,20.411999999999999,0.96364000000000005]
["14:03:41",600,3.0599000000000001E-2,5.4932000000000002E-3,"14:03:41",600,20.207000000000001,0.95106000000000002]
["14:03:47",800,3.1470999999999999E-2,5.5694999999999998E-3,"14:03:47",800,19.969000000000001,0.93645]
["14:03:53",1000,3.0599000000000001E-2,5.4932000000000002E-3,"14:03:53",1000,19.734000000000002,0.92201]
["14:03:59",1200,2.8854999999999999E-2,5.3407000000000003E-3,"14:03:59",1200,19.48,0.90636000000000005]
["14:04:05",1400,3.1470999999999999E-2,5.5694999999999998E-3,"14:04:05",1400,19.286000000000001,0.89444999999999997]
["14:04:12",1600,2.9727E-2,5.4169999999999999E-3,"14:04:12",1600,19.05,0.87995999999999996]
["14:04:18",1800,2.7112000000000001E-2,5.1881000000000002E-3,"14:04:18",1800,18.824999999999999,0.86609999999999998]
["14:04:24",2000,3.0599000000000001E-2,5.4932000000000002E-3,"14:04:24",2000,18.565999999999999,0.85023000000000004]
[]
["14:06:08",-600,2.9727E-2,5.4169999999999999E-3,"14:06:08",-600,21.12,1.0072000000000001]
["14:06:14",-400,3.0599000000000001E-2,5.4932000000000002E-3,"14:06:14",-400,21.100999999999999,1.006]
["14:06:20",-200,2.7983999999999998E-2,5.2643999999999998E-3,"14:06:20",-200,21.055,1.0032000000000001]
["14:06:27",0,2.6239999999999999E-2,5.1117999999999997E-3,"14:06:27",0,20.984999999999999,0.99885999999999997]
["14:06:33",200,3.0599000000000001E-2,5.4932000000000002E-3,"14:06:33",200,20.853999999999999,0.99080000000000001]
["14:06:39",400,2.8854999999999999E-2,5.3407000000000003E-3,"14:06:39",400,20.734999999999999,0.98351]
["14:06:45",600,2.6239999999999999E-2,5.1117999999999997E-3,"14:06:45",600,20.628,0.97690999999999995]
["14:06:51",800,2.9727E-2,5.4169999999999999E-3,"14:06:51",800,20.510999999999999,0.96974000000000005]
["14:06:57",1000,2.6239999999999999E-2,5.1117999999999997E-3,"14:06:57",1000,20.425000000000001,0.96443000000000001]
["14:07:04",1200,2.9727E-2,5.4169999999999999E-3,"14:07:04",1200,20.311,0.95740999999999998]
["14:07:10",1400,2.7983999999999998E-2,5.2643999999999998E-3,"14:07:10",1400,20.21,0.95121999999999995]
["14:07:16",1600,2.8854999999999999E-2,5.3407000000000003E-3,"14:07:16",1600,20.106999999999999,0.94493000000000005]
["14:07:22",1800,2.7983999999999998E-2,5.2643999999999998E-3,"14:07:22",1800,19.981999999999999,0.93720999999999999]
["14:07:28",2000,2.8854999999999999E-2,5.3407000000000003E-3,"14:07:28",2000,19.873999999999999,0.93062]
[]
["14:08:39",-600,2.9727E-2,5.4169999999999999E-3,"14:08:39",-600,21.027999999999999,1.0015000000000001]
["14:08:45",-400,2.8854999999999999E-2,5.3407000000000003E-3,"14:08:45",-400,20.992999999999999,0.99936999999999998]
["14:08:51",-200,3.0599000000000001E-2,5.4932000000000002E-3,"14:08:51",-200,20.917000000000002,0.99470999999999998]
["14:08:57",0,2.7983999999999998E-2,5.2643999999999998E-3,"14:08:57",0,20.751999999999999,0.98453999999999997]
["14:09:03",200,2.7983999999999998E-2,5.2643999999999998E-3,"14:09:03",200,20.495000000000001,0.96872999999999998]
["14:09:10",400,2.7983999999999998E-2,5.2643999999999998E-3,"14:09:10",400,20.248000000000001,0.9536]
["14:09:16",600,3.0599000000000001E-2,5.4932000000000002E-3,"14:09:16",600,20.018000000000001,0.93944000000000005]
["14:09:22",800,3.3215000000000001E-2,5.7220999999999999E-3,"14:09:22",800,19.776,0.92457]
["14:09:28",1000,2.9727E-2,5.4169999999999999E-3,"14:09:28",1000,19.510999999999999,0.90827999999999998]
["14:09:34",1200,3.0599000000000001E-2,5.4932000000000002E-3,"14:09:34",1200,19.260999999999999,0.89293]
["14:09:40",1400,2.9727E-2,5.4169999999999999E-3,"14:09:40",1400,19.036999999999999,0.87916000000000005]
["14:09:46",1600,2.9727E-2,5.4169999999999999E-3,"14:09:46",1600,18.797999999999998,0.86448000000000003]
["14:09:52",1800,2.7983999999999998E-2,5.2643999999999998E-3,"14:09:52",1800,18.556000000000001,0.84962000000000004]
["14:09:58",2000,2.9727E-2,5.4169999999999999E-3,"14:09:58",2000,18.3,0.83387999999999995]
[]
["14:11:05",-600,2.8854999999999999E-2,5.3407000000000003E-3,"14:11:05",-600,21.076000000000001,1.0044]
["14:11:11",-400,2.9727E-2,5.4169999999999999E-3,"14:11:11",-400,21.045000000000002,1.0024999999999999]
["14:11:17",-200,2.7112000000000001E-2,5.1881000000000002E-3,"14:11:17",-200,20.978999999999999,0.99848999999999999]
["14:11:23",0,2.7983999999999998E-2,5.2643999999999998E-3,"14:11:23",0,20.885999999999999,0.99278]
["14:11:29",200,2.4496E-2,4.9592000000000004E-3,"14:11:29",200,20.79,0.98685999999999996]
["14:11:35",400,3.1470999999999999E-2,5.5694999999999998E-3,"14:11:35",400,20.68,0.98011999999999999]
["14:11:41",600,3.0599000000000001E-2,5.4932000000000002E-3,"14:11:41",600,20.596,0.97496000000000005]
["14:11:47",800,2.9727E-2,5.4169999999999999E-3,"14:11:47",800,20.486999999999998,0.96825000000000006]
["14:11:53",1000,2.8854999999999999E-2,5.3407000000000003E-3,"14:11:53",1000,20.388000000000002,0.96220000000000006]
["14:11:59",1200,3.0599000000000001E-2,5.4932000000000002E-3,"14:11:59",1200,20.266999999999999,0.95476000000000005]
["14:12:05",1400,3.1470999999999999E-2,5.5694999999999998E-3,"14:12:05",1400,20.175000000000001,0.94908000000000003]
["14:12:12",1600,2.8854999999999999E-2,5.3407000000000003E-3,"14:12:12",1600,20.077999999999999,0.94313000000000002]
["14:12:17",1800,2.7112000000000001E-2,5.1881000000000002E-3,"14:12:17",1800,19.971,0.93657000000000001]
["14:12:23",2000,3.0599000000000001E-2,5.4932000000000002E-3,"14:12:23",2000,19.867000000000001,0.93015999999999999]

{"sheet":"Parameters","index":2,"n_rows":8,"n_cols":7,"rows_kept":8,"cut":false,"hidden":false,"merged":[[5,1,5,3],[1,0,1,1],[2,1,2,3],[3,1,3,3],[4,1,4,2]]}
[]
["Parameters"]
[null,"Atm saturation in % (100% = atm.)",null,null,null,21,"%"]
[null,"Atm saturation in µM",null,null,null,200,"µmol/l Oxygen"]
[null,"Molar gasvolume",null,null,null,22.4,"l"]
[null,"Diffusion coefficient",null,null,null,3.3699999999999999E-5,"cm2s-1"]
[null,"Well diameter",null,null,null,0.68,"mm"]
[null,"Well area",null,null,null,{"$f":"PI()*(F7/20)^2","v":3.6316811075498014E-3},"cm2"]